Back to Multiple platform build/check report for BioC 3.21: simplified long |
|
This page was generated on 2025-10-13 11:39 -0400 (Mon, 13 Oct 2025).
Hostname | OS | Arch (*) | R version | Installed pkgs |
---|---|---|---|---|
nebbiolo1 | Linux (Ubuntu 24.04.3 LTS) | x86_64 | 4.5.1 (2025-06-13) -- "Great Square Root" | 4833 |
merida1 | macOS 12.7.5 Monterey | x86_64 | 4.5.1 RC (2025-06-05 r88288) -- "Great Square Root" | 4614 |
kjohnson1 | macOS 13.6.6 Ventura | arm64 | 4.5.1 Patched (2025-06-14 r88325) -- "Great Square Root" | 4555 |
kunpeng2 | Linux (openEuler 24.03 LTS) | aarch64 | R Under development (unstable) (2025-02-19 r87757) -- "Unsuffered Consequences" | 4586 |
Click on any hostname to see more info about the system (e.g. compilers) (*) as reported by 'uname -p', except on Windows and Mac OS X |
Package 491/2341 | Hostname | OS / Arch | INSTALL | BUILD | CHECK | BUILD BIN | ||||||||
cyanoFilter 1.16.0 (landing page) Oluwafemi Olusoji
| nebbiolo1 | Linux (Ubuntu 24.04.3 LTS) / x86_64 | OK | OK | OK | ![]() | ||||||||
merida1 | macOS 12.7.5 Monterey / x86_64 | OK | OK | OK | OK | ![]() | ||||||||
kjohnson1 | macOS 13.6.6 Ventura / arm64 | OK | OK | OK | OK | ![]() | ||||||||
kunpeng2 | Linux (openEuler 24.03 LTS) / aarch64 | OK | OK | OK | ||||||||||
To the developers/maintainers of the cyanoFilter package: - Allow up to 24 hours (and sometimes 48 hours) for your latest push to git@git.bioconductor.org:packages/cyanoFilter.git to reflect on this report. See Troubleshooting Build Report for more information. - Use the following Renviron settings to reproduce errors and warnings. - If 'R CMD check' started to fail recently on the Linux builder(s) over a missing dependency, add the missing dependency to 'Suggests:' in your DESCRIPTION file. See Renviron.bioc for more information. |
Package: cyanoFilter |
Version: 1.16.0 |
Command: /Library/Frameworks/R.framework/Resources/bin/R CMD check --install=check:cyanoFilter.install-out.txt --library=/Library/Frameworks/R.framework/Resources/library --no-vignettes --timings cyanoFilter_1.16.0.tar.gz |
StartedAt: 2025-10-10 02:19:18 -0400 (Fri, 10 Oct 2025) |
EndedAt: 2025-10-10 02:22:49 -0400 (Fri, 10 Oct 2025) |
EllapsedTime: 210.7 seconds |
RetCode: 0 |
Status: OK |
CheckDir: cyanoFilter.Rcheck |
Warnings: 0 |
############################################################################## ############################################################################## ### ### Running command: ### ### /Library/Frameworks/R.framework/Resources/bin/R CMD check --install=check:cyanoFilter.install-out.txt --library=/Library/Frameworks/R.framework/Resources/library --no-vignettes --timings cyanoFilter_1.16.0.tar.gz ### ############################################################################## ############################################################################## * using log directory ‘/Users/biocbuild/bbs-3.21-bioc/meat/cyanoFilter.Rcheck’ * using R version 4.5.1 RC (2025-06-05 r88288) * using platform: x86_64-apple-darwin20 * R was compiled by Apple clang version 14.0.0 (clang-1400.0.29.202) GNU Fortran (GCC) 14.2.0 * running under: macOS Monterey 12.7.6 * using session charset: UTF-8 * using option ‘--no-vignettes’ * checking for file ‘cyanoFilter/DESCRIPTION’ ... OK * checking extension type ... Package * this is package ‘cyanoFilter’ version ‘1.16.0’ * package encoding: UTF-8 * checking package namespace information ... OK * checking package dependencies ... OK * checking if this is a source package ... OK * checking if there is a namespace ... OK * checking for hidden files and directories ... OK * checking for portable file names ... OK * checking for sufficient/correct file permissions ... OK * checking whether package ‘cyanoFilter’ can be installed ... OK * checking installed package size ... OK * checking package directory ... OK * checking ‘build’ directory ... OK * checking DESCRIPTION meta-information ... OK * checking top-level files ... OK * checking for left-over files ... OK * checking index information ... OK * checking package subdirectories ... OK * checking code files for non-ASCII characters ... OK * checking R files for syntax errors ... OK * checking whether the package can be loaded ... OK * checking whether the package can be loaded with stated dependencies ... OK * checking whether the package can be unloaded cleanly ... OK * checking whether the namespace can be loaded with stated dependencies ... OK * checking whether the namespace can be unloaded cleanly ... OK * checking dependencies in R code ... OK * checking S3 generic/method consistency ... OK * checking replacement functions ... OK * checking foreign function calls ... OK * checking R code for possible problems ... OK * checking Rd files ... OK * checking Rd metadata ... OK * checking Rd cross-references ... OK * checking for missing documentation entries ... OK * checking for code/documentation mismatches ... OK * checking Rd \usage sections ... OK * checking Rd contents ... OK * checking for unstated dependencies in examples ... OK * checking files in ‘vignettes’ ... OK * checking examples ... OK Examples with CPU (user + system) or elapsed time > 5s user system elapsed gateFunc 20.398 1.393 17.961 ggpairsDens 11.346 0.268 11.822 * checking for unstated dependencies in vignettes ... OK * checking package vignettes ... OK * checking running R code from vignettes ... SKIPPED * checking re-building of vignette outputs ... SKIPPED * checking PDF version of manual ... OK * DONE Status: OK
cyanoFilter.Rcheck/00install.out
############################################################################## ############################################################################## ### ### Running command: ### ### /Library/Frameworks/R.framework/Resources/bin/R CMD INSTALL cyanoFilter ### ############################################################################## ############################################################################## * installing to library ‘/Library/Frameworks/R.framework/Versions/4.5-x86_64/Resources/library’ * installing *source* package ‘cyanoFilter’ ... ** this is package ‘cyanoFilter’ version ‘1.16.0’ ** using staged installation ** R ** inst ** byte-compile and prepare package for lazy loading ** help *** installing help indices ** building package indices ** installing vignettes ** testing if installed package can be loaded from temporary location ** testing if installed package can be loaded from final location ** testing if installed package keeps a record of temporary installation path * DONE (cyanoFilter)
cyanoFilter.Rcheck/cyanoFilter-Ex.timings
name | user | system | elapsed | |
MarginEvents | 1.634 | 0.115 | 1.777 | |
PhytoFilter | 1.471 | 0.074 | 1.567 | |
PhytopFilter | 1.506 | 0.098 | 1.629 | |
accTest | 0.873 | 0.055 | 1.073 | |
accuracy | 1.202 | 0.067 | 1.280 | |
cellmargin | 0.714 | 0.044 | 0.771 | |
clusterExtract | 1.998 | 0.076 | 2.097 | |
clusterExtractp | 2.213 | 0.137 | 2.374 | |
debrisNc | 0.758 | 0.107 | 0.881 | |
fullFlowframe-MarginEvents-method | 0.690 | 0.041 | 0.739 | |
fullFlowframe-PhytopFilter-method | 1.380 | 0.063 | 1.481 | |
fullFlowframe | 0.719 | 0.062 | 0.798 | |
gateFunc | 20.398 | 1.393 | 17.961 | |
ggpairsDens | 11.346 | 0.268 | 11.822 | |
ggplotDens | 1.399 | 0.060 | 1.471 | |
ggplotDens2 | 2.382 | 0.076 | 2.481 | |
goodfcs | 0.092 | 0.011 | 0.104 | |
is.DebrisFilter | 0.000 | 0.001 | 0.002 | |
is.MarginEvents | 0.001 | 0.001 | 0.002 | |
is.PhytopFilter | 0.000 | 0.000 | 0.001 | |
is.flowFrame | 0.000 | 0.001 | 0.001 | |
is.flowSet | 0.001 | 0.000 | 0.001 | |
lnTrans | 0.504 | 0.027 | 0.536 | |
newFlowframe | 0.550 | 0.222 | 0.777 | |
nona | 0.255 | 0.011 | 0.268 | |
noneg | 0.417 | 0.020 | 0.443 | |
oneDgate | 0.873 | 0.229 | 1.113 | |
pairsPlot | 2.861 | 0.271 | 3.261 | |
pigmentGate | 0.631 | 0.136 | 0.770 | |
reducedFlowframe-MarginEvents-method | 0.686 | 0.040 | 0.732 | |
reducedFlowframe | 0.693 | 0.038 | 0.739 | |
retain | 0.035 | 0.003 | 0.038 | |
rowNumbers | 0.506 | 0.134 | 0.645 | |
summaries-DebrisFilter-method | 0.671 | 0.037 | 0.715 | |
summaries-MarginEvents-method | 0.690 | 0.041 | 0.747 | |
summaries-PhytopFilter-method | 1.434 | 0.072 | 1.524 | |
summaries | 0.707 | 0.043 | 0.789 | |