| Back to Multiple platform build/check report for BioC 3.22: simplified long |
|
This page was generated on 2025-11-20 12:06 -0500 (Thu, 20 Nov 2025).
| Hostname | OS | Arch (*) | R version | Installed pkgs |
|---|---|---|---|---|
| nebbiolo2 | Linux (Ubuntu 24.04.3 LTS) | x86_64 | 4.5.2 (2025-10-31) -- "[Not] Part in a Rumble" | 4615 |
| merida1 | macOS 12.7.6 Monterey | x86_64 | 4.5.2 Patched (2025-11-05 r88990) -- "[Not] Part in a Rumble" | 4610 |
| kjohnson1 | macOS 13.7.5 Ventura | arm64 | 4.5.2 Patched (2025-11-04 r88984) -- "[Not] Part in a Rumble" | 4598 |
| taishan | Linux (openEuler 24.03 LTS) | aarch64 | 4.5.0 (2025-04-11) -- "How About a Twenty-Six" | 4668 |
| Click on any hostname to see more info about the system (e.g. compilers) (*) as reported by 'uname -p', except on Windows and Mac OS X | ||||
| Package 499/2361 | Hostname | OS / Arch | INSTALL | BUILD | CHECK | BUILD BIN | ||||||||
| cyanoFilter 1.18.0 (landing page) Oluwafemi Olusoji
| nebbiolo2 | Linux (Ubuntu 24.04.3 LTS) / x86_64 | OK | OK | OK | |||||||||
| merida1 | macOS 12.7.6 Monterey / x86_64 | OK | OK | OK | OK | |||||||||
| kjohnson1 | macOS 13.7.5 Ventura / arm64 | OK | OK | OK | OK | |||||||||
| taishan | Linux (openEuler 24.03 LTS) / aarch64 | OK | OK | OK | ||||||||||
|
To the developers/maintainers of the cyanoFilter package: - Allow up to 24 hours (and sometimes 48 hours) for your latest push to git@git.bioconductor.org:packages/cyanoFilter.git to reflect on this report. See Troubleshooting Build Report for more information. - Use the following Renviron settings to reproduce errors and warnings. - If 'R CMD check' started to fail recently on the Linux builder(s) over a missing dependency, add the missing dependency to 'Suggests:' in your DESCRIPTION file. See Renviron.bioc for more information. |
| Package: cyanoFilter |
| Version: 1.18.0 |
| Command: /Library/Frameworks/R.framework/Resources/bin/R CMD check --install=check:cyanoFilter.install-out.txt --library=/Library/Frameworks/R.framework/Resources/library --no-vignettes --timings cyanoFilter_1.18.0.tar.gz |
| StartedAt: 2025-11-18 04:57:02 -0500 (Tue, 18 Nov 2025) |
| EndedAt: 2025-11-18 04:57:51 -0500 (Tue, 18 Nov 2025) |
| EllapsedTime: 49.4 seconds |
| RetCode: 0 |
| Status: OK |
| CheckDir: cyanoFilter.Rcheck |
| Warnings: 0 |
##############################################################################
##############################################################################
###
### Running command:
###
### /Library/Frameworks/R.framework/Resources/bin/R CMD check --install=check:cyanoFilter.install-out.txt --library=/Library/Frameworks/R.framework/Resources/library --no-vignettes --timings cyanoFilter_1.18.0.tar.gz
###
##############################################################################
##############################################################################
* using log directory ‘/Users/biocbuild/bbs-3.22-bioc/meat/cyanoFilter.Rcheck’
* using R version 4.5.2 Patched (2025-11-04 r88984)
* using platform: aarch64-apple-darwin20
* R was compiled by
Apple clang version 16.0.0 (clang-1600.0.26.6)
GNU Fortran (GCC) 14.2.0
* running under: macOS Ventura 13.7.8
* using session charset: UTF-8
* using option ‘--no-vignettes’
* checking for file ‘cyanoFilter/DESCRIPTION’ ... OK
* checking extension type ... Package
* this is package ‘cyanoFilter’ version ‘1.18.0’
* package encoding: UTF-8
* checking package namespace information ... OK
* checking package dependencies ... OK
* checking if this is a source package ... OK
* checking if there is a namespace ... OK
* checking for hidden files and directories ... OK
* checking for portable file names ... OK
* checking for sufficient/correct file permissions ... OK
* checking whether package ‘cyanoFilter’ can be installed ... OK
* checking installed package size ... OK
* checking package directory ... OK
* checking ‘build’ directory ... OK
* checking DESCRIPTION meta-information ... OK
* checking top-level files ... OK
* checking for left-over files ... OK
* checking index information ... OK
* checking package subdirectories ... OK
* checking code files for non-ASCII characters ... OK
* checking R files for syntax errors ... OK
* checking whether the package can be loaded ... OK
* checking whether the package can be loaded with stated dependencies ... OK
* checking whether the package can be unloaded cleanly ... OK
* checking whether the namespace can be loaded with stated dependencies ... OK
* checking whether the namespace can be unloaded cleanly ... OK
* checking dependencies in R code ... OK
* checking S3 generic/method consistency ... OK
* checking replacement functions ... OK
* checking foreign function calls ... OK
* checking R code for possible problems ... OK
* checking Rd files ... OK
* checking Rd metadata ... OK
* checking Rd cross-references ... OK
* checking for missing documentation entries ... OK
* checking for code/documentation mismatches ... OK
* checking Rd \usage sections ... OK
* checking Rd contents ... OK
* checking for unstated dependencies in examples ... OK
* checking files in ‘vignettes’ ... OK
* checking examples ... OK
* checking for unstated dependencies in vignettes ... OK
* checking package vignettes ... OK
* checking running R code from vignettes ... SKIPPED
* checking re-building of vignette outputs ... SKIPPED
* checking PDF version of manual ... OK
* DONE
Status: OK
cyanoFilter.Rcheck/00install.out
############################################################################## ############################################################################## ### ### Running command: ### ### /Library/Frameworks/R.framework/Resources/bin/R CMD INSTALL cyanoFilter ### ############################################################################## ############################################################################## * installing to library ‘/Library/Frameworks/R.framework/Versions/4.5-arm64/Resources/library’ * installing *source* package ‘cyanoFilter’ ... ** this is package ‘cyanoFilter’ version ‘1.18.0’ ** using staged installation ** R ** inst ** byte-compile and prepare package for lazy loading ** help *** installing help indices ** building package indices ** installing vignettes ** testing if installed package can be loaded from temporary location ** testing if installed package can be loaded from final location ** testing if installed package keeps a record of temporary installation path * DONE (cyanoFilter)
cyanoFilter.Rcheck/cyanoFilter-Ex.timings
| name | user | system | elapsed | |
| MarginEvents | 0.308 | 0.026 | 0.390 | |
| PhytoFilter | 0.223 | 0.012 | 0.271 | |
| PhytopFilter | 0.244 | 0.015 | 0.273 | |
| accTest | 0.147 | 0.011 | 0.167 | |
| accuracy | 0.130 | 0.008 | 0.140 | |
| cellmargin | 0.227 | 0.008 | 0.284 | |
| clusterExtract | 0.277 | 0.019 | 0.323 | |
| clusterExtractp | 0.279 | 0.015 | 0.321 | |
| debrisNc | 0.226 | 0.021 | 0.333 | |
| fullFlowframe-MarginEvents-method | 0.110 | 0.008 | 0.126 | |
| fullFlowframe-PhytopFilter-method | 0.298 | 0.016 | 0.336 | |
| fullFlowframe | 0.107 | 0.007 | 0.132 | |
| gateFunc | 4.400 | 0.154 | 4.065 | |
| ggpairsDens | 1.818 | 0.044 | 2.015 | |
| ggplotDens | 0.328 | 0.013 | 0.384 | |
| ggplotDens2 | 0.551 | 0.021 | 0.635 | |
| goodfcs | 0.021 | 0.003 | 0.028 | |
| is.DebrisFilter | 0 | 0 | 0 | |
| is.MarginEvents | 0 | 0 | 0 | |
| is.PhytopFilter | 0 | 0 | 0 | |
| is.flowFrame | 0.000 | 0.000 | 0.001 | |
| is.flowSet | 0 | 0 | 0 | |
| lnTrans | 0.076 | 0.005 | 0.084 | |
| newFlowframe | 0.075 | 0.028 | 0.121 | |
| nona | 0.037 | 0.003 | 0.040 | |
| noneg | 0.057 | 0.003 | 0.062 | |
| oneDgate | 0.077 | 0.035 | 0.119 | |
| pairsPlot | 0.773 | 0.063 | 0.935 | |
| pigmentGate | 0.102 | 0.019 | 0.132 | |
| reducedFlowframe-MarginEvents-method | 0.119 | 0.009 | 0.130 | |
| reducedFlowframe | 0.246 | 0.010 | 0.272 | |
| retain | 0.007 | 0.001 | 0.008 | |
| rowNumbers | 0.079 | 0.023 | 0.118 | |
| summaries-DebrisFilter-method | 0.106 | 0.007 | 0.118 | |
| summaries-MarginEvents-method | 0.111 | 0.006 | 0.129 | |
| summaries-PhytopFilter-method | 0.217 | 0.012 | 0.267 | |
| summaries | 0.113 | 0.007 | 0.130 | |