| Back to Multiple platform build/check report for BioC 3.22: simplified long |
|
This page was generated on 2025-11-12 11:58 -0500 (Wed, 12 Nov 2025).
| Hostname | OS | Arch (*) | R version | Installed pkgs |
|---|---|---|---|---|
| nebbiolo2 | Linux (Ubuntu 24.04.3 LTS) | x86_64 | 4.5.1 Patched (2025-08-23 r88802) -- "Great Square Root" | 4902 |
| taishan | Linux (openEuler 24.03 LTS) | aarch64 | 4.5.0 (2025-04-11) -- "How About a Twenty-Six" | 4668 |
| Click on any hostname to see more info about the system (e.g. compilers) (*) as reported by 'uname -p', except on Windows and Mac OS X | ||||
| Package 499/2361 | Hostname | OS / Arch | INSTALL | BUILD | CHECK | BUILD BIN | ||||||||
| cyanoFilter 1.18.0 (landing page) Oluwafemi Olusoji
| nebbiolo2 | Linux (Ubuntu 24.04.3 LTS) / x86_64 | OK | OK | OK | |||||||||
| taishan | Linux (openEuler 24.03 LTS) / aarch64 | OK | OK | OK | ||||||||||
|
To the developers/maintainers of the cyanoFilter package: - Allow up to 24 hours (and sometimes 48 hours) for your latest push to git@git.bioconductor.org:packages/cyanoFilter.git to reflect on this report. See Troubleshooting Build Report for more information. - Use the following Renviron settings to reproduce errors and warnings. - If 'R CMD check' started to fail recently on the Linux builder(s) over a missing dependency, add the missing dependency to 'Suggests:' in your DESCRIPTION file. See Renviron.bioc for more information. - See Martin Grigorov's blog post for how to debug Linux ARM64 related issues on a x86_64 host. |
| Package: cyanoFilter |
| Version: 1.18.0 |
| Command: /home/biocbuild/R/R/bin/R CMD check --install=check:cyanoFilter.install-out.txt --library=/home/biocbuild/R/R/site-library --no-vignettes --timings cyanoFilter_1.18.0.tar.gz |
| StartedAt: 2025-11-11 08:42:47 -0000 (Tue, 11 Nov 2025) |
| EndedAt: 2025-11-11 08:44:49 -0000 (Tue, 11 Nov 2025) |
| EllapsedTime: 122.1 seconds |
| RetCode: 0 |
| Status: OK |
| CheckDir: cyanoFilter.Rcheck |
| Warnings: 0 |
##############################################################################
##############################################################################
###
### Running command:
###
### /home/biocbuild/R/R/bin/R CMD check --install=check:cyanoFilter.install-out.txt --library=/home/biocbuild/R/R/site-library --no-vignettes --timings cyanoFilter_1.18.0.tar.gz
###
##############################################################################
##############################################################################
* using log directory ‘/home/biocbuild/bbs-3.22-bioc/meat/cyanoFilter.Rcheck’
* using R version 4.5.0 (2025-04-11)
* using platform: aarch64-unknown-linux-gnu
* R was compiled by
aarch64-unknown-linux-gnu-gcc (GCC) 14.2.0
GNU Fortran (GCC) 14.2.0
* running under: openEuler 24.03 (LTS)
* using session charset: UTF-8
* using option ‘--no-vignettes’
* checking for file ‘cyanoFilter/DESCRIPTION’ ... OK
* checking extension type ... Package
* this is package ‘cyanoFilter’ version ‘1.18.0’
* package encoding: UTF-8
* checking package namespace information ... OK
* checking package dependencies ... OK
* checking if this is a source package ... OK
* checking if there is a namespace ... OK
* checking for hidden files and directories ... OK
* checking for portable file names ... OK
* checking for sufficient/correct file permissions ... OK
* checking whether package ‘cyanoFilter’ can be installed ... OK
* checking installed package size ... OK
* checking package directory ... OK
* checking ‘build’ directory ... OK
* checking DESCRIPTION meta-information ... OK
* checking top-level files ... OK
* checking for left-over files ... OK
* checking index information ... OK
* checking package subdirectories ... OK
* checking code files for non-ASCII characters ... OK
* checking R files for syntax errors ... OK
* checking whether the package can be loaded ... OK
* checking whether the package can be loaded with stated dependencies ... OK
* checking whether the package can be unloaded cleanly ... OK
* checking whether the namespace can be loaded with stated dependencies ... OK
* checking whether the namespace can be unloaded cleanly ... OK
* checking loading without being on the library search path ... OK
* checking dependencies in R code ... OK
* checking S3 generic/method consistency ... OK
* checking replacement functions ... OK
* checking foreign function calls ... OK
* checking R code for possible problems ... OK
* checking Rd files ... OK
* checking Rd metadata ... OK
* checking Rd cross-references ... OK
* checking for missing documentation entries ... OK
* checking for code/documentation mismatches ... OK
* checking Rd \usage sections ... OK
* checking Rd contents ... OK
* checking for unstated dependencies in examples ... OK
* checking files in ‘vignettes’ ... OK
* checking examples ... OK
Examples with CPU (user + system) or elapsed time > 5s
user system elapsed
gateFunc 12.409 0.550 10.497
ggpairsDens 7.091 0.227 7.338
* checking for unstated dependencies in vignettes ... OK
* checking package vignettes ... OK
* checking running R code from vignettes ... SKIPPED
* checking re-building of vignette outputs ... SKIPPED
* checking PDF version of manual ... OK
* DONE
Status: OK
cyanoFilter.Rcheck/00install.out
############################################################################## ############################################################################## ### ### Running command: ### ### /home/biocbuild/R/R/bin/R CMD INSTALL cyanoFilter ### ############################################################################## ############################################################################## * installing to library ‘/home/biocbuild/R/R-4.5.0/site-library’ * installing *source* package ‘cyanoFilter’ ... ** this is package ‘cyanoFilter’ version ‘1.18.0’ ** using staged installation ** R ** inst ** byte-compile and prepare package for lazy loading ** help *** installing help indices ** building package indices ** installing vignettes ** testing if installed package can be loaded from temporary location ** testing if installed package can be loaded from final location ** testing if installed package keeps a record of temporary installation path * DONE (cyanoFilter)
cyanoFilter.Rcheck/cyanoFilter-Ex.timings
| name | user | system | elapsed | |
| MarginEvents | 0.982 | 0.004 | 0.994 | |
| PhytoFilter | 0.977 | 0.036 | 1.016 | |
| PhytopFilter | 0.768 | 0.059 | 0.830 | |
| accTest | 0.493 | 0.012 | 0.506 | |
| accuracy | 0.544 | 0.020 | 0.566 | |
| cellmargin | 0.371 | 0.012 | 0.384 | |
| clusterExtract | 1.053 | 0.008 | 1.064 | |
| clusterExtractp | 1.234 | 0.028 | 1.267 | |
| debrisNc | 0.396 | 0.012 | 0.409 | |
| fullFlowframe-MarginEvents-method | 0.373 | 0.036 | 0.411 | |
| fullFlowframe-PhytopFilter-method | 0.768 | 0.004 | 0.774 | |
| fullFlowframe | 0.380 | 0.004 | 0.385 | |
| gateFunc | 12.409 | 0.550 | 10.497 | |
| ggpairsDens | 7.091 | 0.227 | 7.338 | |
| ggplotDens | 0.929 | 0.008 | 0.939 | |
| ggplotDens2 | 1.675 | 0.032 | 1.712 | |
| goodfcs | 0.061 | 0.000 | 0.062 | |
| is.DebrisFilter | 0.001 | 0.000 | 0.000 | |
| is.MarginEvents | 0 | 0 | 0 | |
| is.PhytopFilter | 0.000 | 0.000 | 0.001 | |
| is.flowFrame | 0 | 0 | 0 | |
| is.flowSet | 0 | 0 | 0 | |
| lnTrans | 0.260 | 0.004 | 0.264 | |
| newFlowframe | 0.550 | 0.028 | 0.578 | |
| nona | 0.124 | 0.004 | 0.129 | |
| noneg | 0.220 | 0.019 | 0.239 | |
| oneDgate | 0.267 | 0.011 | 0.279 | |
| pairsPlot | 2.062 | 0.028 | 2.096 | |
| pigmentGate | 0.347 | 0.004 | 0.352 | |
| reducedFlowframe-MarginEvents-method | 0.410 | 0.008 | 0.419 | |
| reducedFlowframe | 0.391 | 0.004 | 0.396 | |
| retain | 0.023 | 0.000 | 0.023 | |
| rowNumbers | 0.286 | 0.004 | 0.291 | |
| summaries-DebrisFilter-method | 0.361 | 0.008 | 0.370 | |
| summaries-MarginEvents-method | 0.374 | 0.004 | 0.380 | |
| summaries-PhytopFilter-method | 0.746 | 0.012 | 0.759 | |
| summaries | 0.373 | 0.007 | 0.382 | |