Back to Multiple platform build/check report for BioC 3.21:   simplified   long
ABCDEFGHIJKLMNO[P]QRSTUVWXYZ

This page was generated on 2025-10-13 11:41 -0400 (Mon, 13 Oct 2025).

HostnameOSArch (*)R versionInstalled pkgs
nebbiolo1Linux (Ubuntu 24.04.3 LTS)x86_644.5.1 (2025-06-13) -- "Great Square Root" 4833
merida1macOS 12.7.5 Montereyx86_644.5.1 RC (2025-06-05 r88288) -- "Great Square Root" 4614
kjohnson1macOS 13.6.6 Venturaarm644.5.1 Patched (2025-06-14 r88325) -- "Great Square Root" 4555
kunpeng2Linux (openEuler 24.03 LTS)aarch64R Under development (unstable) (2025-02-19 r87757) -- "Unsuffered Consequences" 4586
Click on any hostname to see more info about the system (e.g. compilers)      (*) as reported by 'uname -p', except on Windows and Mac OS X

Package 1635/2341HostnameOS / ArchINSTALLBUILDCHECKBUILD BIN
PRONE 1.2.2  (landing page)
Lis Arend
Snapshot Date: 2025-10-09 13:40 -0400 (Thu, 09 Oct 2025)
git_url: https://git.bioconductor.org/packages/PRONE
git_branch: RELEASE_3_21
git_last_commit: 4daae2c
git_last_commit_date: 2025-09-25 06:05:12 -0400 (Thu, 25 Sep 2025)
nebbiolo1Linux (Ubuntu 24.04.3 LTS) / x86_64  OK    OK    OK  UNNEEDED, same version is already published
merida1macOS 12.7.5 Monterey / x86_64  OK    OK    OK    OK  UNNEEDED, same version is already published
kjohnson1macOS 13.6.6 Ventura / arm64  OK    OK    OK    OK  UNNEEDED, same version is already published
kunpeng2Linux (openEuler 24.03 LTS) / aarch64  OK    ERROR  skipped


CHECK results for PRONE on kjohnson1

To the developers/maintainers of the PRONE package:
- Allow up to 24 hours (and sometimes 48 hours) for your latest push to git@git.bioconductor.org:packages/PRONE.git to reflect on this report. See Troubleshooting Build Report for more information.
- Use the following Renviron settings to reproduce errors and warnings.
- If 'R CMD check' started to fail recently on the Linux builder(s) over a missing dependency, add the missing dependency to 'Suggests:' in your DESCRIPTION file. See Renviron.bioc for more information.

raw results


Summary

Package: PRONE
Version: 1.2.2
Command: /Library/Frameworks/R.framework/Resources/bin/R CMD check --install=check:PRONE.install-out.txt --library=/Library/Frameworks/R.framework/Resources/library --no-vignettes --timings PRONE_1.2.2.tar.gz
StartedAt: 2025-10-11 09:32:56 -0400 (Sat, 11 Oct 2025)
EndedAt: 2025-10-11 09:39:32 -0400 (Sat, 11 Oct 2025)
EllapsedTime: 396.3 seconds
RetCode: 0
Status:   OK  
CheckDir: PRONE.Rcheck
Warnings: 0

Command output

##############################################################################
##############################################################################
###
### Running command:
###
###   /Library/Frameworks/R.framework/Resources/bin/R CMD check --install=check:PRONE.install-out.txt --library=/Library/Frameworks/R.framework/Resources/library --no-vignettes --timings PRONE_1.2.2.tar.gz
###
##############################################################################
##############################################################################


* using log directory ‘/Users/biocbuild/bbs-3.21-bioc/meat/PRONE.Rcheck’
* using R version 4.5.1 Patched (2025-06-14 r88325)
* using platform: aarch64-apple-darwin20
* R was compiled by
    Apple clang version 16.0.0 (clang-1600.0.26.6)
    GNU Fortran (GCC) 14.2.0
* running under: macOS Ventura 13.7.5
* using session charset: UTF-8
* using option ‘--no-vignettes’
* checking for file ‘PRONE/DESCRIPTION’ ... OK
* checking extension type ... Package
* this is package ‘PRONE’ version ‘1.2.2’
* package encoding: UTF-8
* checking package namespace information ... OK
* checking package dependencies ... INFO
Imports includes 34 non-default packages.
Importing from so many packages makes the package vulnerable to any of
them becoming unavailable.  Move as many as possible to Suggests and
use conditionally.
* checking if this is a source package ... OK
* checking if there is a namespace ... OK
* checking for hidden files and directories ... OK
* checking for portable file names ... OK
* checking for sufficient/correct file permissions ... OK
* checking whether package ‘PRONE’ can be installed ... OK
* checking installed package size ... OK
* checking package directory ... OK
* checking ‘build’ directory ... OK
* checking DESCRIPTION meta-information ... OK
* checking top-level files ... OK
* checking for left-over files ... OK
* checking index information ... OK
* checking package subdirectories ... OK
* checking code files for non-ASCII characters ... OK
* checking R files for syntax errors ... OK
* checking whether the package can be loaded ... OK
* checking whether the package can be loaded with stated dependencies ... OK
* checking whether the package can be unloaded cleanly ... OK
* checking whether the namespace can be loaded with stated dependencies ... OK
* checking whether the namespace can be unloaded cleanly ... OK
* checking dependencies in R code ... NOTE
Unexported objects imported by ':::' calls:
  ‘NormalyzerDE:::calculateAvgMadMem’
  ‘NormalyzerDE:::calculateAvgReplicateVariation’
  ‘NormalyzerDE:::calculatePercentageAvgDiffInMat’
  ‘NormalyzerDE:::calculateReplicateCV’
  ‘NormalyzerDE:::calculateSummarizedCorrelationVector’
  See the note in ?`:::` about the use of this operator.
* checking S3 generic/method consistency ... OK
* checking replacement functions ... OK
* checking foreign function calls ... OK
* checking R code for possible problems ... NOTE
plot_upset_DE: no visible global function definition for
  ‘packageVersion’
Undefined global functions or variables:
  packageVersion
Consider adding
  importFrom("utils", "packageVersion")
to your NAMESPACE file.
* checking Rd files ... OK
* checking Rd metadata ... OK
* checking Rd cross-references ... OK
* checking for missing documentation entries ... OK
* checking for code/documentation mismatches ... OK
* checking Rd \usage sections ... OK
* checking Rd contents ... OK
* checking for unstated dependencies in examples ... OK
* checking contents of ‘data’ directory ... OK
* checking data for non-ASCII characters ... OK
* checking data for ASCII and uncompressed saves ... OK
* checking files in ‘vignettes’ ... OK
* checking examples ... OK
Examples with CPU (user + system) or elapsed time > 5s
               user system elapsed
plot_boxplots 5.687  0.068     5.9
* checking for unstated dependencies in vignettes ... OK
* checking package vignettes ... OK
* checking running R code from vignettes ... SKIPPED
* checking re-building of vignette outputs ... SKIPPED
* checking PDF version of manual ... OK
* DONE

Status: 2 NOTEs
See
  ‘/Users/biocbuild/bbs-3.21-bioc/meat/PRONE.Rcheck/00check.log’
for details.


Installation output

PRONE.Rcheck/00install.out

##############################################################################
##############################################################################
###
### Running command:
###
###   /Library/Frameworks/R.framework/Resources/bin/R CMD INSTALL PRONE
###
##############################################################################
##############################################################################


* installing to library ‘/Library/Frameworks/R.framework/Versions/4.5-arm64/Resources/library’
* installing *source* package ‘PRONE’ ...
** this is package ‘PRONE’ version ‘1.2.2’
** using staged installation
** R
** data
** inst
** byte-compile and prepare package for lazy loading
** help
*** installing help indices
*** copying figures
** building package indices
** installing vignettes
** testing if installed package can be loaded from temporary location
** testing if installed package can be loaded from final location
** testing if installed package keeps a record of temporary installation path
* DONE (PRONE)

Tests output


Example timings

PRONE.Rcheck/PRONE-Ex.timings

nameusersystemelapsed
apply_thresholds0.0430.0070.050
detect_outliers_POMA1.2700.1161.424
eigenMSNorm0.6120.0240.648
export_data0.0390.0050.046
extract_consensus_DE_candidates0.1010.0110.113
filter_out_NA_proteins_by_threshold0.2300.0140.244
filter_out_complete_NA_proteins0.0980.0110.109
filter_out_proteins_by_ID0.1600.0060.167
filter_out_proteins_by_value0.1620.0060.169
get_NA_overview0.0500.0050.055
get_normalization_methods0.0000.0000.001
get_overview_DE0.0510.0050.058
get_proteins_by_value0.1520.0060.157
get_spiked_stats_DE0.1170.0110.128
globalIntNorm0.1530.0060.159
globalMeanNorm0.1500.0070.158
globalMedianNorm0.1510.0110.162
impute_se0.8850.0500.976
irsNorm0.0710.0070.083
limmaNorm0.0850.0090.098
load_data0.0690.0050.076
load_spike_data0.0550.0040.059
loessCycNorm0.1540.0180.192
loessFNorm0.1100.0070.118
meanNorm0.0560.0070.063
medianAbsDevNorm0.1280.0210.152
medianNorm0.0830.0100.095
normalize_se3.8000.0853.917
normalize_se_combination4.6410.0844.737
normalize_se_single3.4280.0563.499
normicsNorm3.3070.0513.368
plot_NA_density0.4880.0170.524
plot_NA_frequency0.2490.0100.262
plot_NA_heatmap1.5740.0751.664
plot_PCA1.5020.0201.539
plot_ROC_AUC_spiked1.3570.0311.425
plot_TP_FP_spiked_bar0.3760.0160.393
plot_TP_FP_spiked_box0.4700.0150.498
plot_TP_FP_spiked_scatter0.4760.0130.491
plot_boxplots5.6870.0685.900
plot_condition_overview0.2980.0110.323
plot_densities2.9950.0543.120
plot_fold_changes_spiked0.6840.0240.723
plot_heatmap4.1150.0344.169
plot_heatmap_DE1.3760.0291.409
plot_histogram_spiked0.4490.0090.459
plot_identified_spiked_proteins0.5340.0140.551
plot_intersection_enrichment0.8990.0411.712
plot_intragroup_PCV0.6640.0110.694
plot_intragroup_PEV0.4730.0080.483
plot_intragroup_PMAD0.4990.0090.513
plot_intragroup_correlation0.4980.0140.514
plot_jaccard_heatmap0.3340.0080.343
plot_logFC_thresholds_spiked0.7840.0190.806
plot_markers_boxplots0.8850.0110.898
plot_nr_prot_samples0.3030.0100.314
plot_overview_DE_bar0.4650.0080.474
plot_overview_DE_tile0.290.010.30
plot_profiles_spiked0.8520.0130.864
plot_pvalues_spiked0.6310.0190.651
plot_stats_spiked_heatmap0.4600.0150.476
plot_tot_int_samples0.3080.0100.319
plot_upset0.9310.0220.960
plot_upset_DE0.0400.0060.047
plot_volcano_DE4.5370.0434.626
quantileNorm0.0580.0070.067
readPRONE_example0.0010.0010.002
remove_POMA_outliers0.6990.0090.710
remove_assays_from_SE0.0630.0060.070
remove_reference_samples0.0660.0060.072
remove_samples_manually0.0520.0050.058
rlrMACycNorm0.6160.0110.629
rlrMANorm0.1510.0070.158
rlrNorm0.0990.0060.105
robnormNorm0.0870.0060.093
run_DE2.6460.0352.731
specify_comparisons0.0420.0080.051
subset_SE_by_norm0.0970.0080.106
tmmNorm0.1600.0140.185
vsnNorm0.0810.0070.089