| Back to Build/check report for BioC 3.22: simplified long |
|
This page was generated on 2025-11-13 11:55 -0500 (Thu, 13 Nov 2025).
| Hostname | OS | Arch (*) | R version | Installed pkgs |
|---|---|---|---|---|
| taishan | Linux (openEuler 24.03 LTS) | aarch64 | 4.5.0 (2025-04-11) -- "How About a Twenty-Six" | 4668 |
| Click on any hostname to see more info about the system (e.g. compilers) (*) as reported by 'uname -p', except on Windows and Mac OS X | ||||
| Package 1653/2361 | Hostname | OS / Arch | INSTALL | BUILD | CHECK | BUILD BIN | ||||||||
| PRONE 1.4.0 (landing page) Lis Arend
| taishan | Linux (openEuler 24.03 LTS) / aarch64 | OK | OK | OK | |||||||||
|
To the developers/maintainers of the PRONE package: - Allow up to 24 hours (and sometimes 48 hours) for your latest push to git@git.bioconductor.org:packages/PRONE.git to reflect on this report. See Troubleshooting Build Report for more information. - Use the following Renviron settings to reproduce errors and warnings. - If 'R CMD check' started to fail recently on the Linux builder(s) over a missing dependency, add the missing dependency to 'Suggests:' in your DESCRIPTION file. See Renviron.bioc for more information. - See Martin Grigorov's blog post for how to debug Linux ARM64 related issues on a x86_64 host. |
| Package: PRONE |
| Version: 1.4.0 |
| Command: /home/biocbuild/R/R/bin/R CMD check --install=check:PRONE.install-out.txt --library=/home/biocbuild/R/R/site-library --no-vignettes --timings PRONE_1.4.0.tar.gz |
| StartedAt: 2025-11-11 13:23:14 -0000 (Tue, 11 Nov 2025) |
| EndedAt: 2025-11-11 13:31:16 -0000 (Tue, 11 Nov 2025) |
| EllapsedTime: 481.8 seconds |
| RetCode: 0 |
| Status: OK |
| CheckDir: PRONE.Rcheck |
| Warnings: 0 |
##############################################################################
##############################################################################
###
### Running command:
###
### /home/biocbuild/R/R/bin/R CMD check --install=check:PRONE.install-out.txt --library=/home/biocbuild/R/R/site-library --no-vignettes --timings PRONE_1.4.0.tar.gz
###
##############################################################################
##############################################################################
* using log directory ‘/home/biocbuild/bbs-3.22-bioc/meat/PRONE.Rcheck’
* using R version 4.5.0 (2025-04-11)
* using platform: aarch64-unknown-linux-gnu
* R was compiled by
aarch64-unknown-linux-gnu-gcc (GCC) 14.2.0
GNU Fortran (GCC) 14.2.0
* running under: openEuler 24.03 (LTS)
* using session charset: UTF-8
* using option ‘--no-vignettes’
* checking for file ‘PRONE/DESCRIPTION’ ... OK
* checking extension type ... Package
* this is package ‘PRONE’ version ‘1.4.0’
* package encoding: UTF-8
* checking package namespace information ... OK
* checking package dependencies ... INFO
Imports includes 34 non-default packages.
Importing from so many packages makes the package vulnerable to any of
them becoming unavailable. Move as many as possible to Suggests and
use conditionally.
* checking if this is a source package ... OK
* checking if there is a namespace ... OK
* checking for hidden files and directories ... OK
* checking for portable file names ... OK
* checking for sufficient/correct file permissions ... OK
* checking whether package ‘PRONE’ can be installed ... OK
* checking installed package size ... OK
* checking package directory ... OK
* checking ‘build’ directory ... OK
* checking DESCRIPTION meta-information ... OK
* checking top-level files ... OK
* checking for left-over files ... OK
* checking index information ... OK
* checking package subdirectories ... OK
* checking code files for non-ASCII characters ... OK
* checking R files for syntax errors ... OK
* checking whether the package can be loaded ... OK
* checking whether the package can be loaded with stated dependencies ... OK
* checking whether the package can be unloaded cleanly ... OK
* checking whether the namespace can be loaded with stated dependencies ... OK
* checking whether the namespace can be unloaded cleanly ... OK
* checking loading without being on the library search path ... OK
* checking dependencies in R code ... NOTE
Unexported objects imported by ':::' calls:
‘NormalyzerDE:::calculateAvgMadMem’
‘NormalyzerDE:::calculateAvgReplicateVariation’
‘NormalyzerDE:::calculatePercentageAvgDiffInMat’
‘NormalyzerDE:::calculateReplicateCV’
‘NormalyzerDE:::calculateSummarizedCorrelationVector’
See the note in ?`:::` about the use of this operator.
* checking S3 generic/method consistency ... OK
* checking replacement functions ... OK
* checking foreign function calls ... OK
* checking R code for possible problems ... NOTE
plot_upset_DE: no visible global function definition for
‘packageVersion’
Undefined global functions or variables:
packageVersion
Consider adding
importFrom("utils", "packageVersion")
to your NAMESPACE file.
* checking Rd files ... OK
* checking Rd metadata ... OK
* checking Rd cross-references ... OK
* checking for missing documentation entries ... OK
* checking for code/documentation mismatches ... OK
* checking Rd \usage sections ... OK
* checking Rd contents ... OK
* checking for unstated dependencies in examples ... OK
* checking contents of ‘data’ directory ... OK
* checking data for non-ASCII characters ... OK
* checking data for ASCII and uncompressed saves ... OK
* checking files in ‘vignettes’ ... OK
* checking examples ... OK
Examples with CPU (user + system) or elapsed time > 5s
user system elapsed
plot_boxplots 7.654 0.068 9.022
plot_volcano_DE 6.151 0.323 6.877
normalize_se_combination 6.026 0.060 6.125
normalize_se 5.673 0.080 6.253
plot_heatmap 5.740 0.012 5.927
normalize_se_single 5.355 0.015 5.741
normicsNorm 5.188 0.056 5.707
* checking for unstated dependencies in vignettes ... OK
* checking package vignettes ... OK
* checking running R code from vignettes ... SKIPPED
* checking re-building of vignette outputs ... SKIPPED
* checking PDF version of manual ... OK
* DONE
Status: 2 NOTEs
See
‘/home/biocbuild/bbs-3.22-bioc/meat/PRONE.Rcheck/00check.log’
for details.
PRONE.Rcheck/00install.out
############################################################################## ############################################################################## ### ### Running command: ### ### /home/biocbuild/R/R/bin/R CMD INSTALL PRONE ### ############################################################################## ############################################################################## * installing to library ‘/home/biocbuild/R/R-4.5.0/site-library’ * installing *source* package ‘PRONE’ ... ** this is package ‘PRONE’ version ‘1.4.0’ ** using staged installation ** R ** data ** inst ** byte-compile and prepare package for lazy loading ** help *** installing help indices *** copying figures ** building package indices ** installing vignettes ** testing if installed package can be loaded from temporary location ** testing if installed package can be loaded from final location ** testing if installed package keeps a record of temporary installation path * DONE (PRONE)
PRONE.Rcheck/PRONE-Ex.timings
| name | user | system | elapsed | |
| apply_thresholds | 0.033 | 0.000 | 0.033 | |
| detect_outliers_POMA | 2.138 | 0.084 | 2.760 | |
| eigenMSNorm | 0.870 | 0.063 | 0.955 | |
| export_data | 0.023 | 0.000 | 0.023 | |
| extract_consensus_DE_candidates | 0.098 | 0.000 | 0.122 | |
| filter_out_NA_proteins_by_threshold | 0.269 | 0.001 | 0.270 | |
| filter_out_complete_NA_proteins | 0.055 | 0.000 | 0.055 | |
| filter_out_proteins_by_ID | 0.204 | 0.000 | 0.204 | |
| filter_out_proteins_by_value | 0.205 | 0.000 | 0.206 | |
| get_NA_overview | 0.035 | 0.000 | 0.035 | |
| get_normalization_methods | 0.001 | 0.000 | 0.001 | |
| get_overview_DE | 0.043 | 0.012 | 0.055 | |
| get_proteins_by_value | 0.214 | 0.019 | 0.333 | |
| get_spiked_stats_DE | 0.080 | 0.004 | 0.083 | |
| globalIntNorm | 0.189 | 0.000 | 0.190 | |
| globalMeanNorm | 0.185 | 0.000 | 0.186 | |
| globalMedianNorm | 0.195 | 0.000 | 0.255 | |
| impute_se | 1.031 | 0.008 | 1.053 | |
| irsNorm | 0.066 | 0.001 | 0.066 | |
| limmaNorm | 0.086 | 0.000 | 0.087 | |
| load_data | 0.067 | 0.004 | 0.108 | |
| load_spike_data | 0.054 | 0.000 | 0.106 | |
| loessCycNorm | 0.174 | 0.004 | 0.274 | |
| loessFNorm | 0.126 | 0.000 | 0.126 | |
| meanNorm | 0.046 | 0.000 | 0.046 | |
| medianAbsDevNorm | 0.125 | 0.000 | 0.125 | |
| medianNorm | 0.067 | 0.000 | 0.067 | |
| normalize_se | 5.673 | 0.080 | 6.253 | |
| normalize_se_combination | 6.026 | 0.060 | 6.125 | |
| normalize_se_single | 5.355 | 0.015 | 5.741 | |
| normicsNorm | 5.188 | 0.056 | 5.707 | |
| plot_NA_density | 0.589 | 0.008 | 0.690 | |
| plot_NA_frequency | 0.294 | 0.004 | 0.298 | |
| plot_NA_heatmap | 1.883 | 0.004 | 2.046 | |
| plot_PCA | 1.932 | 0.004 | 2.460 | |
| plot_ROC_AUC_spiked | 1.684 | 0.004 | 2.291 | |
| plot_TP_FP_spiked_bar | 0.438 | 0.016 | 0.455 | |
| plot_TP_FP_spiked_box | 0.591 | 0.020 | 0.612 | |
| plot_TP_FP_spiked_scatter | 0.571 | 0.024 | 0.596 | |
| plot_boxplots | 7.654 | 0.068 | 9.022 | |
| plot_condition_overview | 0.371 | 0.000 | 0.422 | |
| plot_densities | 3.968 | 0.051 | 4.256 | |
| plot_fold_changes_spiked | 0.779 | 0.004 | 0.803 | |
| plot_heatmap | 5.740 | 0.012 | 5.927 | |
| plot_heatmap_DE | 1.719 | 0.008 | 1.745 | |
| plot_histogram_spiked | 0.556 | 0.000 | 0.557 | |
| plot_identified_spiked_proteins | 0.629 | 0.008 | 0.639 | |
| plot_intersection_enrichment | 1.133 | 0.004 | 3.241 | |
| plot_intragroup_PCV | 0.852 | 0.000 | 0.853 | |
| plot_intragroup_PEV | 0.614 | 0.000 | 0.628 | |
| plot_intragroup_PMAD | 0.624 | 0.000 | 0.646 | |
| plot_intragroup_correlation | 0.627 | 0.000 | 0.633 | |
| plot_jaccard_heatmap | 0.418 | 0.000 | 0.419 | |
| plot_logFC_thresholds_spiked | 0.951 | 0.000 | 0.957 | |
| plot_markers_boxplots | 1.179 | 0.000 | 1.193 | |
| plot_nr_prot_samples | 0.367 | 0.004 | 0.373 | |
| plot_overview_DE_bar | 0.647 | 0.020 | 1.079 | |
| plot_overview_DE_tile | 0.370 | 0.024 | 0.395 | |
| plot_profiles_spiked | 1.254 | 0.099 | 1.358 | |
| plot_pvalues_spiked | 0.718 | 0.060 | 0.780 | |
| plot_stats_spiked_heatmap | 0.570 | 0.048 | 0.679 | |
| plot_tot_int_samples | 0.390 | 0.016 | 0.503 | |
| plot_upset | 1.305 | 0.103 | 1.413 | |
| plot_upset_DE | 0.032 | 0.000 | 0.032 | |
| plot_volcano_DE | 6.151 | 0.323 | 6.877 | |
| quantileNorm | 0.047 | 0.004 | 0.074 | |
| readPRONE_example | 0.002 | 0.000 | 0.001 | |
| remove_POMA_outliers | 0.984 | 0.063 | 1.073 | |
| remove_assays_from_SE | 0.048 | 0.004 | 0.051 | |
| remove_reference_samples | 0.036 | 0.000 | 0.036 | |
| remove_samples_manually | 0.041 | 0.000 | 0.041 | |
| rlrMACycNorm | 0.910 | 0.044 | 0.967 | |
| rlrMANorm | 0.165 | 0.008 | 0.174 | |
| rlrNorm | 0.105 | 0.008 | 0.161 | |
| robnormNorm | 0.101 | 0.003 | 0.105 | |
| run_DE | 3.394 | 0.088 | 3.525 | |
| specify_comparisons | 0.026 | 0.000 | 0.027 | |
| subset_SE_by_norm | 0.103 | 0.008 | 0.110 | |
| tmmNorm | 0.183 | 0.012 | 0.195 | |
| vsnNorm | 0.075 | 0.008 | 0.083 | |