| Back to Multiple platform build/check report for BioC 3.22: simplified long |
|
This page was generated on 2025-11-11 12:02 -0500 (Tue, 11 Nov 2025).
| Hostname | OS | Arch (*) | R version | Installed pkgs |
|---|---|---|---|---|
| nebbiolo2 | Linux (Ubuntu 24.04.3 LTS) | x86_64 | 4.5.1 Patched (2025-08-23 r88802) -- "Great Square Root" | 4902 |
| kjohnson3 | macOS 13.7.7 Ventura | arm64 | 4.5.1 Patched (2025-09-10 r88807) -- "Great Square Root" | 4638 |
| Click on any hostname to see more info about the system (e.g. compilers) (*) as reported by 'uname -p', except on Windows and Mac OS X | ||||
| Package 1653/2361 | Hostname | OS / Arch | INSTALL | BUILD | CHECK | BUILD BIN | ||||||||
| PRONE 1.4.0 (landing page) Lis Arend
| nebbiolo2 | Linux (Ubuntu 24.04.3 LTS) / x86_64 | OK | OK | OK | |||||||||
| kjohnson3 | macOS 13.7.7 Ventura / arm64 | OK | OK | OK | OK | |||||||||
|
To the developers/maintainers of the PRONE package: - Allow up to 24 hours (and sometimes 48 hours) for your latest push to git@git.bioconductor.org:packages/PRONE.git to reflect on this report. See Troubleshooting Build Report for more information. - Use the following Renviron settings to reproduce errors and warnings. - If 'R CMD check' started to fail recently on the Linux builder(s) over a missing dependency, add the missing dependency to 'Suggests:' in your DESCRIPTION file. See Renviron.bioc for more information. |
| Package: PRONE |
| Version: 1.4.0 |
| Command: /home/biocbuild/bbs-3.22-bioc/R/bin/R CMD check --install=check:PRONE.install-out.txt --library=/home/biocbuild/bbs-3.22-bioc/R/site-library --timings PRONE_1.4.0.tar.gz |
| StartedAt: 2025-11-11 03:04:43 -0500 (Tue, 11 Nov 2025) |
| EndedAt: 2025-11-11 03:12:46 -0500 (Tue, 11 Nov 2025) |
| EllapsedTime: 482.4 seconds |
| RetCode: 0 |
| Status: OK |
| CheckDir: PRONE.Rcheck |
| Warnings: 0 |
##############################################################################
##############################################################################
###
### Running command:
###
### /home/biocbuild/bbs-3.22-bioc/R/bin/R CMD check --install=check:PRONE.install-out.txt --library=/home/biocbuild/bbs-3.22-bioc/R/site-library --timings PRONE_1.4.0.tar.gz
###
##############################################################################
##############################################################################
* using log directory ‘/home/biocbuild/bbs-3.22-bioc/meat/PRONE.Rcheck’
* using R version 4.5.1 Patched (2025-08-23 r88802)
* using platform: x86_64-pc-linux-gnu
* R was compiled by
gcc (Ubuntu 13.3.0-6ubuntu2~24.04) 13.3.0
GNU Fortran (Ubuntu 13.3.0-6ubuntu2~24.04) 13.3.0
* running under: Ubuntu 24.04.3 LTS
* using session charset: UTF-8
* checking for file ‘PRONE/DESCRIPTION’ ... OK
* checking extension type ... Package
* this is package ‘PRONE’ version ‘1.4.0’
* package encoding: UTF-8
* checking package namespace information ... OK
* checking package dependencies ... INFO
Imports includes 34 non-default packages.
Importing from so many packages makes the package vulnerable to any of
them becoming unavailable. Move as many as possible to Suggests and
use conditionally.
* checking if this is a source package ... OK
* checking if there is a namespace ... OK
* checking for hidden files and directories ... OK
* checking for portable file names ... OK
* checking for sufficient/correct file permissions ... OK
* checking whether package ‘PRONE’ can be installed ... OK
* checking installed package size ... OK
* checking package directory ... OK
* checking ‘build’ directory ... OK
* checking DESCRIPTION meta-information ... OK
* checking top-level files ... OK
* checking for left-over files ... OK
* checking index information ... OK
* checking package subdirectories ... OK
* checking code files for non-ASCII characters ... OK
* checking R files for syntax errors ... OK
* checking whether the package can be loaded ... OK
* checking whether the package can be loaded with stated dependencies ... OK
* checking whether the package can be unloaded cleanly ... OK
* checking whether the namespace can be loaded with stated dependencies ... OK
* checking whether the namespace can be unloaded cleanly ... OK
* checking loading without being on the library search path ... OK
* checking dependencies in R code ... NOTE
Unexported objects imported by ':::' calls:
‘NormalyzerDE:::calculateAvgMadMem’
‘NormalyzerDE:::calculateAvgReplicateVariation’
‘NormalyzerDE:::calculatePercentageAvgDiffInMat’
‘NormalyzerDE:::calculateReplicateCV’
‘NormalyzerDE:::calculateSummarizedCorrelationVector’
See the note in ?`:::` about the use of this operator.
* checking S3 generic/method consistency ... OK
* checking replacement functions ... OK
* checking foreign function calls ... OK
* checking R code for possible problems ... NOTE
plot_upset_DE: no visible global function definition for
‘packageVersion’
Undefined global functions or variables:
packageVersion
Consider adding
importFrom("utils", "packageVersion")
to your NAMESPACE file.
* checking Rd files ... OK
* checking Rd metadata ... OK
* checking Rd cross-references ... OK
* checking for missing documentation entries ... OK
* checking for code/documentation mismatches ... OK
* checking Rd \usage sections ... OK
* checking Rd contents ... OK
* checking for unstated dependencies in examples ... OK
* checking contents of ‘data’ directory ... OK
* checking data for non-ASCII characters ... OK
* checking data for ASCII and uncompressed saves ... OK
* checking files in ‘vignettes’ ... OK
* checking examples ... OK
Examples with CPU (user + system) or elapsed time > 5s
user system elapsed
plot_boxplots 5.549 0.168 5.652
* checking for unstated dependencies in vignettes ... OK
* checking package vignettes ... OK
* checking re-building of vignette outputs ... OK
* checking PDF version of manual ... OK
* DONE
Status: 2 NOTEs
See
‘/home/biocbuild/bbs-3.22-bioc/meat/PRONE.Rcheck/00check.log’
for details.
PRONE.Rcheck/00install.out
############################################################################## ############################################################################## ### ### Running command: ### ### /home/biocbuild/bbs-3.22-bioc/R/bin/R CMD INSTALL PRONE ### ############################################################################## ############################################################################## * installing to library ‘/home/biocbuild/bbs-3.22-bioc/R/site-library’ * installing *source* package ‘PRONE’ ... ** this is package ‘PRONE’ version ‘1.4.0’ ** using staged installation ** R ** data ** inst ** byte-compile and prepare package for lazy loading ** help *** installing help indices *** copying figures ** building package indices ** installing vignettes ** testing if installed package can be loaded from temporary location ** testing if installed package can be loaded from final location ** testing if installed package keeps a record of temporary installation path * DONE (PRONE)
PRONE.Rcheck/PRONE-Ex.timings
| name | user | system | elapsed | |
| apply_thresholds | 0.032 | 0.001 | 0.033 | |
| detect_outliers_POMA | 1.784 | 0.078 | 1.862 | |
| eigenMSNorm | 0.601 | 0.067 | 0.668 | |
| export_data | 0.029 | 0.000 | 0.029 | |
| extract_consensus_DE_candidates | 0.082 | 0.001 | 0.083 | |
| filter_out_NA_proteins_by_threshold | 0.214 | 0.001 | 0.208 | |
| filter_out_complete_NA_proteins | 0.053 | 0.001 | 0.054 | |
| filter_out_proteins_by_ID | 0.156 | 0.002 | 0.158 | |
| filter_out_proteins_by_value | 0.159 | 0.000 | 0.159 | |
| get_NA_overview | 0.034 | 0.003 | 0.037 | |
| get_normalization_methods | 0 | 0 | 0 | |
| get_overview_DE | 0.042 | 0.000 | 0.042 | |
| get_proteins_by_value | 0.167 | 0.001 | 0.168 | |
| get_spiked_stats_DE | 0.087 | 0.011 | 0.098 | |
| globalIntNorm | 0.125 | 0.003 | 0.128 | |
| globalMeanNorm | 0.125 | 0.001 | 0.126 | |
| globalMedianNorm | 0.130 | 0.003 | 0.133 | |
| impute_se | 0.744 | 0.015 | 0.712 | |
| irsNorm | 0.058 | 0.000 | 0.059 | |
| limmaNorm | 0.068 | 0.000 | 0.068 | |
| load_data | 0.048 | 0.001 | 0.049 | |
| load_spike_data | 0.041 | 0.001 | 0.042 | |
| loessCycNorm | 0.121 | 0.004 | 0.125 | |
| loessFNorm | 0.087 | 0.000 | 0.086 | |
| meanNorm | 0.045 | 0.000 | 0.045 | |
| medianAbsDevNorm | 0.098 | 0.002 | 0.100 | |
| medianNorm | 0.061 | 0.002 | 0.063 | |
| normalize_se | 3.453 | 0.088 | 3.542 | |
| normalize_se_combination | 4.108 | 0.206 | 4.314 | |
| normalize_se_single | 3.159 | 0.084 | 3.243 | |
| normicsNorm | 3.025 | 0.028 | 3.054 | |
| plot_NA_density | 0.424 | 0.010 | 0.427 | |
| plot_NA_frequency | 0.224 | 0.001 | 0.219 | |
| plot_NA_heatmap | 1.254 | 0.035 | 1.288 | |
| plot_PCA | 1.327 | 0.009 | 1.336 | |
| plot_ROC_AUC_spiked | 1.185 | 0.008 | 1.176 | |
| plot_TP_FP_spiked_bar | 0.329 | 0.003 | 0.332 | |
| plot_TP_FP_spiked_box | 0.426 | 0.002 | 0.428 | |
| plot_TP_FP_spiked_scatter | 0.430 | 0.019 | 0.449 | |
| plot_boxplots | 5.549 | 0.168 | 5.652 | |
| plot_condition_overview | 0.258 | 0.001 | 0.260 | |
| plot_densities | 2.746 | 0.052 | 2.716 | |
| plot_fold_changes_spiked | 0.538 | 0.006 | 0.537 | |
| plot_heatmap | 3.686 | 0.002 | 3.688 | |
| plot_heatmap_DE | 1.248 | 0.003 | 1.251 | |
| plot_histogram_spiked | 0.430 | 0.002 | 0.425 | |
| plot_identified_spiked_proteins | 0.474 | 0.002 | 0.476 | |
| plot_intersection_enrichment | 0.835 | 0.010 | 3.304 | |
| plot_intragroup_PCV | 0.567 | 0.000 | 0.567 | |
| plot_intragroup_PEV | 0.427 | 0.021 | 0.448 | |
| plot_intragroup_PMAD | 0.443 | 0.019 | 0.462 | |
| plot_intragroup_correlation | 0.466 | 0.027 | 0.493 | |
| plot_jaccard_heatmap | 0.314 | 0.029 | 0.331 | |
| plot_logFC_thresholds_spiked | 0.689 | 0.094 | 0.783 | |
| plot_markers_boxplots | 0.844 | 0.060 | 0.899 | |
| plot_nr_prot_samples | 0.265 | 0.018 | 0.283 | |
| plot_overview_DE_bar | 0.430 | 0.051 | 0.481 | |
| plot_overview_DE_tile | 0.251 | 0.020 | 0.271 | |
| plot_profiles_spiked | 0.840 | 0.041 | 0.866 | |
| plot_pvalues_spiked | 0.533 | 0.014 | 0.547 | |
| plot_stats_spiked_heatmap | 0.423 | 0.036 | 0.459 | |
| plot_tot_int_samples | 0.265 | 0.017 | 0.282 | |
| plot_upset | 0.870 | 0.081 | 0.951 | |
| plot_upset_DE | 0.032 | 0.000 | 0.033 | |
| plot_volcano_DE | 4.097 | 0.199 | 4.296 | |
| quantileNorm | 0.042 | 0.007 | 0.050 | |
| readPRONE_example | 0.001 | 0.000 | 0.001 | |
| remove_POMA_outliers | 0.635 | 0.016 | 0.651 | |
| remove_assays_from_SE | 0.047 | 0.002 | 0.049 | |
| remove_reference_samples | 0.046 | 0.002 | 0.048 | |
| remove_samples_manually | 0.041 | 0.000 | 0.040 | |
| rlrMACycNorm | 0.588 | 0.031 | 0.618 | |
| rlrMANorm | 0.144 | 0.014 | 0.157 | |
| rlrNorm | 0.085 | 0.001 | 0.085 | |
| robnormNorm | 0.072 | 0.003 | 0.075 | |
| run_DE | 2.314 | 0.121 | 2.394 | |
| specify_comparisons | 0.043 | 0.000 | 0.030 | |
| subset_SE_by_norm | 0.076 | 0.001 | 0.077 | |
| tmmNorm | 0.125 | 0.002 | 0.128 | |
| vsnNorm | 0.069 | 0.001 | 0.071 | |