| Back to Multiple platform build/check report for BioC 3.21: simplified long |
|
This page was generated on 2025-08-18 11:41 -0400 (Mon, 18 Aug 2025).
| Hostname | OS | Arch (*) | R version | Installed pkgs |
|---|---|---|---|---|
| nebbiolo1 | Linux (Ubuntu 24.04.3 LTS) | x86_64 | 4.5.1 (2025-06-13) -- "Great Square Root" | 4824 |
| palomino7 | Windows Server 2022 Datacenter | x64 | 4.5.1 (2025-06-13 ucrt) -- "Great Square Root" | 4566 |
| merida1 | macOS 12.7.5 Monterey | x86_64 | 4.5.1 RC (2025-06-05 r88288) -- "Great Square Root" | 4604 |
| kjohnson1 | macOS 13.6.6 Ventura | arm64 | 4.5.1 Patched (2025-06-14 r88325) -- "Great Square Root" | 4545 |
| kunpeng2 | Linux (openEuler 24.03 LTS) | aarch64 | R Under development (unstable) (2025-02-19 r87757) -- "Unsuffered Consequences" | 4579 |
| Click on any hostname to see more info about the system (e.g. compilers) (*) as reported by 'uname -p', except on Windows and Mac OS X | ||||
| Package 970/2341 | Hostname | OS / Arch | INSTALL | BUILD | CHECK | BUILD BIN | ||||||||
| HiCBricks 1.26.0 (landing page) Koustav Pal
| nebbiolo1 | Linux (Ubuntu 24.04.3 LTS) / x86_64 | OK | OK | OK | |||||||||
| palomino7 | Windows Server 2022 Datacenter / x64 | OK | OK | OK | OK | |||||||||
| merida1 | macOS 12.7.5 Monterey / x86_64 | OK | OK | OK | OK | |||||||||
| kjohnson1 | macOS 13.6.6 Ventura / arm64 | OK | OK | OK | OK | |||||||||
| kunpeng2 | Linux (openEuler 24.03 LTS) / aarch64 | OK | OK | OK | ||||||||||
|
To the developers/maintainers of the HiCBricks package: - Allow up to 24 hours (and sometimes 48 hours) for your latest push to git@git.bioconductor.org:packages/HiCBricks.git to reflect on this report. See Troubleshooting Build Report for more information. - Use the following Renviron settings to reproduce errors and warnings. - If 'R CMD check' started to fail recently on the Linux builder(s) over a missing dependency, add the missing dependency to 'Suggests:' in your DESCRIPTION file. See Renviron.bioc for more information. |
| Package: HiCBricks |
| Version: 1.26.0 |
| Command: E:\biocbuild\bbs-3.21-bioc\R\bin\R.exe CMD check --no-multiarch --install=check:HiCBricks.install-out.txt --library=E:\biocbuild\bbs-3.21-bioc\R\library --no-vignettes --timings HiCBricks_1.26.0.tar.gz |
| StartedAt: 2025-08-15 03:04:49 -0400 (Fri, 15 Aug 2025) |
| EndedAt: 2025-08-15 03:10:10 -0400 (Fri, 15 Aug 2025) |
| EllapsedTime: 320.8 seconds |
| RetCode: 0 |
| Status: OK |
| CheckDir: HiCBricks.Rcheck |
| Warnings: 0 |
##############################################################################
##############################################################################
###
### Running command:
###
### E:\biocbuild\bbs-3.21-bioc\R\bin\R.exe CMD check --no-multiarch --install=check:HiCBricks.install-out.txt --library=E:\biocbuild\bbs-3.21-bioc\R\library --no-vignettes --timings HiCBricks_1.26.0.tar.gz
###
##############################################################################
##############################################################################
* using log directory 'E:/biocbuild/bbs-3.21-bioc/meat/HiCBricks.Rcheck'
* using R version 4.5.1 (2025-06-13 ucrt)
* using platform: x86_64-w64-mingw32
* R was compiled by
gcc.exe (GCC) 14.2.0
GNU Fortran (GCC) 14.2.0
* running under: Windows Server 2022 x64 (build 20348)
* using session charset: UTF-8
* using option '--no-vignettes'
* checking for file 'HiCBricks/DESCRIPTION' ... OK
* checking extension type ... Package
* this is package 'HiCBricks' version '1.26.0'
* package encoding: UTF-8
* checking package namespace information ... OK
* checking package dependencies ... OK
* checking if this is a source package ... OK
* checking if there is a namespace ... OK
* checking for hidden files and directories ... OK
* checking for portable file names ... OK
* checking whether package 'HiCBricks' can be installed ... OK
* checking installed package size ... OK
* checking package directory ... OK
* checking 'build' directory ... OK
* checking DESCRIPTION meta-information ... OK
* checking top-level files ... OK
* checking for left-over files ... OK
* checking index information ... OK
* checking package subdirectories ... OK
* checking code files for non-ASCII characters ... OK
* checking R files for syntax errors ... OK
* checking whether the package can be loaded ... OK
* checking whether the package can be loaded with stated dependencies ... OK
* checking whether the package can be unloaded cleanly ... OK
* checking whether the namespace can be loaded with stated dependencies ... OK
* checking whether the namespace can be unloaded cleanly ... OK
* checking dependencies in R code ... OK
* checking S3 generic/method consistency ... OK
* checking replacement functions ... OK
* checking foreign function calls ... OK
* checking R code for possible problems ... OK
* checking Rd files ... OK
* checking Rd metadata ... OK
* checking Rd cross-references ... OK
* checking for missing documentation entries ... OK
* checking for code/documentation mismatches ... OK
* checking Rd \usage sections ... OK
* checking Rd contents ... OK
* checking for unstated dependencies in examples ... OK
* checking files in 'vignettes' ... OK
* checking examples ... OK
Examples with CPU (user + system) or elapsed time > 5s
user system elapsed
Brick_export_to_sparse 3.22 0.35 6.31
Brick_local_score_differentiator 2.43 0.41 5.30
Brick_vizart_plot_heatmap 2.42 0.33 13.04
Brick_add_ranges 2.44 0.15 6.44
BrickContainer_unlink_resolution 2.14 0.38 6.36
Brick_get_matrix_within_coords 1.79 0.29 5.54
Brick_get_matrix 1.79 0.26 5.04
Brick_get_matrix_mcols 1.38 0.21 6.99
Create_many_Bricks 1.10 0.11 6.07
* checking for unstated dependencies in vignettes ... OK
* checking package vignettes ... OK
* checking running R code from vignettes ... SKIPPED
* checking re-building of vignette outputs ... SKIPPED
* checking PDF version of manual ... OK
* DONE
Status: OK
HiCBricks.Rcheck/00install.out
############################################################################## ############################################################################## ### ### Running command: ### ### E:\biocbuild\bbs-3.21-bioc\R\bin\R.exe CMD INSTALL HiCBricks ### ############################################################################## ############################################################################## * installing to library 'E:/biocbuild/bbs-3.21-bioc/R/library' * installing *source* package 'HiCBricks' ... ** this is package 'HiCBricks' version '1.26.0' ** using staged installation ** R ** inst ** byte-compile and prepare package for lazy loading ** help *** installing help indices ** building package indices ** installing vignettes ** testing if installed package can be loaded from temporary location ** testing if installed package can be loaded from final location ** testing if installed package keeps a record of temporary installation path * DONE (HiCBricks)
HiCBricks.Rcheck/HiCBricks-Ex.timings
| name | user | system | elapsed | |
| BrickContainer_change_experiment_name | 1.58 | 0.20 | 4.03 | |
| BrickContainer_change_output_directory | 1.22 | 0.11 | 3.08 | |
| BrickContainer_get_path_to_file | 1.00 | 0.17 | 3.51 | |
| BrickContainer_list_chromosomes | 0.99 | 0.15 | 3.00 | |
| BrickContainer_list_experiment_name | 0.96 | 0.19 | 3.73 | |
| BrickContainer_list_files | 1.02 | 0.12 | 3.30 | |
| BrickContainer_list_output_directory | 0.91 | 0.18 | 2.77 | |
| BrickContainer_list_resolutions | 1.14 | 0.11 | 3.22 | |
| BrickContainer_unlink_resolution | 2.14 | 0.38 | 6.36 | |
| Brick_add_ranges | 2.44 | 0.15 | 6.44 | |
| Brick_call_compartments | 1.78 | 0.25 | 4.58 | |
| Brick_export_to_sparse | 3.22 | 0.35 | 6.31 | |
| Brick_fetch_range_index | 1.17 | 0.14 | 3.71 | |
| Brick_fetch_row_vector | 1.89 | 0.28 | 4.59 | |
| Brick_get_bintable | 1.14 | 0.19 | 3.55 | |
| Brick_get_chrominfo | 0.93 | 0.23 | 4.23 | |
| Brick_get_entire_matrix | 1.50 | 0.22 | 3.99 | |
| Brick_get_matrix | 1.79 | 0.26 | 5.04 | |
| Brick_get_matrix_mcols | 1.38 | 0.21 | 6.99 | |
| Brick_get_matrix_within_coords | 1.79 | 0.29 | 5.54 | |
| Brick_get_ranges | 1.08 | 0.18 | 3.02 | |
| Brick_get_values_by_distance | 1.58 | 0.17 | 4.16 | |
| Brick_get_vector_values | 1.38 | 0.17 | 3.76 | |
| Brick_list_matrices | 1.09 | 0.22 | 3.00 | |
| Brick_list_matrix_mcols | 0.97 | 0.19 | 3.27 | |
| Brick_list_mcool_normalisations | 0 | 0 | 0 | |
| Brick_list_mcool_resolutions | 0 | 0 | 0 | |
| Brick_list_rangekeys | 0.94 | 0.15 | 3.00 | |
| Brick_list_ranges_mcols | 0.98 | 0.21 | 3.04 | |
| Brick_load_cis_matrix_till_distance | 1.14 | 0.31 | 3.75 | |
| Brick_load_data_from_mcool | 0 | 0 | 0 | |
| Brick_load_data_from_sparse | 0 | 0 | 0 | |
| Brick_load_matrix | 1.56 | 0.26 | 4.24 | |
| Brick_local_score_differentiator | 2.43 | 0.41 | 5.30 | |
| Brick_make_ranges | 0 | 0 | 0 | |
| Brick_matrix_dimensions | 1.36 | 0.11 | 4.44 | |
| Brick_matrix_exists | 1.61 | 0.22 | 4.72 | |
| Brick_matrix_filename | 1.19 | 0.42 | 3.95 | |
| Brick_matrix_isdone | 1.49 | 0.14 | 4.67 | |
| Brick_matrix_issparse | 1.50 | 0.24 | 3.98 | |
| Brick_matrix_maxdist | 1.45 | 0.17 | 4.00 | |
| Brick_matrix_minmax | 1.41 | 0.18 | 4.03 | |
| Brick_mcool_normalisation_exists | 0 | 0 | 0 | |
| Brick_rangekey_exists | 0.93 | 0.15 | 2.88 | |
| Brick_return_region_position | 1.22 | 0.12 | 3.19 | |
| Brick_vizart_plot_heatmap | 2.42 | 0.33 | 13.04 | |
| Create_many_Bricks | 1.10 | 0.11 | 6.07 | |
| Create_many_Bricks_from_mcool | 0 | 0 | 0 | |
| load_BrickContainer | 0.97 | 0.15 | 4.06 | |