Back to Multiple platform build/check report for BioC 3.21:   simplified   long
ABC[D]EFGHIJKLMNOPQRSTUVWXYZ

This page was generated on 2025-10-16 11:41 -0400 (Thu, 16 Oct 2025).

HostnameOSArch (*)R versionInstalled pkgs
nebbiolo1Linux (Ubuntu 24.04.3 LTS)x86_644.5.1 (2025-06-13) -- "Great Square Root" 4833
merida1macOS 12.7.6 Montereyx86_644.5.1 RC (2025-06-05 r88288) -- "Great Square Root" 4614
kjohnson1macOS 13.7.5 Venturaarm644.5.1 Patched (2025-06-14 r88325) -- "Great Square Root" 4555
kunpeng2Linux (openEuler 24.03 LTS)aarch64R Under development (unstable) (2025-02-19 r87757) -- "Unsuffered Consequences" 4586
Click on any hostname to see more info about the system (e.g. compilers)      (*) as reported by 'uname -p', except on Windows and Mac OS X

Package 515/2341HostnameOS / ArchINSTALLBUILDCHECKBUILD BIN
DAPAR 1.40.0  (landing page)
Samuel Wieczorek
Snapshot Date: 2025-10-13 13:40 -0400 (Mon, 13 Oct 2025)
git_url: https://git.bioconductor.org/packages/DAPAR
git_branch: RELEASE_3_21
git_last_commit: e38913f
git_last_commit_date: 2025-04-15 10:53:48 -0400 (Tue, 15 Apr 2025)
nebbiolo1Linux (Ubuntu 24.04.3 LTS) / x86_64  OK    OK    OK  UNNEEDED, same version is already published
merida1macOS 12.7.6 Monterey / x86_64  OK    OK    OK    OK  UNNEEDED, same version is already published
kjohnson1macOS 13.7.5 Ventura / arm64  OK    OK    OK    OK  UNNEEDED, same version is already published
kunpeng2Linux (openEuler 24.03 LTS) / aarch64  OK    OK    OK  


CHECK results for DAPAR on kunpeng2

To the developers/maintainers of the DAPAR package:
- Allow up to 24 hours (and sometimes 48 hours) for your latest push to git@git.bioconductor.org:packages/DAPAR.git to reflect on this report. See Troubleshooting Build Report for more information.
- Use the following Renviron settings to reproduce errors and warnings.
- If 'R CMD check' started to fail recently on the Linux builder(s) over a missing dependency, add the missing dependency to 'Suggests:' in your DESCRIPTION file. See Renviron.bioc for more information.
- See Martin Grigorov's blog post for how to debug Linux ARM64 related issues on a x86_64 host.

raw results


Summary

Package: DAPAR
Version: 1.40.0
Command: /home/biocbuild/R/R/bin/R CMD check --install=check:DAPAR.install-out.txt --library=/home/biocbuild/R/R/site-library --no-vignettes --timings DAPAR_1.40.0.tar.gz
StartedAt: 2025-10-14 08:11:21 -0000 (Tue, 14 Oct 2025)
EndedAt: 2025-10-14 08:22:28 -0000 (Tue, 14 Oct 2025)
EllapsedTime: 667.3 seconds
RetCode: 0
Status:   OK  
CheckDir: DAPAR.Rcheck
Warnings: 0

Command output

##############################################################################
##############################################################################
###
### Running command:
###
###   /home/biocbuild/R/R/bin/R CMD check --install=check:DAPAR.install-out.txt --library=/home/biocbuild/R/R/site-library --no-vignettes --timings DAPAR_1.40.0.tar.gz
###
##############################################################################
##############################################################################


* using log directory ‘/home/biocbuild/bbs-3.21-bioc/meat/DAPAR.Rcheck’
* using R Under development (unstable) (2025-02-19 r87757)
* using platform: aarch64-unknown-linux-gnu
* R was compiled by
    aarch64-unknown-linux-gnu-gcc (GCC) 14.2.0
    GNU Fortran (GCC) 14.2.0
* running under: openEuler 24.03 (LTS-SP1)
* using session charset: UTF-8
* using option ‘--no-vignettes’
* checking for file ‘DAPAR/DESCRIPTION’ ... OK
* checking extension type ... Package
* this is package ‘DAPAR’ version ‘1.40.0’
* package encoding: UTF-8
* checking package namespace information ... OK
* checking package dependencies ... INFO
Vignette dependency required without any vignettes: ‘knitr’
* checking if this is a source package ... OK
* checking if there is a namespace ... OK
* checking for hidden files and directories ... OK
* checking for portable file names ... OK
* checking for sufficient/correct file permissions ... OK
* checking whether package ‘DAPAR’ can be installed ... OK
* checking installed package size ... OK
* checking package directory ... OK
* checking DESCRIPTION meta-information ... OK
* checking top-level files ... OK
* checking for left-over files ... OK
* checking index information ... OK
* checking package subdirectories ... OK
* checking code files for non-ASCII characters ... OK
* checking R files for syntax errors ... OK
* checking whether the package can be loaded ... OK
* checking whether the package can be loaded with stated dependencies ... OK
* checking whether the package can be unloaded cleanly ... OK
* checking whether the namespace can be loaded with stated dependencies ... OK
* checking whether the namespace can be unloaded cleanly ... OK
* checking loading without being on the library search path ... OK
* checking whether startup messages can be suppressed ... OK
* checking dependencies in R code ... OK
* checking S3 generic/method consistency ... OK
* checking replacement functions ... OK
* checking foreign function calls ... OK
* checking R code for possible problems ... NOTE
Check_Dataset_Validity: no visible global function definition for
  ‘exprs’
OWAnova: no visible global function definition for ‘aov’
aggregateIterParallel: no visible binding for global variable ‘cond’
averageIntensities: no visible binding for global variable ‘condition’
averageIntensities: no visible binding for global variable ‘feature’
averageIntensities: no visible binding for global variable ‘intensity’
createMSnset: no visible global function definition for
  ‘installed.packages’
createMSnset: no visible binding for global variable ‘Prostar.loc’
createMSnset2: no visible global function definition for
  ‘installed.packages’
createMSnset2: no visible binding for global variable ‘Prostar.loc’
diffAnaVolcanoplot_rCharts: no visible binding for global variable ‘x’
diffAnaVolcanoplot_rCharts: no visible binding for global variable ‘y’
diffAnaVolcanoplot_rCharts: no visible binding for global variable ‘g’
display.CC.visNet: no visible binding for global variable
  ‘layout_nicely’
getTextForGOAnalysis: no visible binding for global variable
  ‘textGOParams’
getTextForGOAnalysis: no visible binding for global variable ‘input’
globalAdjPval: no visible global function definition for ‘stack’
heatmapForMissingValues: no visible binding for global variable ‘par’
limmaCompleteTest: no visible binding for global variable ‘A’
limmaCompleteTest: no visible binding for global variable ‘B’
limmaCompleteTest: no visible binding for global variable ‘P.Value’
pepa.test: no visible global function definition for ‘nodes<-’
testAnovaModels : <anonymous>: no visible global function definition
  for ‘TukeyHSD’
visualizeClusters: no visible binding for global variable
  ‘adjusted_pvalues’
visualizeClusters: no visible binding for global variable ‘Condition’
visualizeClusters: no visible binding for global variable ‘Intensity’
visualizeClusters: no visible binding for global variable
  ‘FDR_threshold’
visualizeClusters: no visible binding for global variable ‘feature’
wrapperClassic1wayAnova: no visible binding for global variable
  ‘Pr(>F)1’
wrapperRunClustering: no visible global function definition for ‘str_c’
Undefined global functions or variables:
  A B Condition FDR_threshold Intensity P.Value Pr(>F)1 Prostar.loc
  TukeyHSD adjusted_pvalues aov cond condition exprs feature g input
  installed.packages intensity layout_nicely nodes<- par stack str_c
  textGOParams x y
Consider adding
  importFrom("graphics", "par")
  importFrom("stats", "TukeyHSD", "aov")
  importFrom("utils", "installed.packages", "stack")
to your NAMESPACE file.
* checking Rd files ... OK
* checking Rd metadata ... OK
* checking Rd cross-references ... OK
* checking for missing documentation entries ... OK
* checking for code/documentation mismatches ... OK
* checking Rd \usage sections ... OK
* checking Rd contents ... OK
* checking for unstated dependencies in examples ... OK
* checking examples ... OK
Examples with CPU (user + system) or elapsed time > 5s
                                   user system elapsed
wrapper.compareNormalizationD_HC 57.176 14.302  74.130
wrapper.dapar.impute.mi          19.637  0.480  20.280
barplotEnrichGO_HC                9.499  0.895  10.550
barplotGroupGO_HC                 5.207  0.232   5.481
enrich_GO                         5.149  0.247   5.438
scatterplotEnrichGO_HC            5.114  0.239   5.398
group_GO                          5.112  0.231   5.381
* checking for unstated dependencies in ‘tests’ ... OK
* checking tests ...
  Running ‘testthat.R’
 OK
* checking PDF version of manual ... OK
* DONE

Status: 1 NOTE
See
  ‘/home/biocbuild/bbs-3.21-bioc/meat/DAPAR.Rcheck/00check.log’
for details.


Installation output

DAPAR.Rcheck/00install.out

##############################################################################
##############################################################################
###
### Running command:
###
###   /home/biocbuild/R/R/bin/R CMD INSTALL DAPAR
###
##############################################################################
##############################################################################


* installing to library ‘/home/biocbuild/R/R-devel_2025-02-19/site-library’
* installing *source* package ‘DAPAR’ ...
** this is package ‘DAPAR’ version ‘1.40.0’
** using staged installation
** R
** inst
** byte-compile and prepare package for lazy loading
** help
*** installing help indices
** building package indices
** testing if installed package can be loaded from temporary location
** testing if installed package can be loaded from final location
** testing if installed package keeps a record of temporary installation path
* DONE (DAPAR)

Tests output

DAPAR.Rcheck/tests/testthat.Rout


R Under development (unstable) (2025-02-19 r87757) -- "Unsuffered Consequences"
Copyright (C) 2025 The R Foundation for Statistical Computing
Platform: aarch64-unknown-linux-gnu

R is free software and comes with ABSOLUTELY NO WARRANTY.
You are welcome to redistribute it under certain conditions.
Type 'license()' or 'licence()' for distribution details.

R is a collaborative project with many contributors.
Type 'contributors()' for more information and
'citation()' on how to cite R or R packages in publications.

Type 'demo()' for some demos, 'help()' for on-line help, or
'help.start()' for an HTML browser interface to help.
Type 'q()' to quit R.

> library(testthat)
> library(DAPAR)

This is the 'DAPAR' version 1.40.0.

  To get started, visit
    http://www.prostar-proteomics.org/


> 
> test_check("DAPAR")

 Iterations: 

 1 / 1  - Imputation MNAR OK - 
Imputation MCAR in progress - 
3 % - 6 % - 9 % - 12 % - 15 % - 18 % - 21 % - 24 % - 27 % - 30 % - 33 % - 36 % - 39 % - 42 % - 45 % - 48 % - 51 % - 54 % - 57 % - 60 % - 63 % - 66 % - 69 % - 72 % - 75 % - 78 % - 81 % - 84 % - 87 % - 90 % - 93 % - 96 % - 99 % - 
 Iterations: 

 1 / 1  - Imputation MNAR OK - 
Imputation MCAR in progress - 
3 % - 6 % - 9 % - 12 % - 15 % - 18 % - 21 % - 24 % - 27 % - 30 % - 33 % - 36 % - 39 % - 42 % - 45 % - 48 % - 51 % - 54 % - 57 % - 60 % - 63 % - 66 % - 69 % - 72 % - 75 % - 78 % - 81 % - 84 % - 87 % - 90 % - 93 % - 96 % - 99 % - 
 Imputation in condition  1 ...
 In progress: 10 % - 20 % - 30 % - 40 % - 50 % - 60 % - 70 % - 80 % - 90 % - 100 % - 
 Imputation in condition  2 ...
 In progress: 10 % - 20 % - 30 % - 40 % - 50 % - 60 % - 70 % - 80 % - 90 % - 100 % - [ FAIL 0 | WARN 17 | SKIP 0 | PASS 66 ]

[ FAIL 0 | WARN 17 | SKIP 0 | PASS 66 ]
> 
> proc.time()
   user  system elapsed 
 43.227   1.286  44.783 

Example timings

DAPAR.Rcheck/DAPAR-Ex.timings

nameusersystemelapsed
AggregateMetacell0.4730.0000.477
BuildAdjacencyMatrix0.3020.0120.314
BuildColumnToProteinDataset0.4000.0120.414
BuildMetaCell0.7050.0280.746
CVDistD_HC4.2960.0604.432
Children0.0060.0000.006
CountPep0.3200.0040.325
ExtendPalette0.0360.0000.036
GOAnalysisSave000
GetCC2.7280.0272.770
GetColorsForConditions0.2690.0040.274
GetDetailedNbPeptides0.3060.0120.320
GetDetailedNbPeptidesUsed000
GetIndices_BasedOnConditions0.2930.0040.300
GetIndices_MetacellFiltering0.3070.0000.307
GetIndices_WholeLine0.2930.0040.297
GetIndices_WholeMatrix0.2850.0120.297
GetKeyId0.2680.0080.277
GetMatAdj0.3470.0080.356
GetMetacell000
GetMetacellTags0.2930.0040.299
GetNbPeptidesUsed0.2900.0120.304
GetNbTags000
GetSoftAvailables0.0010.0000.001
GetTypeofData0.2640.0120.277
Get_AllComparisons0.2830.0160.302
GlobalQuantileAlignment0.3010.0000.307
GraphPepProt0.3020.0000.303
LH0000
LH0.lm000
LH1000
LH1.lm000
LOESS1.6750.0191.701
MeanCentering0.3080.0080.317
MetaCellFiltering0.5000.0040.505
MetacellFilteringScope000
Metacell_DIA_NN0.5550.0100.566
Metacell_generic0.4650.0220.488
Metacell_maxquant1.5520.0881.645
Metacell_proline0.4700.0000.472
NumericalFiltering0.3360.0000.337
NumericalgetIndicesOfLinesToRemove0.2830.0040.288
OWAnova0.0040.0040.008
QuantileCentering0.2770.0000.277
SetCC2.6050.0082.621
SetMatAdj0.3270.0150.343
Set_POV_MEC_tags0.2860.0040.292
StringBasedFiltering0.3250.0000.326
StringBasedFiltering20.3260.0080.336
SumByColumns1.5960.1501.754
SymFilteringOperators000
UpdateMetacellAfterImputation0.2900.0080.299
aggregateIter0.4940.0040.500
aggregateIterParallel000
aggregateMean0.4000.0040.406
aggregateSum0.4390.0000.441
aggregateTopn0.3760.0040.381
applyAnovasOnProteins0.0850.0040.089
averageIntensities0.5260.0480.582
barplotEnrichGO_HC 9.499 0.89510.550
barplotGroupGO_HC5.2070.2325.481
boxPlotD_HC0.2720.0240.301
buildGraph1.7290.0041.737
check.conditions0.2610.0000.261
check.design0.2620.0000.263
checkClusterability3.1951.0734.493
classic1wayAnova000
compareNormalizationD_HC0.1240.0160.142
compute.selection.table0.7960.0800.891
compute_t_tests1.3930.1351.560
corrMatrixD_HC0.4090.0270.440
createMSnset1.9630.0402.010
createMSnset21.8980.0671.973
dapar_hc_ExportMenu0.1560.0320.192
dapar_hc_chart0.0650.0120.079
deleteLinesFromIndices0.3180.0150.336
densityPlotD_HC3.2630.7264.109
diffAnaComputeAdjustedPValues0.1890.0220.214
diffAnaComputeFDR000
diffAnaGetSignificant0.2640.0360.308
diffAnaSave0.2260.0560.288
diffAnaVolcanoplot0.1520.0120.166
diffAnaVolcanoplot_rCharts0.3850.0430.438
display.CC.visNet1.8690.0431.922
enrich_GO5.1490.2475.438
finalizeAggregation000
findMECBlock0.3320.0000.334
formatHSDResults0.0000.0000.001
formatLimmaResult0.1400.0200.163
formatPHResults000
formatPHTResults000
fudge2LRT0.0000.0000.001
get.pep.prot.cc1.7240.0361.764
getDesignLevel0.2590.0040.263
getIndicesConditions0.2630.0000.263
getIndicesOfLinesToRemove0.2870.0030.292
getListNbValuesInLines0.2620.0000.263
getNumberOf0.2870.0030.292
getNumberOfEmptyLines0.3060.0000.308
getPourcentageOfMV0.2910.0000.293
getProcessingInfo0.2570.0030.261
getProteinsStats0.3010.0000.302
getQuantile4Imp0.0630.0000.063
getTextForAggregation000
getTextForAnaDiff000
getTextForFiltering0.0000.0000.001
getTextForGOAnalysis000
getTextForHypothesisTest0.0010.0000.000
getTextForNewDataset0.0020.0000.002
getTextForNormalization000
getTextForpeptideImputation0.0000.0000.001
getTextForproteinImputation0.0010.0000.000
globalAdjPval0.4900.0480.546
group_GO5.1120.2315.381
hc_logFC_DensityPlot0.7830.1070.917
hc_mvTypePlot20.8280.1340.983
heatmapD0.5570.0270.588
heatmapForMissingValues0.1620.0080.171
histPValue_HC0.2040.0400.247
impute.pa20.3390.0120.353
inner.aggregate.iter0.3560.0040.362
inner.aggregate.topn0.3220.0040.327
inner.mean0.3630.0010.365
inner.sum0.3170.0020.320
is.subset0.0010.0000.000
limmaCompleteTest1.8830.0241.915
listSheets000
make.contrast0.2830.0020.286
make.design.10.2810.0010.284
make.design.20.2870.0000.288
make.design.30.2860.0000.287
make.design0.2800.0040.285
match.metacell0.3110.0100.322
metacell.def0.0000.0060.006
metacellHisto_HC0.3460.0290.377
metacellPerLinesHistoPerCondition_HC0.5240.0400.568
metacellPerLinesHisto_HC0.6210.0790.707
metacombine0.2690.0200.292
mvImage2.8290.0832.936
my_hc_ExportMenu0.1600.0280.191
my_hc_chart0.1580.0320.193
nonzero0.0190.0040.024
normalizeMethods.dapar000
pepa.test0.3130.0070.322
pkgs.require000
plotJitter1.7960.0481.849
plotJitter_rCharts1.7230.0241.754
plotPCA_Eigen0.3510.0150.369
plotPCA_Eigen_hc0.2560.0040.261
plotPCA_Ind0.2650.0040.270
plotPCA_Var0.2610.0000.261
postHocTest000
proportionConRev_HC0.0580.0080.067
rbindMSnset0.3580.0470.410
reIntroduceMEC0.3400.0120.354
readExcel000
removeLines0.3100.0160.328
samLRT0.0010.0000.000
saveParameters0.2670.0000.267
scatterplotEnrichGO_HC5.1140.2395.398
search.metacell.tags0.0090.0000.009
separateAdjPval0.1670.0080.176
splitAdjacencyMat0.3290.0000.331
test.design0.3020.0000.304
testAnovaModels0.0930.0120.106
thresholdpval4fdr000
translatedRandomBeta0.0030.0000.002
univ_AnnotDbPkg0.2090.0240.234
violinPlotD0.3460.0000.349
visualizeClusters1.7880.1832.013
vsn0.6370.0120.652
wrapper.CVDistD_HC2.1560.6052.861
wrapper.compareNormalizationD_HC57.17614.30274.130
wrapper.corrMatrixD_HC0.4250.0080.436
wrapper.dapar.impute.mi19.637 0.48020.280
wrapper.heatmapD0.4930.0120.506
wrapper.impute.KNN0.3370.0070.346
wrapper.impute.detQuant0.3480.0200.372
wrapper.impute.fixedValue0.3990.0270.431
wrapper.impute.mle0.3100.0120.324
wrapper.impute.pa0.1160.0070.127
wrapper.impute.pa20.3130.0160.331
wrapper.impute.slsa0.5080.0240.538
wrapper.mvImage0.1470.0120.163
wrapper.normalizeD0.3520.0000.353
wrapper.pca0.1360.0200.158
wrapperCalibrationPlot0.1840.0080.195
wrapperClassic1wayAnova000
wrapperRunClustering2.9150.3443.338
write.excel0.7310.0900.840
writeMSnsetToCSV0.2740.0240.303
writeMSnsetToExcel2.5080.1972.731