| Back to Multiple platform build/check report for BioC 3.22: simplified long |
|
This page was generated on 2025-11-20 12:04 -0500 (Thu, 20 Nov 2025).
| Hostname | OS | Arch (*) | R version | Installed pkgs |
|---|---|---|---|---|
| nebbiolo2 | Linux (Ubuntu 24.04.3 LTS) | x86_64 | 4.5.2 (2025-10-31) -- "[Not] Part in a Rumble" | 4615 |
| merida1 | macOS 12.7.6 Monterey | x86_64 | 4.5.2 Patched (2025-11-05 r88990) -- "[Not] Part in a Rumble" | 4610 |
| kjohnson1 | macOS 13.7.5 Ventura | arm64 | 4.5.2 Patched (2025-11-04 r88984) -- "[Not] Part in a Rumble" | 4598 |
| taishan | Linux (openEuler 24.03 LTS) | aarch64 | 4.5.0 (2025-04-11) -- "How About a Twenty-Six" | 4668 |
| Click on any hostname to see more info about the system (e.g. compilers) (*) as reported by 'uname -p', except on Windows and Mac OS X | ||||
| Package 523/2361 | Hostname | OS / Arch | INSTALL | BUILD | CHECK | BUILD BIN | ||||||||
| DAPAR 1.42.0 (landing page) Samuel Wieczorek
| nebbiolo2 | Linux (Ubuntu 24.04.3 LTS) / x86_64 | OK | OK | OK | |||||||||
| merida1 | macOS 12.7.6 Monterey / x86_64 | OK | OK | OK | OK | |||||||||
| kjohnson1 | macOS 13.7.5 Ventura / arm64 | OK | OK | OK | OK | |||||||||
| taishan | Linux (openEuler 24.03 LTS) / aarch64 | OK | OK | OK | ||||||||||
|
To the developers/maintainers of the DAPAR package: - Allow up to 24 hours (and sometimes 48 hours) for your latest push to git@git.bioconductor.org:packages/DAPAR.git to reflect on this report. See Troubleshooting Build Report for more information. - Use the following Renviron settings to reproduce errors and warnings. - If 'R CMD check' started to fail recently on the Linux builder(s) over a missing dependency, add the missing dependency to 'Suggests:' in your DESCRIPTION file. See Renviron.bioc for more information. |
| Package: DAPAR |
| Version: 1.42.0 |
| Command: /Library/Frameworks/R.framework/Resources/bin/R CMD check --install=check:DAPAR.install-out.txt --library=/Library/Frameworks/R.framework/Resources/library --no-vignettes --timings DAPAR_1.42.0.tar.gz |
| StartedAt: 2025-11-18 06:12:11 -0500 (Tue, 18 Nov 2025) |
| EndedAt: 2025-11-18 06:31:29 -0500 (Tue, 18 Nov 2025) |
| EllapsedTime: 1158.5 seconds |
| RetCode: 0 |
| Status: OK |
| CheckDir: DAPAR.Rcheck |
| Warnings: 0 |
##############################################################################
##############################################################################
###
### Running command:
###
### /Library/Frameworks/R.framework/Resources/bin/R CMD check --install=check:DAPAR.install-out.txt --library=/Library/Frameworks/R.framework/Resources/library --no-vignettes --timings DAPAR_1.42.0.tar.gz
###
##############################################################################
##############################################################################
* using log directory ‘/Users/biocbuild/bbs-3.22-bioc/meat/DAPAR.Rcheck’
* using R version 4.5.2 Patched (2025-11-05 r88990)
* using platform: x86_64-apple-darwin20
* R was compiled by
Apple clang version 14.0.0 (clang-1400.0.29.202)
GNU Fortran (GCC) 14.2.0
* running under: macOS Monterey 12.7.6
* using session charset: UTF-8
* using option ‘--no-vignettes’
* checking for file ‘DAPAR/DESCRIPTION’ ... OK
* checking extension type ... Package
* this is package ‘DAPAR’ version ‘1.42.0’
* package encoding: UTF-8
* checking package namespace information ... OK
* checking package dependencies ... INFO
Vignette dependency required without any vignettes: ‘knitr’
* checking if this is a source package ... OK
* checking if there is a namespace ... OK
* checking for hidden files and directories ... OK
* checking for portable file names ... OK
* checking for sufficient/correct file permissions ... OK
* checking whether package ‘DAPAR’ can be installed ... OK
* checking installed package size ... OK
* checking package directory ... OK
* checking DESCRIPTION meta-information ... OK
* checking top-level files ... OK
* checking for left-over files ... OK
* checking index information ... OK
* checking package subdirectories ... OK
* checking code files for non-ASCII characters ... OK
* checking R files for syntax errors ... OK
* checking whether the package can be loaded ... OK
* checking whether the package can be loaded with stated dependencies ... OK
* checking whether the package can be unloaded cleanly ... OK
* checking whether the namespace can be loaded with stated dependencies ... OK
* checking whether the namespace can be unloaded cleanly ... OK
* checking whether startup messages can be suppressed ... OK
* checking dependencies in R code ... OK
* checking S3 generic/method consistency ... OK
* checking replacement functions ... OK
* checking foreign function calls ... OK
* checking R code for possible problems ... NOTE
Check_Dataset_Validity: no visible global function definition for
‘exprs’
OWAnova: no visible global function definition for ‘aov’
aggregateIterParallel: no visible binding for global variable ‘cond’
averageIntensities: no visible binding for global variable ‘condition’
averageIntensities: no visible binding for global variable ‘feature’
averageIntensities: no visible binding for global variable ‘intensity’
createMSnset: no visible global function definition for
‘installed.packages’
createMSnset: no visible binding for global variable ‘Prostar.loc’
createMSnset2: no visible global function definition for
‘installed.packages’
createMSnset2: no visible binding for global variable ‘Prostar.loc’
diffAnaVolcanoplot_rCharts: no visible binding for global variable ‘x’
diffAnaVolcanoplot_rCharts: no visible binding for global variable ‘y’
diffAnaVolcanoplot_rCharts: no visible binding for global variable ‘g’
display.CC.visNet: no visible binding for global variable
‘layout_nicely’
getTextForGOAnalysis: no visible binding for global variable
‘textGOParams’
getTextForGOAnalysis: no visible binding for global variable ‘input’
globalAdjPval: no visible global function definition for ‘stack’
heatmapForMissingValues: no visible binding for global variable ‘par’
limmaCompleteTest: no visible binding for global variable ‘A’
limmaCompleteTest: no visible binding for global variable ‘B’
limmaCompleteTest: no visible binding for global variable ‘P.Value’
pepa.test: no visible global function definition for ‘nodes<-’
testAnovaModels : <anonymous>: no visible global function definition
for ‘TukeyHSD’
visualizeClusters: no visible binding for global variable
‘adjusted_pvalues’
visualizeClusters: no visible binding for global variable ‘Condition’
visualizeClusters: no visible binding for global variable ‘Intensity’
visualizeClusters: no visible binding for global variable
‘FDR_threshold’
visualizeClusters: no visible binding for global variable ‘feature’
wrapperClassic1wayAnova: no visible binding for global variable
‘Pr(>F)1’
wrapperRunClustering: no visible global function definition for ‘str_c’
Undefined global functions or variables:
A B Condition FDR_threshold Intensity P.Value Pr(>F)1 Prostar.loc
TukeyHSD adjusted_pvalues aov cond condition exprs feature g input
installed.packages intensity layout_nicely nodes<- par stack str_c
textGOParams x y
Consider adding
importFrom("graphics", "par")
importFrom("stats", "TukeyHSD", "aov")
importFrom("utils", "installed.packages", "stack")
to your NAMESPACE file.
* checking Rd files ... OK
* checking Rd metadata ... OK
* checking Rd cross-references ... OK
* checking for missing documentation entries ... OK
* checking for code/documentation mismatches ... OK
* checking Rd \usage sections ... OK
* checking Rd contents ... OK
* checking for unstated dependencies in examples ... OK
* checking examples ... OK
Examples with CPU (user + system) or elapsed time > 5s
user system elapsed
wrapper.compareNormalizationD_HC 107.805 48.119 164.210
wrapper.dapar.impute.mi 30.508 3.516 35.597
barplotEnrichGO_HC 15.040 3.180 18.769
checkClusterability 6.122 3.664 9.914
barplotGroupGO_HC 8.474 1.153 9.968
scatterplotEnrichGO_HC 8.418 1.041 10.300
enrich_GO 8.382 1.047 9.539
group_GO 8.386 1.028 9.581
densityPlotD_HC 6.215 2.390 8.870
CVDistD_HC 6.298 0.439 6.834
wrapper.CVDistD_HC 4.782 1.953 7.453
mvImage 5.423 0.324 6.380
wrapperRunClustering 4.860 0.716 5.718
* checking for unstated dependencies in ‘tests’ ... OK
* checking tests ...
Running ‘testthat.R’
OK
* checking PDF version of manual ... OK
* DONE
Status: 1 NOTE
See
‘/Users/biocbuild/bbs-3.22-bioc/meat/DAPAR.Rcheck/00check.log’
for details.
DAPAR.Rcheck/00install.out
############################################################################## ############################################################################## ### ### Running command: ### ### /Library/Frameworks/R.framework/Resources/bin/R CMD INSTALL DAPAR ### ############################################################################## ############################################################################## * installing to library ‘/Library/Frameworks/R.framework/Versions/4.5-x86_64/Resources/library’ * installing *source* package ‘DAPAR’ ... ** this is package ‘DAPAR’ version ‘1.42.0’ ** using staged installation ** R ** inst ** byte-compile and prepare package for lazy loading ** help *** installing help indices ** building package indices ** testing if installed package can be loaded from temporary location ** testing if installed package can be loaded from final location ** testing if installed package keeps a record of temporary installation path * DONE (DAPAR)
DAPAR.Rcheck/tests/testthat.Rout
R version 4.5.2 Patched (2025-11-05 r88990) -- "[Not] Part in a Rumble"
Copyright (C) 2025 The R Foundation for Statistical Computing
Platform: x86_64-apple-darwin20
R is free software and comes with ABSOLUTELY NO WARRANTY.
You are welcome to redistribute it under certain conditions.
Type 'license()' or 'licence()' for distribution details.
R is a collaborative project with many contributors.
Type 'contributors()' for more information and
'citation()' on how to cite R or R packages in publications.
Type 'demo()' for some demos, 'help()' for on-line help, or
'help.start()' for an HTML browser interface to help.
Type 'q()' to quit R.
> library(testthat)
> library(DAPAR)
This is the 'DAPAR' version 1.42.0.
To get started, visit
http://www.prostar-proteomics.org/
>
> test_check("DAPAR")
Iterations:
1 / 1 - Imputation MNAR OK -
Imputation MCAR in progress -
3 % - 6 % - 9 % - 12 % - 15 % - 18 % - 21 % - 24 % - 27 % - 30 % - 33 % - 36 % - 39 % - 42 % - 45 % - 48 % - 51 % - 54 % - 57 % - 60 % - 63 % - 66 % - 69 % - 72 % - 75 % - 78 % - 81 % - 84 % - 87 % - 90 % - 93 % - 96 % - 99 % -
Iterations:
1 / 1 - Imputation MNAR OK -
Imputation MCAR in progress -
3 % - 6 % - 9 % - 12 % - 15 % - 18 % - 21 % - 24 % - 27 % - 30 % - 33 % - 36 % - 39 % - 42 % - 45 % - 48 % - 51 % - 54 % - 57 % - 60 % - 63 % - 66 % - 69 % - 72 % - 75 % - 78 % - 81 % - 84 % - 87 % - 90 % - 93 % - 96 % - 99 % -
Imputation in condition 1 ...
In progress: 10 % - 20 % - 30 % - 40 % - 50 % - 60 % - 70 % - 80 % - 90 % - 100 % -
Imputation in condition 2 ...
In progress: 10 % - 20 % - 30 % - 40 % - 50 % - 60 % - 70 % - 80 % - 90 % - 100 % - [ FAIL 0 | WARN 17 | SKIP 9 | PASS 66 ]
══ Skipped tests (9) ═══════════════════════════════════════════════════════════
• empty test (9): , , , , , , , ,
[ FAIL 0 | WARN 17 | SKIP 9 | PASS 66 ]
>
> proc.time()
user system elapsed
68.463 2.823 76.255
DAPAR.Rcheck/DAPAR-Ex.timings
| name | user | system | elapsed | |
| AggregateMetacell | 1.063 | 0.039 | 1.120 | |
| BuildAdjacencyMatrix | 0.851 | 0.018 | 0.882 | |
| BuildColumnToProteinDataset | 1.064 | 0.018 | 1.122 | |
| BuildMetaCell | 2.021 | 0.041 | 2.095 | |
| CVDistD_HC | 6.298 | 0.439 | 6.834 | |
| Children | 0.012 | 0.001 | 0.012 | |
| CountPep | 0.921 | 0.016 | 0.977 | |
| ExtendPalette | 0.058 | 0.003 | 0.064 | |
| GOAnalysisSave | 0 | 0 | 0 | |
| GetCC | 3.360 | 0.045 | 3.537 | |
| GetColorsForConditions | 0.817 | 0.013 | 0.844 | |
| GetDetailedNbPeptides | 0.862 | 0.013 | 0.882 | |
| GetDetailedNbPeptidesUsed | 0.001 | 0.000 | 0.001 | |
| GetIndices_BasedOnConditions | 0.841 | 0.014 | 0.894 | |
| GetIndices_MetacellFiltering | 0.851 | 0.013 | 0.872 | |
| GetIndices_WholeLine | 0.843 | 0.013 | 0.867 | |
| GetIndices_WholeMatrix | 0.835 | 0.014 | 0.884 | |
| GetKeyId | 0.807 | 0.012 | 0.861 | |
| GetMatAdj | 0.948 | 0.015 | 0.985 | |
| GetMetacell | 0.000 | 0.000 | 0.001 | |
| GetMetacellTags | 0.843 | 0.015 | 0.872 | |
| GetNbPeptidesUsed | 0.843 | 0.017 | 0.898 | |
| GetNbTags | 0.000 | 0.001 | 0.001 | |
| GetSoftAvailables | 0.001 | 0.001 | 0.001 | |
| GetTypeofData | 0.808 | 0.016 | 0.854 | |
| Get_AllComparisons | 0.521 | 0.024 | 0.568 | |
| GlobalQuantileAlignment | 0.834 | 0.012 | 0.885 | |
| GraphPepProt | 0.850 | 0.013 | 0.896 | |
| LH0 | 0.000 | 0.000 | 0.001 | |
| LH0.lm | 0.000 | 0.000 | 0.001 | |
| LH1 | 0 | 0 | 0 | |
| LH1.lm | 0.001 | 0.001 | 0.001 | |
| LOESS | 2.014 | 0.024 | 2.126 | |
| MeanCentering | 0.835 | 0.023 | 0.898 | |
| MetaCellFiltering | 1.193 | 0.017 | 1.261 | |
| MetacellFilteringScope | 0.000 | 0.001 | 0.001 | |
| Metacell_DIA_NN | 0.863 | 0.017 | 0.918 | |
| Metacell_generic | 0.766 | 0.022 | 0.809 | |
| Metacell_maxquant | 0.822 | 0.022 | 0.856 | |
| Metacell_proline | 0.770 | 0.016 | 0.812 | |
| NumericalFiltering | 0.915 | 0.015 | 0.964 | |
| NumericalgetIndicesOfLinesToRemove | 0.824 | 0.012 | 0.864 | |
| OWAnova | 0.011 | 0.001 | 0.011 | |
| QuantileCentering | 0.870 | 0.019 | 0.920 | |
| SetCC | 2.857 | 0.023 | 2.974 | |
| SetMatAdj | 0.912 | 0.013 | 0.930 | |
| Set_POV_MEC_tags | 0.812 | 0.012 | 0.827 | |
| StringBasedFiltering | 0.904 | 0.017 | 1.049 | |
| StringBasedFiltering2 | 0.892 | 0.012 | 0.951 | |
| SumByColumns | 3.696 | 0.089 | 4.128 | |
| SymFilteringOperators | 0.000 | 0.000 | 0.001 | |
| UpdateMetacellAfterImputation | 0.854 | 0.016 | 0.930 | |
| aggregateIter | 1.176 | 0.016 | 1.207 | |
| aggregateIterParallel | 0.000 | 0.001 | 0.001 | |
| aggregateMean | 1.021 | 0.013 | 1.048 | |
| aggregateSum | 1.080 | 0.014 | 1.107 | |
| aggregateTopn | 0.994 | 0.016 | 1.046 | |
| applyAnovasOnProteins | 0.233 | 0.009 | 0.257 | |
| averageIntensities | 1.120 | 0.228 | 1.443 | |
| barplotEnrichGO_HC | 15.040 | 3.180 | 18.769 | |
| barplotGroupGO_HC | 8.474 | 1.153 | 9.968 | |
| boxPlotD_HC | 0.501 | 0.148 | 0.660 | |
| buildGraph | 2.202 | 0.063 | 2.305 | |
| check.conditions | 0.773 | 0.013 | 0.789 | |
| check.design | 0.784 | 0.012 | 0.799 | |
| checkClusterability | 6.122 | 3.664 | 9.914 | |
| classic1wayAnova | 0 | 0 | 0 | |
| compareNormalizationD_HC | 0.296 | 0.102 | 0.402 | |
| compute.selection.table | 1.471 | 0.261 | 1.762 | |
| compute_t_tests | 2.413 | 0.350 | 2.824 | |
| corrMatrixD_HC | 0.961 | 0.114 | 1.103 | |
| createMSnset | 3.155 | 0.161 | 3.452 | |
| createMSnset2 | 3.092 | 0.151 | 3.282 | |
| dapar_hc_ExportMenu | 0.276 | 0.245 | 0.522 | |
| dapar_hc_chart | 0.118 | 0.087 | 0.216 | |
| deleteLinesFromIndices | 0.887 | 0.040 | 0.934 | |
| densityPlotD_HC | 6.215 | 2.390 | 8.870 | |
| diffAnaComputeAdjustedPValues | 0.319 | 0.070 | 0.415 | |
| diffAnaComputeFDR | 0.000 | 0.001 | 0.001 | |
| diffAnaGetSignificant | 0.501 | 0.091 | 0.601 | |
| diffAnaSave | 0.536 | 0.124 | 0.674 | |
| diffAnaVolcanoplot | 0.290 | 0.040 | 0.342 | |
| diffAnaVolcanoplot_rCharts | 0.722 | 0.191 | 0.923 | |
| display.CC.visNet | 2.457 | 0.135 | 2.662 | |
| enrich_GO | 8.382 | 1.047 | 9.539 | |
| finalizeAggregation | 0.000 | 0.000 | 0.001 | |
| findMECBlock | 0.871 | 0.028 | 0.942 | |
| formatHSDResults | 0.000 | 0.001 | 0.000 | |
| formatLimmaResult | 0.312 | 0.045 | 0.397 | |
| formatPHResults | 0.000 | 0.000 | 0.001 | |
| formatPHTResults | 0 | 0 | 0 | |
| fudge2LRT | 0.000 | 0.000 | 0.001 | |
| get.pep.prot.cc | 2.073 | 0.047 | 2.171 | |
| getDesignLevel | 0.779 | 0.013 | 0.813 | |
| getIndicesConditions | 0.791 | 0.015 | 0.907 | |
| getIndicesOfLinesToRemove | 0.815 | 0.023 | 0.867 | |
| getListNbValuesInLines | 0.778 | 0.012 | 0.798 | |
| getNumberOf | 0.816 | 0.023 | 0.883 | |
| getNumberOfEmptyLines | 0.817 | 0.015 | 0.857 | |
| getPourcentageOfMV | 0.842 | 0.029 | 0.881 | |
| getProcessingInfo | 0.768 | 0.014 | 0.796 | |
| getProteinsStats | 0.838 | 0.027 | 0.885 | |
| getQuantile4Imp | 0.184 | 0.008 | 0.193 | |
| getTextForAggregation | 0.001 | 0.000 | 0.000 | |
| getTextForAnaDiff | 0.000 | 0.001 | 0.001 | |
| getTextForFiltering | 0.001 | 0.000 | 0.000 | |
| getTextForGOAnalysis | 0.001 | 0.001 | 0.001 | |
| getTextForHypothesisTest | 0.000 | 0.001 | 0.001 | |
| getTextForNewDataset | 0.004 | 0.000 | 0.004 | |
| getTextForNormalization | 0.000 | 0.000 | 0.001 | |
| getTextForpeptideImputation | 0.001 | 0.001 | 0.001 | |
| getTextForproteinImputation | 0.000 | 0.001 | 0.001 | |
| globalAdjPval | 0.915 | 0.087 | 1.032 | |
| group_GO | 8.386 | 1.028 | 9.581 | |
| hc_logFC_DensityPlot | 1.423 | 0.542 | 1.981 | |
| hc_mvTypePlot2 | 1.839 | 0.523 | 2.386 | |
| heatmapD | 1.317 | 0.109 | 1.633 | |
| heatmapForMissingValues | 0.343 | 0.045 | 0.440 | |
| histPValue_HC | 0.556 | 0.147 | 0.725 | |
| impute.pa2 | 0.895 | 0.044 | 1.013 | |
| inner.aggregate.iter | 0.915 | 0.041 | 1.009 | |
| inner.aggregate.topn | 0.855 | 0.026 | 0.930 | |
| inner.mean | 0.858 | 0.026 | 0.910 | |
| inner.sum | 0.847 | 0.024 | 0.899 | |
| is.subset | 0.001 | 0.001 | 0.001 | |
| limmaCompleteTest | 3.545 | 0.108 | 3.793 | |
| listSheets | 0.000 | 0.001 | 0.001 | |
| make.contrast | 0.811 | 0.014 | 0.906 | |
| make.design.1 | 0.816 | 0.015 | 0.974 | |
| make.design.2 | 0.818 | 0.017 | 1.099 | |
| make.design.3 | 0.824 | 0.018 | 0.902 | |
| make.design | 0.808 | 0.015 | 0.869 | |
| match.metacell | 0.868 | 0.028 | 0.961 | |
| metacell.def | 0.011 | 0.005 | 0.017 | |
| metacellHisto_HC | 0.961 | 0.104 | 1.166 | |
| metacellPerLinesHistoPerCondition_HC | 1.133 | 0.189 | 1.418 | |
| metacellPerLinesHisto_HC | 1.395 | 0.435 | 1.928 | |
| metacombine | 0.428 | 0.022 | 0.459 | |
| mvImage | 5.423 | 0.324 | 6.380 | |
| my_hc_ExportMenu | 0.261 | 0.240 | 0.518 | |
| my_hc_chart | 0.262 | 0.287 | 0.753 | |
| nonzero | 0.026 | 0.004 | 0.031 | |
| normalizeMethods.dapar | 0.001 | 0.001 | 0.001 | |
| pepa.test | 0.846 | 0.058 | 1.037 | |
| pkgs.require | 0.000 | 0.000 | 0.002 | |
| plotJitter | 2.253 | 0.071 | 2.517 | |
| plotJitter_rCharts | 2.246 | 0.136 | 2.516 | |
| plotPCA_Eigen | 0.958 | 0.072 | 1.082 | |
| plotPCA_Eigen_hc | 0.779 | 0.014 | 0.822 | |
| plotPCA_Ind | 0.791 | 0.019 | 0.850 | |
| plotPCA_Var | 0.782 | 0.014 | 0.820 | |
| postHocTest | 0.001 | 0.000 | 0.001 | |
| proportionConRev_HC | 0.102 | 0.088 | 0.211 | |
| rbindMSnset | 0.983 | 0.069 | 1.099 | |
| reIntroduceMEC | 0.888 | 0.058 | 1.080 | |
| readExcel | 0.000 | 0.000 | 0.001 | |
| removeLines | 0.868 | 0.065 | 1.090 | |
| samLRT | 0.000 | 0.001 | 0.001 | |
| saveParameters | 0.764 | 0.026 | 0.891 | |
| scatterplotEnrichGO_HC | 8.418 | 1.041 | 10.300 | |
| search.metacell.tags | 0.015 | 0.004 | 0.019 | |
| separateAdjPval | 0.319 | 0.027 | 0.381 | |
| splitAdjacencyMat | 0.853 | 0.028 | 0.926 | |
| test.design | 0.908 | 0.026 | 0.976 | |
| testAnovaModels | 0.229 | 0.024 | 0.263 | |
| thresholdpval4fdr | 0 | 0 | 0 | |
| translatedRandomBeta | 0.006 | 0.026 | 0.032 | |
| univ_AnnotDbPkg | 0.315 | 0.154 | 0.495 | |
| violinPlotD | 0.498 | 0.037 | 0.571 | |
| visualizeClusters | 3.037 | 0.389 | 3.881 | |
| vsn | 1.263 | 0.106 | 1.732 | |
| wrapper.CVDistD_HC | 4.782 | 1.953 | 7.453 | |
| wrapper.compareNormalizationD_HC | 107.805 | 48.119 | 164.210 | |
| wrapper.corrMatrixD_HC | 1.060 | 0.139 | 1.242 | |
| wrapper.dapar.impute.mi | 30.508 | 3.516 | 35.597 | |
| wrapper.heatmapD | 1.163 | 0.081 | 1.421 | |
| wrapper.impute.KNN | 0.876 | 0.042 | 0.946 | |
| wrapper.impute.detQuant | 0.970 | 0.065 | 1.075 | |
| wrapper.impute.fixedValue | 0.968 | 0.065 | 1.092 | |
| wrapper.impute.mle | 0.875 | 0.044 | 1.069 | |
| wrapper.impute.pa | 0.277 | 0.040 | 0.352 | |
| wrapper.impute.pa2 | 0.890 | 0.051 | 1.000 | |
| wrapper.impute.slsa | 1.247 | 0.097 | 1.405 | |
| wrapper.mvImage | 0.330 | 0.049 | 0.405 | |
| wrapper.normalizeD | 0.816 | 0.017 | 0.893 | |
| wrapper.pca | 0.320 | 0.052 | 0.377 | |
| wrapperCalibrationPlot | 0.372 | 0.054 | 0.433 | |
| wrapperClassic1wayAnova | 0.000 | 0.001 | 0.001 | |
| wrapperRunClustering | 4.860 | 0.716 | 5.718 | |
| write.excel | 1.619 | 0.259 | 1.936 | |
| writeMSnsetToCSV | 0.850 | 0.045 | 0.935 | |
| writeMSnsetToExcel | 2.169 | 0.410 | 2.659 | |