Back to Multiple platform build/check report for BioC 3.21:   simplified   long
ABC[D]EFGHIJKLMNOPQRSTUVWXYZ

This page was generated on 2025-10-16 11:40 -0400 (Thu, 16 Oct 2025).

HostnameOSArch (*)R versionInstalled pkgs
nebbiolo1Linux (Ubuntu 24.04.3 LTS)x86_644.5.1 (2025-06-13) -- "Great Square Root" 4833
merida1macOS 12.7.6 Montereyx86_644.5.1 RC (2025-06-05 r88288) -- "Great Square Root" 4614
kjohnson1macOS 13.7.5 Venturaarm644.5.1 Patched (2025-06-14 r88325) -- "Great Square Root" 4555
kunpeng2Linux (openEuler 24.03 LTS)aarch64R Under development (unstable) (2025-02-19 r87757) -- "Unsuffered Consequences" 4586
Click on any hostname to see more info about the system (e.g. compilers)      (*) as reported by 'uname -p', except on Windows and Mac OS X

Package 515/2341HostnameOS / ArchINSTALLBUILDCHECKBUILD BIN
DAPAR 1.40.0  (landing page)
Samuel Wieczorek
Snapshot Date: 2025-10-13 13:40 -0400 (Mon, 13 Oct 2025)
git_url: https://git.bioconductor.org/packages/DAPAR
git_branch: RELEASE_3_21
git_last_commit: e38913f
git_last_commit_date: 2025-04-15 10:53:48 -0400 (Tue, 15 Apr 2025)
nebbiolo1Linux (Ubuntu 24.04.3 LTS) / x86_64  OK    OK    OK  UNNEEDED, same version is already published
merida1macOS 12.7.6 Monterey / x86_64  OK    OK    OK    OK  UNNEEDED, same version is already published
kjohnson1macOS 13.7.5 Ventura / arm64  OK    OK    OK    OK  UNNEEDED, same version is already published
kunpeng2Linux (openEuler 24.03 LTS) / aarch64  OK    OK    OK  


CHECK results for DAPAR on kjohnson1

To the developers/maintainers of the DAPAR package:
- Allow up to 24 hours (and sometimes 48 hours) for your latest push to git@git.bioconductor.org:packages/DAPAR.git to reflect on this report. See Troubleshooting Build Report for more information.
- Use the following Renviron settings to reproduce errors and warnings.
- If 'R CMD check' started to fail recently on the Linux builder(s) over a missing dependency, add the missing dependency to 'Suggests:' in your DESCRIPTION file. See Renviron.bioc for more information.

raw results


Summary

Package: DAPAR
Version: 1.40.0
Command: /Library/Frameworks/R.framework/Resources/bin/R CMD check --install=check:DAPAR.install-out.txt --library=/Library/Frameworks/R.framework/Resources/library --no-vignettes --timings DAPAR_1.40.0.tar.gz
StartedAt: 2025-10-14 18:43:23 -0400 (Tue, 14 Oct 2025)
EndedAt: 2025-10-14 18:55:36 -0400 (Tue, 14 Oct 2025)
EllapsedTime: 733.7 seconds
RetCode: 0
Status:   OK  
CheckDir: DAPAR.Rcheck
Warnings: 0

Command output

##############################################################################
##############################################################################
###
### Running command:
###
###   /Library/Frameworks/R.framework/Resources/bin/R CMD check --install=check:DAPAR.install-out.txt --library=/Library/Frameworks/R.framework/Resources/library --no-vignettes --timings DAPAR_1.40.0.tar.gz
###
##############################################################################
##############################################################################


* using log directory ‘/Users/biocbuild/bbs-3.21-bioc/meat/DAPAR.Rcheck’
* using R version 4.5.1 Patched (2025-06-14 r88325)
* using platform: aarch64-apple-darwin20
* R was compiled by
    Apple clang version 16.0.0 (clang-1600.0.26.6)
    GNU Fortran (GCC) 14.2.0
* running under: macOS Ventura 13.7.5
* using session charset: UTF-8
* using option ‘--no-vignettes’
* checking for file ‘DAPAR/DESCRIPTION’ ... OK
* checking extension type ... Package
* this is package ‘DAPAR’ version ‘1.40.0’
* package encoding: UTF-8
* checking package namespace information ... OK
* checking package dependencies ... INFO
Vignette dependency required without any vignettes: ‘knitr’
* checking if this is a source package ... OK
* checking if there is a namespace ... OK
* checking for hidden files and directories ... OK
* checking for portable file names ... OK
* checking for sufficient/correct file permissions ... OK
* checking whether package ‘DAPAR’ can be installed ... OK
* checking installed package size ... OK
* checking package directory ... OK
* checking DESCRIPTION meta-information ... OK
* checking top-level files ... OK
* checking for left-over files ... OK
* checking index information ... OK
* checking package subdirectories ... OK
* checking code files for non-ASCII characters ... OK
* checking R files for syntax errors ... OK
* checking whether the package can be loaded ... OK
* checking whether the package can be loaded with stated dependencies ... OK
* checking whether the package can be unloaded cleanly ... OK
* checking whether the namespace can be loaded with stated dependencies ... OK
* checking whether the namespace can be unloaded cleanly ... OK
* checking whether startup messages can be suppressed ... OK
* checking dependencies in R code ... OK
* checking S3 generic/method consistency ... OK
* checking replacement functions ... OK
* checking foreign function calls ... OK
* checking R code for possible problems ... NOTE
Check_Dataset_Validity: no visible global function definition for
  ‘exprs’
OWAnova: no visible global function definition for ‘aov’
aggregateIterParallel: no visible binding for global variable ‘cond’
averageIntensities: no visible binding for global variable ‘condition’
averageIntensities: no visible binding for global variable ‘feature’
averageIntensities: no visible binding for global variable ‘intensity’
createMSnset: no visible global function definition for
  ‘installed.packages’
createMSnset: no visible binding for global variable ‘Prostar.loc’
createMSnset2: no visible global function definition for
  ‘installed.packages’
createMSnset2: no visible binding for global variable ‘Prostar.loc’
diffAnaVolcanoplot_rCharts: no visible binding for global variable ‘x’
diffAnaVolcanoplot_rCharts: no visible binding for global variable ‘y’
diffAnaVolcanoplot_rCharts: no visible binding for global variable ‘g’
display.CC.visNet: no visible binding for global variable
  ‘layout_nicely’
getTextForGOAnalysis: no visible binding for global variable
  ‘textGOParams’
getTextForGOAnalysis: no visible binding for global variable ‘input’
globalAdjPval: no visible global function definition for ‘stack’
heatmapForMissingValues: no visible binding for global variable ‘par’
limmaCompleteTest: no visible binding for global variable ‘A’
limmaCompleteTest: no visible binding for global variable ‘B’
limmaCompleteTest: no visible binding for global variable ‘P.Value’
pepa.test: no visible global function definition for ‘nodes<-’
testAnovaModels : <anonymous>: no visible global function definition
  for ‘TukeyHSD’
visualizeClusters: no visible binding for global variable
  ‘adjusted_pvalues’
visualizeClusters: no visible binding for global variable ‘Condition’
visualizeClusters: no visible binding for global variable ‘Intensity’
visualizeClusters: no visible binding for global variable
  ‘FDR_threshold’
visualizeClusters: no visible binding for global variable ‘feature’
wrapperClassic1wayAnova: no visible binding for global variable
  ‘Pr(>F)1’
wrapperRunClustering: no visible global function definition for ‘str_c’
Undefined global functions or variables:
  A B Condition FDR_threshold Intensity P.Value Pr(>F)1 Prostar.loc
  TukeyHSD adjusted_pvalues aov cond condition exprs feature g input
  installed.packages intensity layout_nicely nodes<- par stack str_c
  textGOParams x y
Consider adding
  importFrom("graphics", "par")
  importFrom("stats", "TukeyHSD", "aov")
  importFrom("utils", "installed.packages", "stack")
to your NAMESPACE file.
* checking Rd files ... OK
* checking Rd metadata ... OK
* checking Rd cross-references ... OK
* checking for missing documentation entries ... OK
* checking for code/documentation mismatches ... OK
* checking Rd \usage sections ... OK
* checking Rd contents ... OK
* checking for unstated dependencies in examples ... OK
* checking examples ... OK
Examples with CPU (user + system) or elapsed time > 5s
                                   user system elapsed
wrapper.compareNormalizationD_HC 46.646 17.878  86.116
wrapper.dapar.impute.mi          17.876  1.389  27.940
barplotEnrichGO_HC               10.540  1.746  15.126
barplotGroupGO_HC                 6.265  0.731   7.670
enrich_GO                         6.346  0.640  10.214
group_GO                          6.162  0.622   7.160
scatterplotEnrichGO_HC            5.772  0.532   7.153
checkClusterability               3.069  1.733   6.101
wrapperRunClustering              4.257  0.392   6.290
densityPlotD_HC                   2.984  1.052   6.154
* checking for unstated dependencies in ‘tests’ ... OK
* checking tests ...
  Running ‘testthat.R’
 OK
* checking PDF version of manual ... OK
* DONE

Status: 1 NOTE
See
  ‘/Users/biocbuild/bbs-3.21-bioc/meat/DAPAR.Rcheck/00check.log’
for details.


Installation output

DAPAR.Rcheck/00install.out

##############################################################################
##############################################################################
###
### Running command:
###
###   /Library/Frameworks/R.framework/Resources/bin/R CMD INSTALL DAPAR
###
##############################################################################
##############################################################################


* installing to library ‘/Library/Frameworks/R.framework/Versions/4.5-arm64/Resources/library’
* installing *source* package ‘DAPAR’ ...
** this is package ‘DAPAR’ version ‘1.40.0’
** using staged installation
** R
** inst
** byte-compile and prepare package for lazy loading
** help
*** installing help indices
** building package indices
** testing if installed package can be loaded from temporary location
** testing if installed package can be loaded from final location
** testing if installed package keeps a record of temporary installation path
* DONE (DAPAR)

Tests output

DAPAR.Rcheck/tests/testthat.Rout


R version 4.5.1 Patched (2025-06-14 r88325) -- "Great Square Root"
Copyright (C) 2025 The R Foundation for Statistical Computing
Platform: aarch64-apple-darwin20

R is free software and comes with ABSOLUTELY NO WARRANTY.
You are welcome to redistribute it under certain conditions.
Type 'license()' or 'licence()' for distribution details.

R is a collaborative project with many contributors.
Type 'contributors()' for more information and
'citation()' on how to cite R or R packages in publications.

Type 'demo()' for some demos, 'help()' for on-line help, or
'help.start()' for an HTML browser interface to help.
Type 'q()' to quit R.

> library(testthat)
> library(DAPAR)

This is the 'DAPAR' version 1.40.0.

  To get started, visit
    http://www.prostar-proteomics.org/


> 
> test_check("DAPAR")

 Iterations: 

 1 / 1  - Imputation MNAR OK - 
Imputation MCAR in progress - 
3 % - 6 % - 9 % - 12 % - 15 % - 18 % - 21 % - 24 % - 27 % - 30 % - 33 % - 36 % - 39 % - 42 % - 45 % - 48 % - 51 % - 54 % - 57 % - 60 % - 63 % - 66 % - 69 % - 72 % - 75 % - 78 % - 81 % - 84 % - 87 % - 90 % - 93 % - 96 % - 99 % - 
 Iterations: 

 1 / 1  - Imputation MNAR OK - 
Imputation MCAR in progress - 
3 % - 6 % - 9 % - 12 % - 15 % - 18 % - 21 % - 24 % - 27 % - 30 % - 33 % - 36 % - 39 % - 42 % - 45 % - 48 % - 51 % - 54 % - 57 % - 60 % - 63 % - 66 % - 69 % - 72 % - 75 % - 78 % - 81 % - 84 % - 87 % - 90 % - 93 % - 96 % - 99 % - 
 Imputation in condition  1 ...
 In progress: 10 % - 20 % - 30 % - 40 % - 50 % - 60 % - 70 % - 80 % - 90 % - 100 % - 
 Imputation in condition  2 ...
 In progress: 10 % - 20 % - 30 % - 40 % - 50 % - 60 % - 70 % - 80 % - 90 % - 100 % - [ FAIL 0 | WARN 17 | SKIP 0 | PASS 66 ]

[ FAIL 0 | WARN 17 | SKIP 0 | PASS 66 ]
> 
> proc.time()
   user  system elapsed 
 39.461   1.916  44.997 

Example timings

DAPAR.Rcheck/DAPAR-Ex.timings

nameusersystemelapsed
AggregateMetacell0.7400.0300.857
BuildAdjacencyMatrix0.6070.0220.686
BuildColumnToProteinDataset0.7320.0220.812
BuildMetaCell2.1050.0512.421
CVDistD_HC2.3750.1582.838
Children0.0040.0000.005
CountPep0.6370.0180.741
ExtendPalette0.0300.0020.038
GOAnalysisSave000
GetCC3.2530.1783.641
GetColorsForConditions0.5700.0140.606
GetDetailedNbPeptides0.6030.0170.638
GetDetailedNbPeptidesUsed000
GetIndices_BasedOnConditions0.4660.0170.523
GetIndices_MetacellFiltering0.3750.0170.451
GetIndices_WholeLine0.4510.0200.530
GetIndices_WholeMatrix0.4450.0211.296
GetKeyId0.5810.0190.627
GetMatAdj0.6360.0210.709
GetMetacell000
GetMetacellTags0.5800.0210.681
GetNbPeptidesUsed0.5760.0220.790
GetNbTags000
GetSoftAvailables0.0010.0000.000
GetTypeofData0.5090.0201.193
Get_AllComparisons0.3600.0320.506
GlobalQuantileAlignment0.6150.0200.652
GraphPepProt0.6100.0210.659
LH0000
LH0.lm0.0000.0000.001
LH1000
LH1.lm000
LOESS1.4740.0591.595
MeanCentering0.5910.0220.682
MetaCellFiltering0.7660.0190.836
MetacellFilteringScope0.0010.0000.001
Metacell_DIA_NN0.7770.0210.813
Metacell_generic0.6370.0220.677
Metacell_maxquant0.5870.0250.664
Metacell_proline0.6090.0240.724
NumericalFiltering0.5780.0250.689
NumericalgetIndicesOfLinesToRemove0.3680.0150.426
OWAnova0.0080.0010.009
QuantileCentering0.4820.0180.558
SetCC3.0250.0353.394
SetMatAdj0.5990.0110.701
Set_POV_MEC_tags0.5620.0130.634
StringBasedFiltering0.5960.0150.703
StringBasedFiltering20.5880.0130.664
SumByColumns1.4770.0811.795
SymFilteringOperators0.0010.0010.000
UpdateMetacellAfterImputation0.5790.0140.658
aggregateIter0.7330.0160.817
aggregateIterParallel000
aggregateMean0.6650.0150.743
aggregateSum0.6750.0180.753
aggregateTopn0.6400.0150.716
applyAnovasOnProteins0.1770.0080.205
averageIntensities0.7530.1661.197
barplotEnrichGO_HC10.540 1.74615.126
barplotGroupGO_HC6.2650.7317.670
boxPlotD_HC0.3480.0880.491
buildGraph2.2000.0662.628
check.conditions0.5450.0180.583
check.design0.5530.0170.599
checkClusterability3.0691.7336.101
classic1wayAnova0.0000.0010.000
compareNormalizationD_HC0.2270.0610.337
compute.selection.table0.9770.2171.408
compute_t_tests1.2440.2041.611
corrMatrixD_HC0.6690.0740.782
createMSnset2.3240.1312.586
createMSnset22.2460.1142.537
dapar_hc_ExportMenu0.1510.1340.336
dapar_hc_chart0.0690.0430.130
deleteLinesFromIndices0.6900.0270.749
densityPlotD_HC2.9841.0526.154
diffAnaComputeAdjustedPValues0.2820.0470.645
diffAnaComputeFDR0.0000.0010.000
diffAnaGetSignificant0.3800.0580.663
diffAnaSave0.3850.0610.811
diffAnaVolcanoplot0.2650.0310.419
diffAnaVolcanoplot_rCharts0.4900.1130.781
display.CC.visNet2.3960.0972.981
enrich_GO 6.346 0.64010.214
finalizeAggregation000
findMECBlock0.6490.0220.804
formatHSDResults000
formatLimmaResult0.2560.0290.435
formatPHResults0.0000.0000.001
formatPHTResults000
fudge2LRT000
get.pep.prot.cc2.3260.0462.910
getDesignLevel0.5490.0110.598
getIndicesConditions0.5550.0150.647
getIndicesOfLinesToRemove0.5750.0180.627
getListNbValuesInLines0.5470.0130.582
getNumberOf0.5720.0180.636
getNumberOfEmptyLines0.5740.0170.631
getPourcentageOfMV0.5790.0180.628
getProcessingInfo0.5440.0140.582
getProteinsStats0.5880.0240.661
getQuantile4Imp0.1610.0080.184
getTextForAggregation0.0000.0010.001
getTextForAnaDiff0.0000.0000.001
getTextForFiltering0.0000.0000.001
getTextForGOAnalysis0.0010.0000.001
getTextForHypothesisTest0.0010.0010.001
getTextForNewDataset0.0030.0000.005
getTextForNormalization0.0010.0000.001
getTextForpeptideImputation000
getTextForproteinImputation0.0000.0010.001
globalAdjPval0.5010.0500.592
group_GO6.1620.6227.160
hc_logFC_DensityPlot0.7660.2641.155
hc_mvTypePlot21.0480.2481.388
heatmapD0.9470.0781.250
heatmapForMissingValues0.2750.0290.313
histPValue_HC0.3100.0760.406
impute.pa20.6580.0330.708
inner.aggregate.iter0.6720.0320.723
inner.aggregate.topn0.6410.0290.699
inner.mean0.6350.0280.677
inner.sum0.6760.0280.716
is.subset0.0010.0010.001
limmaCompleteTest1.7260.1022.123
listSheets000
make.contrast0.6080.0200.641
make.design.10.6070.0200.646
make.design.20.6030.0220.641
make.design.30.6220.0220.666
make.design0.6490.0230.689
match.metacell0.6360.0230.674
metacell.def0.0050.0020.008
metacellHisto_HC0.6840.0770.929
metacellPerLinesHistoPerCondition_HC0.8240.1281.166
metacellPerLinesHisto_HC0.9330.2571.277
metacombine0.2030.0180.239
mvImage2.8190.2164.758
my_hc_ExportMenu0.1680.1470.510
my_hc_chart0.1910.1620.684
nonzero0.0300.0020.036
normalizeMethods.dapar000
pepa.test0.6500.0230.857
pkgs.require0.0000.0010.000
plotJitter2.3650.0482.956
plotJitter_rCharts2.1560.1012.986
plotPCA_Eigen0.6960.0771.144
plotPCA_Eigen_hc0.5450.0210.637
plotPCA_Ind0.5680.0210.678
plotPCA_Var0.5520.0160.608
postHocTest0.0000.0000.001
proportionConRev_HC0.0550.0470.133
rbindMSnset0.7040.0551.173
reIntroduceMEC0.6300.0320.773
readExcel000
removeLines0.6110.0290.716
samLRT000
saveParameters0.3950.0160.515
scatterplotEnrichGO_HC5.7720.5327.153
search.metacell.tags0.0060.0020.010
separateAdjPval0.2620.0170.296
splitAdjacencyMat0.6530.0220.757
test.design0.6250.0170.667
testAnovaModels0.2020.0140.230
thresholdpval4fdr0.0000.0000.001
translatedRandomBeta0.0020.0100.019
univ_AnnotDbPkg0.2810.0750.425
violinPlotD0.4720.0390.565
visualizeClusters1.6840.2122.262
vsn0.8840.0431.120
wrapper.CVDistD_HC2.1010.8153.166
wrapper.compareNormalizationD_HC46.64617.87886.116
wrapper.corrMatrixD_HC0.6610.0861.098
wrapper.dapar.impute.mi17.876 1.38927.940
wrapper.heatmapD0.7590.0481.098
wrapper.impute.KNN0.6120.0260.735
wrapper.impute.detQuant0.7120.0400.877
wrapper.impute.fixedValue0.6820.0420.984
wrapper.impute.mle0.6190.0290.827
wrapper.impute.pa0.2190.0200.290
wrapper.impute.pa20.6330.0310.827
wrapper.impute.slsa0.7810.0551.295
wrapper.mvImage0.2410.0280.388
wrapper.normalizeD0.6410.0200.781
wrapper.pca0.2420.0290.435
wrapperCalibrationPlot0.2950.0310.413
wrapperClassic1wayAnova0.0000.0000.001
wrapperRunClustering4.2570.3926.290
write.excel1.0280.1421.650
writeMSnsetToCSV0.5750.0330.782
writeMSnsetToExcel1.1920.2041.670