Back to Multiple platform build/check report for BioC 3.22:   simplified   long
AB[C]DEFGHIJKLMNOPQRSTUVWXYZ

This page was generated on 2025-11-20 12:04 -0500 (Thu, 20 Nov 2025).

HostnameOSArch (*)R versionInstalled pkgs
nebbiolo2Linux (Ubuntu 24.04.3 LTS)x86_644.5.2 (2025-10-31) -- "[Not] Part in a Rumble" 4615
merida1macOS 12.7.6 Montereyx86_644.5.2 Patched (2025-11-05 r88990) -- "[Not] Part in a Rumble" 4610
kjohnson1macOS 13.7.5 Venturaarm644.5.2 Patched (2025-11-04 r88984) -- "[Not] Part in a Rumble" 4598
taishanLinux (openEuler 24.03 LTS)aarch644.5.0 (2025-04-11) -- "How About a Twenty-Six" 4668
Click on any hostname to see more info about the system (e.g. compilers)      (*) as reported by 'uname -p', except on Windows and Mac OS X

Package 350/2361HostnameOS / ArchINSTALLBUILDCHECKBUILD BIN
ChIPpeakAnno 3.44.0  (landing page)
Jianhong Ou
Snapshot Date: 2025-11-17 13:45 -0500 (Mon, 17 Nov 2025)
git_url: https://git.bioconductor.org/packages/ChIPpeakAnno
git_branch: RELEASE_3_22
git_last_commit: 2b855fa
git_last_commit_date: 2025-10-29 10:03:18 -0500 (Wed, 29 Oct 2025)
nebbiolo2Linux (Ubuntu 24.04.3 LTS) / x86_64  OK    OK    OK  UNNEEDED, same version is already published
merida1macOS 12.7.6 Monterey / x86_64  OK    OK    OK    OK  UNNEEDED, same version is already published
kjohnson1macOS 13.7.5 Ventura / arm64  OK    OK    OK    OK  UNNEEDED, same version is already published
taishanLinux (openEuler 24.03 LTS) / aarch64  OK    OK    OK  


CHECK results for ChIPpeakAnno on merida1

To the developers/maintainers of the ChIPpeakAnno package:
- Allow up to 24 hours (and sometimes 48 hours) for your latest push to git@git.bioconductor.org:packages/ChIPpeakAnno.git to reflect on this report. See Troubleshooting Build Report for more information.
- Use the following Renviron settings to reproduce errors and warnings.
- If 'R CMD check' started to fail recently on the Linux builder(s) over a missing dependency, add the missing dependency to 'Suggests:' in your DESCRIPTION file. See Renviron.bioc for more information.

raw results


Summary

Package: ChIPpeakAnno
Version: 3.44.0
Command: /Library/Frameworks/R.framework/Resources/bin/R CMD check --install=check:ChIPpeakAnno.install-out.txt --library=/Library/Frameworks/R.framework/Resources/library --no-vignettes --timings ChIPpeakAnno_3.44.0.tar.gz
StartedAt: 2025-11-18 05:09:35 -0500 (Tue, 18 Nov 2025)
EndedAt: 2025-11-18 05:32:39 -0500 (Tue, 18 Nov 2025)
EllapsedTime: 1384.1 seconds
RetCode: 0
Status:   OK  
CheckDir: ChIPpeakAnno.Rcheck
Warnings: 0

Command output

##############################################################################
##############################################################################
###
### Running command:
###
###   /Library/Frameworks/R.framework/Resources/bin/R CMD check --install=check:ChIPpeakAnno.install-out.txt --library=/Library/Frameworks/R.framework/Resources/library --no-vignettes --timings ChIPpeakAnno_3.44.0.tar.gz
###
##############################################################################
##############################################################################


* using log directory ‘/Users/biocbuild/bbs-3.22-bioc/meat/ChIPpeakAnno.Rcheck’
* using R version 4.5.2 Patched (2025-11-05 r88990)
* using platform: x86_64-apple-darwin20
* R was compiled by
    Apple clang version 14.0.0 (clang-1400.0.29.202)
    GNU Fortran (GCC) 14.2.0
* running under: macOS Monterey 12.7.6
* using session charset: UTF-8
* using option ‘--no-vignettes’
* checking for file ‘ChIPpeakAnno/DESCRIPTION’ ... OK
* checking extension type ... Package
* this is package ‘ChIPpeakAnno’ version ‘3.44.0’
* package encoding: UTF-8
* checking package namespace information ... OK
* checking package dependencies ... INFO
Imports includes 29 non-default packages.
Importing from so many packages makes the package vulnerable to any of
them becoming unavailable.  Move as many as possible to Suggests and
use conditionally.
* checking if this is a source package ... OK
* checking if there is a namespace ... OK
* checking for hidden files and directories ... OK
* checking for portable file names ... OK
* checking for sufficient/correct file permissions ... OK
* checking whether package ‘ChIPpeakAnno’ can be installed ... OK
* checking installed package size ... INFO
  installed size is 21.1Mb
  sub-directories of 1Mb or more:
    R         1.0Mb
    data     12.6Mb
    extdata   7.2Mb
* checking package directory ... OK
* checking ‘build’ directory ... OK
* checking DESCRIPTION meta-information ... OK
* checking top-level files ... OK
* checking for left-over files ... OK
* checking index information ... OK
* checking package subdirectories ... OK
* checking code files for non-ASCII characters ... OK
* checking R files for syntax errors ... OK
* checking whether the package can be loaded ... OK
* checking whether the package can be loaded with stated dependencies ... OK
* checking whether the package can be unloaded cleanly ... OK
* checking whether the namespace can be loaded with stated dependencies ... OK
* checking whether the namespace can be unloaded cleanly ... OK
* checking dependencies in R code ... OK
* checking S3 generic/method consistency ... OK
* checking replacement functions ... OK
* checking foreign function calls ... OK
* checking R code for possible problems ... OK
* checking Rd files ... OK
* checking Rd metadata ... OK
* checking Rd cross-references ... OK
* checking for missing documentation entries ... OK
* checking for code/documentation mismatches ... OK
* checking Rd \usage sections ... OK
* checking Rd contents ... OK
* checking for unstated dependencies in examples ... OK
* checking contents of ‘data’ directory ... OK
* checking data for non-ASCII characters ... OK
* checking LazyData ... OK
* checking data for ASCII and uncompressed saves ... OK
* checking files in ‘vignettes’ ... OK
* checking examples ... OK
Examples with CPU (user + system) or elapsed time > 5s
                           user system elapsed
findEnhancers            57.090  1.189  60.311
findMotifsInPromoterSeqs 33.640  0.646  36.122
annotatePeakInBatch      26.072  1.019  27.292
metagenePlot              7.042  0.191   7.593
summarizeOverlapsByBins   6.555  0.674   7.160
annoPeaks                 5.584  0.541   6.215
addGeneIDs                4.049  1.198   5.392
* checking for unstated dependencies in ‘tests’ ... OK
* checking tests ...
  Running ‘runTests.R’
 OK
* checking for unstated dependencies in vignettes ... OK
* checking package vignettes ... OK
* checking running R code from vignettes ... SKIPPED
* checking re-building of vignette outputs ... SKIPPED
* checking PDF version of manual ... OK
* DONE

Status: OK


Installation output

ChIPpeakAnno.Rcheck/00install.out

##############################################################################
##############################################################################
###
### Running command:
###
###   /Library/Frameworks/R.framework/Resources/bin/R CMD INSTALL ChIPpeakAnno
###
##############################################################################
##############################################################################


* installing to library ‘/Library/Frameworks/R.framework/Versions/4.5-x86_64/Resources/library’
* installing *source* package ‘ChIPpeakAnno’ ...
** this is package ‘ChIPpeakAnno’ version ‘3.44.0’
** using staged installation
** R
** data
*** moving datasets to lazyload DB
** inst
** byte-compile and prepare package for lazy loading
** help
*** installing help indices
** building package indices
** installing vignettes
** testing if installed package can be loaded from temporary location
** testing if installed package can be loaded from final location
** testing if installed package keeps a record of temporary installation path
* DONE (ChIPpeakAnno)

Tests output

ChIPpeakAnno.Rcheck/tests/runTests.Rout


R version 4.5.2 Patched (2025-11-05 r88990) -- "[Not] Part in a Rumble"
Copyright (C) 2025 The R Foundation for Statistical Computing
Platform: x86_64-apple-darwin20

R is free software and comes with ABSOLUTELY NO WARRANTY.
You are welcome to redistribute it under certain conditions.
Type 'license()' or 'licence()' for distribution details.

R is a collaborative project with many contributors.
Type 'contributors()' for more information and
'citation()' on how to cite R or R packages in publications.

Type 'demo()' for some demos, 'help()' for on-line help, or
'help.start()' for an HTML browser interface to help.
Type 'q()' to quit R.

> require("ChIPpeakAnno") || stop("unable to load Package:ChIPpeakAnno")
Loading required package: ChIPpeakAnno
Loading required package: IRanges
Loading required package: BiocGenerics
Loading required package: generics

Attaching package: 'generics'

The following objects are masked from 'package:base':

    as.difftime, as.factor, as.ordered, intersect, is.element, setdiff,
    setequal, union


Attaching package: 'BiocGenerics'

The following objects are masked from 'package:stats':

    IQR, mad, sd, var, xtabs

The following objects are masked from 'package:base':

    Filter, Find, Map, Position, Reduce, anyDuplicated, aperm, append,
    as.data.frame, basename, cbind, colnames, dirname, do.call,
    duplicated, eval, evalq, get, grep, grepl, is.unsorted, lapply,
    mapply, match, mget, order, paste, pmax, pmax.int, pmin, pmin.int,
    rank, rbind, rownames, sapply, saveRDS, table, tapply, unique,
    unsplit, which.max, which.min

Loading required package: S4Vectors
Loading required package: stats4

Attaching package: 'S4Vectors'

The following object is masked from 'package:utils':

    findMatches

The following objects are masked from 'package:base':

    I, expand.grid, unname

Loading required package: GenomicRanges
Loading required package: Seqinfo
[1] TRUE
> require("BSgenome.Drerio.UCSC.danRer7") || stop("unable to load Package:BSgenome.Drerio.UCSC.danRer7")
Loading required package: BSgenome.Drerio.UCSC.danRer7
Loading required package: BSgenome
Loading required package: Biostrings
Loading required package: XVector

Attaching package: 'Biostrings'

The following object is masked from 'package:base':

    strsplit

Loading required package: BiocIO
Loading required package: rtracklayer
[1] TRUE
> require("BSgenome.Hsapiens.UCSC.hg19") || stop("unable to load Package:BSgenome.Hsapiens.UCSC.hg19")
Loading required package: BSgenome.Hsapiens.UCSC.hg19
[1] TRUE
> require("org.Hs.eg.db") || stop("unable to load Package:org.Hs.eg.db")
Loading required package: org.Hs.eg.db
Loading required package: AnnotationDbi
Loading required package: Biobase
Welcome to Bioconductor

    Vignettes contain introductory material; view with
    'browseVignettes()'. To cite Bioconductor, see
    'citation("Biobase")', and for packages 'citation("pkgname")'.


[1] TRUE
> require("org.Ce.eg.db") || stop("unable to load Package:org.Ce.eg.db")
Loading required package: org.Ce.eg.db

[1] TRUE
> require("BSgenome.Celegans.UCSC.ce10") || stop("unable to load Package:BSgenome.Celegans.UCSC.ce10")
Loading required package: BSgenome.Celegans.UCSC.ce10
[1] TRUE
> require("EnsDb.Hsapiens.v79") || stop("unable to load Package:EnsDb.Hsapiens.v79")
Loading required package: EnsDb.Hsapiens.v79
Loading required package: ensembldb
Loading required package: GenomicFeatures
Loading required package: AnnotationFilter

Attaching package: 'ensembldb'

The following object is masked from 'package:stats':

    filter

[1] TRUE
> require("TxDb.Hsapiens.UCSC.hg38.knownGene") || stop("unable to load TxDb.Hsapiens.UCSC.hg38.knownGene")
Loading required package: TxDb.Hsapiens.UCSC.hg38.knownGene
[1] TRUE
> require("biomaRt") || stop("unable to load biomaRt")
Loading required package: biomaRt
[1] TRUE
> require("reactome.db") || stop("unable to load reactome.db")
Loading required package: reactome.db
[1] TRUE
> require("testthat") || stop("unable to load testthat")
Loading required package: testthat

Attaching package: 'testthat'

The following object is masked from 'package:AnnotationFilter':

    not

[1] TRUE
> test_check("ChIPpeakAnno")
INFO [2025-11-18 05:31:50] $cat.cex
INFO [2025-11-18 05:31:50] [1] 1
INFO [2025-11-18 05:31:50] 
INFO [2025-11-18 05:31:50] $cat.col
INFO [2025-11-18 05:31:50] [1] "black"
INFO [2025-11-18 05:31:50] 
INFO [2025-11-18 05:31:50] $cat.fontface
INFO [2025-11-18 05:31:50] [1] "plain"
INFO [2025-11-18 05:31:50] 
INFO [2025-11-18 05:31:50] $cat.fontfamily
INFO [2025-11-18 05:31:50] [1] "serif"
INFO [2025-11-18 05:31:50] 
INFO [2025-11-18 05:31:50] $x
INFO [2025-11-18 05:31:50] $x$TF1
INFO [2025-11-18 05:31:50] [1] 3 4 5
INFO [2025-11-18 05:31:50] 
INFO [2025-11-18 05:31:50] $x$TF2
INFO [2025-11-18 05:31:50] [1] 1 2 3 4 5
INFO [2025-11-18 05:31:50] 
INFO [2025-11-18 05:31:50] 
INFO [2025-11-18 05:31:50] $disable.logging
INFO [2025-11-18 05:31:50] [1] TRUE
INFO [2025-11-18 05:31:50] 
INFO [2025-11-18 05:31:50] $filename
INFO [2025-11-18 05:31:50] NULL
INFO [2025-11-18 05:31:50] 
INFO [2025-11-18 05:31:51] $cat.cex
INFO [2025-11-18 05:31:51] [1] 1
INFO [2025-11-18 05:31:51] 
INFO [2025-11-18 05:31:51] $cat.col
INFO [2025-11-18 05:31:51] [1] "black"
INFO [2025-11-18 05:31:51] 
INFO [2025-11-18 05:31:51] $cat.fontface
INFO [2025-11-18 05:31:51] [1] "plain"
INFO [2025-11-18 05:31:51] 
INFO [2025-11-18 05:31:51] $cat.fontfamily
INFO [2025-11-18 05:31:51] [1] "serif"
INFO [2025-11-18 05:31:51] 
INFO [2025-11-18 05:31:51] $x
INFO [2025-11-18 05:31:51] $x$TF1
INFO [2025-11-18 05:31:51] [1] 3 4 5
INFO [2025-11-18 05:31:51] 
INFO [2025-11-18 05:31:51] $x$TF2
INFO [2025-11-18 05:31:51] [1] 1 2 4 5
INFO [2025-11-18 05:31:51] 
INFO [2025-11-18 05:31:51] $x$TF3
INFO [2025-11-18 05:31:51] [1] 3 4 5
INFO [2025-11-18 05:31:51] 
INFO [2025-11-18 05:31:51] $x$TF4
INFO [2025-11-18 05:31:51] [1] 1 2 4 5
INFO [2025-11-18 05:31:51] 
INFO [2025-11-18 05:31:51] 
INFO [2025-11-18 05:31:51] $disable.logging
INFO [2025-11-18 05:31:51] [1] TRUE
INFO [2025-11-18 05:31:51] 
INFO [2025-11-18 05:31:51] $filename
INFO [2025-11-18 05:31:51] NULL
INFO [2025-11-18 05:31:51] 
INFO [2025-11-18 05:31:52] $scaled
INFO [2025-11-18 05:31:52] [1] FALSE
INFO [2025-11-18 05:31:52] 
INFO [2025-11-18 05:31:52] $euler.d
INFO [2025-11-18 05:31:52] [1] FALSE
INFO [2025-11-18 05:31:52] 
INFO [2025-11-18 05:31:52] $cat.cex
INFO [2025-11-18 05:31:52] [1] 1
INFO [2025-11-18 05:31:52] 
INFO [2025-11-18 05:31:52] $cat.col
INFO [2025-11-18 05:31:52] [1] "black"
INFO [2025-11-18 05:31:52] 
INFO [2025-11-18 05:31:52] $cat.fontface
INFO [2025-11-18 05:31:52] [1] "plain"
INFO [2025-11-18 05:31:52] 
INFO [2025-11-18 05:31:52] $cat.fontfamily
INFO [2025-11-18 05:31:52] [1] "serif"
INFO [2025-11-18 05:31:52] 
INFO [2025-11-18 05:31:52] $x
INFO [2025-11-18 05:31:52] $x$TF1
INFO [2025-11-18 05:31:52] [1] 1 2 3
INFO [2025-11-18 05:31:52] 
INFO [2025-11-18 05:31:52] $x$TF2
INFO [2025-11-18 05:31:52] [1] 1 2 3
INFO [2025-11-18 05:31:52] 
INFO [2025-11-18 05:31:52] 
INFO [2025-11-18 05:31:52] $disable.logging
INFO [2025-11-18 05:31:52] [1] TRUE
INFO [2025-11-18 05:31:52] 
INFO [2025-11-18 05:31:52] $filename
INFO [2025-11-18 05:31:52] NULL
INFO [2025-11-18 05:31:52] 
INFO [2025-11-18 05:31:52] $scaled
INFO [2025-11-18 05:31:52] [1] FALSE
INFO [2025-11-18 05:31:52] 
INFO [2025-11-18 05:31:52] $euler.d
INFO [2025-11-18 05:31:52] [1] FALSE
INFO [2025-11-18 05:31:52] 
INFO [2025-11-18 05:31:52] $cat.cex
INFO [2025-11-18 05:31:52] [1] 1
INFO [2025-11-18 05:31:52] 
INFO [2025-11-18 05:31:52] $cat.col
INFO [2025-11-18 05:31:52] [1] "black"
INFO [2025-11-18 05:31:52] 
INFO [2025-11-18 05:31:52] $cat.fontface
INFO [2025-11-18 05:31:52] [1] "plain"
INFO [2025-11-18 05:31:52] 
INFO [2025-11-18 05:31:52] $cat.fontfamily
INFO [2025-11-18 05:31:52] [1] "serif"
INFO [2025-11-18 05:31:52] 
INFO [2025-11-18 05:31:52] $x
INFO [2025-11-18 05:31:52] $x$TF1
INFO [2025-11-18 05:31:52] [1] 4 5 6
INFO [2025-11-18 05:31:52] 
INFO [2025-11-18 05:31:52] $x$TF2
INFO [2025-11-18 05:31:52] [1] 1 2 3
INFO [2025-11-18 05:31:52] 
INFO [2025-11-18 05:31:52] 
INFO [2025-11-18 05:31:52] $disable.logging
INFO [2025-11-18 05:31:52] [1] TRUE
INFO [2025-11-18 05:31:52] 
INFO [2025-11-18 05:31:52] $filename
INFO [2025-11-18 05:31:52] NULL
INFO [2025-11-18 05:31:52] 
INFO [2025-11-18 05:31:53] $scaled
INFO [2025-11-18 05:31:53] [1] FALSE
INFO [2025-11-18 05:31:53] 
INFO [2025-11-18 05:31:53] $euler.d
INFO [2025-11-18 05:31:53] [1] FALSE
INFO [2025-11-18 05:31:53] 
INFO [2025-11-18 05:31:53] $cat.cex
INFO [2025-11-18 05:31:53] [1] 1
INFO [2025-11-18 05:31:53] 
INFO [2025-11-18 05:31:53] $cat.col
INFO [2025-11-18 05:31:53] [1] "black"
INFO [2025-11-18 05:31:53] 
INFO [2025-11-18 05:31:53] $cat.fontface
INFO [2025-11-18 05:31:53] [1] "plain"
INFO [2025-11-18 05:31:53] 
INFO [2025-11-18 05:31:53] $cat.fontfamily
INFO [2025-11-18 05:31:53] [1] "serif"
INFO [2025-11-18 05:31:53] 
INFO [2025-11-18 05:31:53] $x
INFO [2025-11-18 05:31:53] $x$TF1
INFO [2025-11-18 05:31:53] [1] 4 5 6
INFO [2025-11-18 05:31:53] 
INFO [2025-11-18 05:31:53] $x$TF2
INFO [2025-11-18 05:31:53] [1] 1 2 3
INFO [2025-11-18 05:31:53] 
INFO [2025-11-18 05:31:53] 
INFO [2025-11-18 05:31:53] $disable.logging
INFO [2025-11-18 05:31:53] [1] TRUE
INFO [2025-11-18 05:31:53] 
INFO [2025-11-18 05:31:53] $filename
INFO [2025-11-18 05:31:53] NULL
INFO [2025-11-18 05:31:53] 
INFO [2025-11-18 05:31:53] $scaled
INFO [2025-11-18 05:31:53] [1] FALSE
INFO [2025-11-18 05:31:53] 
INFO [2025-11-18 05:31:53] $euler.d
INFO [2025-11-18 05:31:53] [1] FALSE
INFO [2025-11-18 05:31:53] 
INFO [2025-11-18 05:31:53] $cat.cex
INFO [2025-11-18 05:31:53] [1] 1
INFO [2025-11-18 05:31:53] 
INFO [2025-11-18 05:31:53] $cat.col
INFO [2025-11-18 05:31:53] [1] "black"
INFO [2025-11-18 05:31:53] 
INFO [2025-11-18 05:31:53] $cat.fontface
INFO [2025-11-18 05:31:53] [1] "plain"
INFO [2025-11-18 05:31:53] 
INFO [2025-11-18 05:31:53] $cat.fontfamily
INFO [2025-11-18 05:31:53] [1] "serif"
INFO [2025-11-18 05:31:53] 
INFO [2025-11-18 05:31:53] $x
INFO [2025-11-18 05:31:53] $x$TF1
INFO [2025-11-18 05:31:53] [1] 4 5 6
INFO [2025-11-18 05:31:53] 
INFO [2025-11-18 05:31:53] $x$TF2
INFO [2025-11-18 05:31:53] [1] 1 2 3
INFO [2025-11-18 05:31:53] 
INFO [2025-11-18 05:31:53] $x$TF3
INFO [2025-11-18 05:31:53] [1] 2 3 6
INFO [2025-11-18 05:31:53] 
INFO [2025-11-18 05:31:53] 
INFO [2025-11-18 05:31:53] $disable.logging
INFO [2025-11-18 05:31:53] [1] TRUE
INFO [2025-11-18 05:31:53] 
INFO [2025-11-18 05:31:53] $filename
INFO [2025-11-18 05:31:53] NULL
INFO [2025-11-18 05:31:53] 
INFO [2025-11-18 05:31:54] $scaled
INFO [2025-11-18 05:31:54] [1] FALSE
INFO [2025-11-18 05:31:54] 
INFO [2025-11-18 05:31:54] $euler.d
INFO [2025-11-18 05:31:54] [1] FALSE
INFO [2025-11-18 05:31:54] 
INFO [2025-11-18 05:31:54] $cat.cex
INFO [2025-11-18 05:31:54] [1] 1
INFO [2025-11-18 05:31:54] 
INFO [2025-11-18 05:31:54] $cat.col
INFO [2025-11-18 05:31:54] [1] "black"
INFO [2025-11-18 05:31:54] 
INFO [2025-11-18 05:31:54] $cat.fontface
INFO [2025-11-18 05:31:54] [1] "plain"
INFO [2025-11-18 05:31:54] 
INFO [2025-11-18 05:31:54] $cat.fontfamily
INFO [2025-11-18 05:31:54] [1] "serif"
INFO [2025-11-18 05:31:54] 
INFO [2025-11-18 05:31:54] $x
INFO [2025-11-18 05:31:54] $x$TF1
INFO [2025-11-18 05:31:54] [1] 3 4 5
INFO [2025-11-18 05:31:54] 
INFO [2025-11-18 05:31:54] $x$TF2
INFO [2025-11-18 05:31:54] [1] 1 2 5
INFO [2025-11-18 05:31:54] 
INFO [2025-11-18 05:31:54] $x$TF3
INFO [2025-11-18 05:31:54] [1] 1 2 5
INFO [2025-11-18 05:31:54] 
INFO [2025-11-18 05:31:54] 
INFO [2025-11-18 05:31:54] $disable.logging
INFO [2025-11-18 05:31:54] [1] TRUE
INFO [2025-11-18 05:31:54] 
INFO [2025-11-18 05:31:54] $filename
INFO [2025-11-18 05:31:54] NULL
INFO [2025-11-18 05:31:54] 
INFO [2025-11-18 05:31:55] $scaled
INFO [2025-11-18 05:31:55] [1] FALSE
INFO [2025-11-18 05:31:55] 
INFO [2025-11-18 05:31:55] $euler.d
INFO [2025-11-18 05:31:55] [1] FALSE
INFO [2025-11-18 05:31:55] 
INFO [2025-11-18 05:31:55] $cat.cex
INFO [2025-11-18 05:31:55] [1] 1
INFO [2025-11-18 05:31:55] 
INFO [2025-11-18 05:31:55] $cat.col
INFO [2025-11-18 05:31:55] [1] "black"
INFO [2025-11-18 05:31:55] 
INFO [2025-11-18 05:31:55] $cat.fontface
INFO [2025-11-18 05:31:55] [1] "plain"
INFO [2025-11-18 05:31:55] 
INFO [2025-11-18 05:31:55] $cat.fontfamily
INFO [2025-11-18 05:31:55] [1] "serif"
INFO [2025-11-18 05:31:55] 
INFO [2025-11-18 05:31:55] $x
INFO [2025-11-18 05:31:55] $x$TF1
INFO [2025-11-18 05:31:55] [1] 3 4 5
INFO [2025-11-18 05:31:55] 
INFO [2025-11-18 05:31:55] $x$TF2
INFO [2025-11-18 05:31:55] [1] 1 2 5
INFO [2025-11-18 05:31:55] 
INFO [2025-11-18 05:31:55] $x$TF3
INFO [2025-11-18 05:31:55] [1] 1 2 5
INFO [2025-11-18 05:31:55] 
INFO [2025-11-18 05:31:55] $x$TF4
INFO [2025-11-18 05:31:55] [1] 1 2 5
INFO [2025-11-18 05:31:55] 
INFO [2025-11-18 05:31:55] 
INFO [2025-11-18 05:31:55] $disable.logging
INFO [2025-11-18 05:31:55] [1] TRUE
INFO [2025-11-18 05:31:55] 
INFO [2025-11-18 05:31:55] $filename
INFO [2025-11-18 05:31:55] NULL
INFO [2025-11-18 05:31:55] 
[ FAIL 0 | WARN 2 | SKIP 6 | PASS 324 ]

══ Skipped tests (6) ═══════════════════════════════════════════════════════════
• empty test (6): 'test_binOverGene.R:1:1', 'test_binOverRegions.R:1:1',
  'test_enrichmentPlot.R:1:1', 'test_getAnnotation.R:1:1',
  'test_reCenterPeaks.R:1:1', 'test_write2FASTA.R:1:1'

[ FAIL 0 | WARN 2 | SKIP 6 | PASS 324 ]
> 
> proc.time()
   user  system elapsed 
421.304   9.333 488.406 

Example timings

ChIPpeakAnno.Rcheck/ChIPpeakAnno-Ex.timings

nameusersystemelapsed
ChIPpeakAnno-package0.0010.0010.002
ExonPlusUtr.human.GRCh374.1820.1554.444
HOT.spots0.1410.0120.154
IDRfilter0.0020.0010.003
Peaks.Ste12.Replicate10.0990.0040.103
Peaks.Ste12.Replicate20.0250.0030.028
Peaks.Ste12.Replicate30.0250.0040.029
TSS.human.GRCh370.1310.0030.137
TSS.human.GRCh380.2670.0290.297
TSS.human.NCBI360.1280.0090.138
TSS.mouse.GRCm380.1180.0110.128
TSS.mouse.NCBIM370.1060.0090.116
TSS.rat.RGSC3.40.0930.0070.100
TSS.rat.Rnor_5.00.0770.0060.083
TSS.zebrafish.Zv80.0860.0110.098
TSS.zebrafish.Zv90.1010.0080.109
addAncestors2.0380.1402.201
addGeneIDs4.0491.1985.392
addMetadata2.5400.2442.825
annoGR0.0010.0000.002
annoPeaks5.5840.5416.215
annotatePeakInBatch26.072 1.01927.292
annotatedPeak0.0840.0050.090
assignChromosomeRegion0.0030.0020.004
bdp0.0010.0010.002
binOverFeature1.5120.0261.572
binOverGene0.0020.0000.002
binOverRegions0.0010.0010.002
condenseMatrixByColnames0.0230.0010.030
convert2EntrezID0.7120.0080.727
countPatternInSeqs0.2880.0080.297
cumulativePercentage000
downstreams0.0560.0010.058
egOrgMap0.0010.0000.001
enrichedGO0.0030.0040.007
enrichmentPlot1.6930.0291.736
estFragmentLength0.0010.0000.002
estLibSize0.0010.0010.001
featureAlignedDistribution0.4670.0030.471
featureAlignedExtendSignal0.0040.0010.005
featureAlignedHeatmap0.6650.0050.685
featureAlignedSignal0.4320.1290.562
findEnhancers57.090 1.18960.311
findMotifsInPromoterSeqs33.640 0.64636.122
findOverlappingPeaks0.0020.0020.005
findOverlapsOfPeaks4.2560.0944.903
genomicElementDistribution0.0040.0020.006
genomicElementUpSetR0.0010.0010.005
getAllPeakSequence0.9350.0281.062
getAnnotation0.0020.0030.007
getEnrichedGO0.0200.0150.038
getEnrichedPATH0.0020.0020.006
getGO0.0010.0010.002
getGeneSeq0.0030.0020.005
getUniqueGOidCount0.0020.0010.002
getVennCounts0.0020.0010.003
hyperGtest0.0020.0010.009
makeVennDiagram0.0060.0020.009
mergePlusMinusPeaks0.0010.0010.003
metagenePlot7.0420.1917.593
myPeakList0.0190.0040.025
oligoFrequency0.1560.0250.195
oligoSummary0.0010.0010.002
peakPermTest0.0030.0020.005
peaks10.0150.0050.021
peaks20.0160.0040.021
peaks30.0160.0050.023
peaksNearBDP0.0020.0010.004
pie10.0090.0030.012
plotBinOverRegions0.0020.0010.006
preparePool0.0010.0010.003
reCenterPeaks0.0590.0020.064
summarizeOverlapsByBins6.5550.6747.160
summarizePatternInPeaks3.6030.5654.592
tileCount0.8010.5640.885
tileGRanges0.0900.0330.170
toGRanges0.2180.0340.260
translatePattern0.0010.0010.002
wgEncodeTfbsV30.2400.0220.277
write2FASTA0.0370.0070.047
xget0.1760.0210.239