| Back to Multiple platform build/check report for BioC 3.21: simplified long |
|
This page was generated on 2025-10-16 11:40 -0400 (Thu, 16 Oct 2025).
| Hostname | OS | Arch (*) | R version | Installed pkgs |
|---|---|---|---|---|
| nebbiolo1 | Linux (Ubuntu 24.04.3 LTS) | x86_64 | 4.5.1 (2025-06-13) -- "Great Square Root" | 4833 |
| merida1 | macOS 12.7.6 Monterey | x86_64 | 4.5.1 RC (2025-06-05 r88288) -- "Great Square Root" | 4614 |
| kjohnson1 | macOS 13.7.5 Ventura | arm64 | 4.5.1 Patched (2025-06-14 r88325) -- "Great Square Root" | 4555 |
| kunpeng2 | Linux (openEuler 24.03 LTS) | aarch64 | R Under development (unstable) (2025-02-19 r87757) -- "Unsuffered Consequences" | 4586 |
| Click on any hostname to see more info about the system (e.g. compilers) (*) as reported by 'uname -p', except on Windows and Mac OS X | ||||
| Package 343/2341 | Hostname | OS / Arch | INSTALL | BUILD | CHECK | BUILD BIN | ||||||||
| ChIPpeakAnno 3.42.0 (landing page) Jianhong Ou
| nebbiolo1 | Linux (Ubuntu 24.04.3 LTS) / x86_64 | OK | OK | OK | |||||||||
| merida1 | macOS 12.7.6 Monterey / x86_64 | OK | OK | OK | OK | |||||||||
| kjohnson1 | macOS 13.7.5 Ventura / arm64 | OK | OK | OK | OK | |||||||||
| kunpeng2 | Linux (openEuler 24.03 LTS) / aarch64 | OK | OK | TIMEOUT | ||||||||||
|
To the developers/maintainers of the ChIPpeakAnno package: - Allow up to 24 hours (and sometimes 48 hours) for your latest push to git@git.bioconductor.org:packages/ChIPpeakAnno.git to reflect on this report. See Troubleshooting Build Report for more information. - Use the following Renviron settings to reproduce errors and warnings. - If 'R CMD check' started to fail recently on the Linux builder(s) over a missing dependency, add the missing dependency to 'Suggests:' in your DESCRIPTION file. See Renviron.bioc for more information. |
| Package: ChIPpeakAnno |
| Version: 3.42.0 |
| Command: /Library/Frameworks/R.framework/Resources/bin/R CMD check --install=check:ChIPpeakAnno.install-out.txt --library=/Library/Frameworks/R.framework/Resources/library --no-vignettes --timings ChIPpeakAnno_3.42.0.tar.gz |
| StartedAt: 2025-10-14 15:54:31 -0400 (Tue, 14 Oct 2025) |
| EndedAt: 2025-10-14 16:06:35 -0400 (Tue, 14 Oct 2025) |
| EllapsedTime: 724.5 seconds |
| RetCode: 0 |
| Status: OK |
| CheckDir: ChIPpeakAnno.Rcheck |
| Warnings: 0 |
##############################################################################
##############################################################################
###
### Running command:
###
### /Library/Frameworks/R.framework/Resources/bin/R CMD check --install=check:ChIPpeakAnno.install-out.txt --library=/Library/Frameworks/R.framework/Resources/library --no-vignettes --timings ChIPpeakAnno_3.42.0.tar.gz
###
##############################################################################
##############################################################################
* using log directory ‘/Users/biocbuild/bbs-3.21-bioc/meat/ChIPpeakAnno.Rcheck’
* using R version 4.5.1 Patched (2025-06-14 r88325)
* using platform: aarch64-apple-darwin20
* R was compiled by
Apple clang version 16.0.0 (clang-1600.0.26.6)
GNU Fortran (GCC) 14.2.0
* running under: macOS Ventura 13.7.5
* using session charset: UTF-8
* using option ‘--no-vignettes’
* checking for file ‘ChIPpeakAnno/DESCRIPTION’ ... OK
* checking extension type ... Package
* this is package ‘ChIPpeakAnno’ version ‘3.42.0’
* package encoding: UTF-8
* checking package namespace information ... OK
* checking package dependencies ... INFO
Imports includes 29 non-default packages.
Importing from so many packages makes the package vulnerable to any of
them becoming unavailable. Move as many as possible to Suggests and
use conditionally.
* checking if this is a source package ... OK
* checking if there is a namespace ... OK
* checking for hidden files and directories ... OK
* checking for portable file names ... OK
* checking for sufficient/correct file permissions ... OK
* checking whether package ‘ChIPpeakAnno’ can be installed ... OK
* checking installed package size ... INFO
installed size is 21.1Mb
sub-directories of 1Mb or more:
R 1.0Mb
data 12.6Mb
extdata 7.2Mb
* checking package directory ... OK
* checking ‘build’ directory ... OK
* checking DESCRIPTION meta-information ... OK
* checking top-level files ... OK
* checking for left-over files ... OK
* checking index information ... OK
* checking package subdirectories ... OK
* checking code files for non-ASCII characters ... OK
* checking R files for syntax errors ... OK
* checking whether the package can be loaded ... OK
* checking whether the package can be loaded with stated dependencies ... OK
* checking whether the package can be unloaded cleanly ... OK
* checking whether the namespace can be loaded with stated dependencies ... OK
* checking whether the namespace can be unloaded cleanly ... OK
* checking dependencies in R code ... OK
* checking S3 generic/method consistency ... OK
* checking replacement functions ... OK
* checking foreign function calls ... OK
* checking R code for possible problems ... OK
* checking Rd files ... OK
* checking Rd metadata ... OK
* checking Rd cross-references ... OK
* checking for missing documentation entries ... OK
* checking for code/documentation mismatches ... OK
* checking Rd \usage sections ... OK
* checking Rd contents ... OK
* checking for unstated dependencies in examples ... OK
* checking contents of ‘data’ directory ... OK
* checking data for non-ASCII characters ... OK
* checking LazyData ... OK
* checking data for ASCII and uncompressed saves ... OK
* checking files in ‘vignettes’ ... OK
* checking examples ... OK
Examples with CPU (user + system) or elapsed time > 5s
user system elapsed
findEnhancers 24.407 0.586 25.353
findMotifsInPromoterSeqs 17.325 0.542 18.291
annotatePeakInBatch 14.087 0.630 14.939
summarizeOverlapsByBins 7.200 0.507 7.475
ExonPlusUtr.human.GRCh37 5.008 0.150 5.241
annoPeaks 3.498 0.294 5.990
* checking for unstated dependencies in ‘tests’ ... OK
* checking tests ...
Running ‘runTests.R’
OK
* checking for unstated dependencies in vignettes ... OK
* checking package vignettes ... OK
* checking running R code from vignettes ... SKIPPED
* checking re-building of vignette outputs ... SKIPPED
* checking PDF version of manual ... OK
* DONE
Status: OK
ChIPpeakAnno.Rcheck/00install.out
############################################################################## ############################################################################## ### ### Running command: ### ### /Library/Frameworks/R.framework/Resources/bin/R CMD INSTALL ChIPpeakAnno ### ############################################################################## ############################################################################## * installing to library ‘/Library/Frameworks/R.framework/Versions/4.5-arm64/Resources/library’ * installing *source* package ‘ChIPpeakAnno’ ... ** this is package ‘ChIPpeakAnno’ version ‘3.42.0’ ** using staged installation ** R ** data *** moving datasets to lazyload DB ** inst ** byte-compile and prepare package for lazy loading ** help *** installing help indices ** building package indices ** installing vignettes ** testing if installed package can be loaded from temporary location ** testing if installed package can be loaded from final location ** testing if installed package keeps a record of temporary installation path * DONE (ChIPpeakAnno)
ChIPpeakAnno.Rcheck/tests/runTests.Rout
R version 4.5.1 Patched (2025-06-14 r88325) -- "Great Square Root"
Copyright (C) 2025 The R Foundation for Statistical Computing
Platform: aarch64-apple-darwin20
R is free software and comes with ABSOLUTELY NO WARRANTY.
You are welcome to redistribute it under certain conditions.
Type 'license()' or 'licence()' for distribution details.
R is a collaborative project with many contributors.
Type 'contributors()' for more information and
'citation()' on how to cite R or R packages in publications.
Type 'demo()' for some demos, 'help()' for on-line help, or
'help.start()' for an HTML browser interface to help.
Type 'q()' to quit R.
> require("ChIPpeakAnno") || stop("unable to load Package:ChIPpeakAnno")
Loading required package: ChIPpeakAnno
Loading required package: IRanges
Loading required package: BiocGenerics
Loading required package: generics
Attaching package: 'generics'
The following objects are masked from 'package:base':
as.difftime, as.factor, as.ordered, intersect, is.element, setdiff,
setequal, union
Attaching package: 'BiocGenerics'
The following objects are masked from 'package:stats':
IQR, mad, sd, var, xtabs
The following objects are masked from 'package:base':
Filter, Find, Map, Position, Reduce, anyDuplicated, aperm, append,
as.data.frame, basename, cbind, colnames, dirname, do.call,
duplicated, eval, evalq, get, grep, grepl, is.unsorted, lapply,
mapply, match, mget, order, paste, pmax, pmax.int, pmin, pmin.int,
rank, rbind, rownames, sapply, saveRDS, table, tapply, unique,
unsplit, which.max, which.min
Loading required package: S4Vectors
Loading required package: stats4
Attaching package: 'S4Vectors'
The following object is masked from 'package:utils':
findMatches
The following objects are masked from 'package:base':
I, expand.grid, unname
Loading required package: GenomicRanges
Loading required package: GenomeInfoDb
[1] TRUE
> require("BSgenome.Drerio.UCSC.danRer7") || stop("unable to load Package:BSgenome.Drerio.UCSC.danRer7")
Loading required package: BSgenome.Drerio.UCSC.danRer7
Loading required package: BSgenome
Loading required package: Biostrings
Loading required package: XVector
Attaching package: 'Biostrings'
The following object is masked from 'package:base':
strsplit
Loading required package: BiocIO
Loading required package: rtracklayer
[1] TRUE
> require("BSgenome.Hsapiens.UCSC.hg19") || stop("unable to load Package:BSgenome.Hsapiens.UCSC.hg19")
Loading required package: BSgenome.Hsapiens.UCSC.hg19
[1] TRUE
> require("org.Hs.eg.db") || stop("unable to load Package:org.Hs.eg.db")
Loading required package: org.Hs.eg.db
Loading required package: AnnotationDbi
Loading required package: Biobase
Welcome to Bioconductor
Vignettes contain introductory material; view with
'browseVignettes()'. To cite Bioconductor, see
'citation("Biobase")', and for packages 'citation("pkgname")'.
[1] TRUE
> require("org.Ce.eg.db") || stop("unable to load Package:org.Ce.eg.db")
Loading required package: org.Ce.eg.db
[1] TRUE
> require("BSgenome.Celegans.UCSC.ce10") || stop("unable to load Package:BSgenome.Celegans.UCSC.ce10")
Loading required package: BSgenome.Celegans.UCSC.ce10
[1] TRUE
> require("EnsDb.Hsapiens.v79") || stop("unable to load Package:EnsDb.Hsapiens.v79")
Loading required package: EnsDb.Hsapiens.v79
Loading required package: ensembldb
Loading required package: GenomicFeatures
Loading required package: AnnotationFilter
Attaching package: 'ensembldb'
The following object is masked from 'package:stats':
filter
[1] TRUE
> require("TxDb.Hsapiens.UCSC.hg38.knownGene") || stop("unable to load TxDb.Hsapiens.UCSC.hg38.knownGene")
Loading required package: TxDb.Hsapiens.UCSC.hg38.knownGene
[1] TRUE
> require("biomaRt") || stop("unable to load biomaRt")
Loading required package: biomaRt
[1] TRUE
> require("reactome.db") || stop("unable to load reactome.db")
Loading required package: reactome.db
[1] TRUE
> require("testthat") || stop("unable to load testthat")
Loading required package: testthat
Attaching package: 'testthat'
The following object is masked from 'package:AnnotationFilter':
not
[1] TRUE
> test_check("ChIPpeakAnno")
INFO [2025-10-14 16:06:05] $cat.cex
INFO [2025-10-14 16:06:05] [1] 1
INFO [2025-10-14 16:06:05]
INFO [2025-10-14 16:06:05] $cat.col
INFO [2025-10-14 16:06:05] [1] "black"
INFO [2025-10-14 16:06:05]
INFO [2025-10-14 16:06:05] $cat.fontface
INFO [2025-10-14 16:06:05] [1] "plain"
INFO [2025-10-14 16:06:05]
INFO [2025-10-14 16:06:05] $cat.fontfamily
INFO [2025-10-14 16:06:05] [1] "serif"
INFO [2025-10-14 16:06:05]
INFO [2025-10-14 16:06:05] $x
INFO [2025-10-14 16:06:05] $x$TF1
INFO [2025-10-14 16:06:05] [1] 3 4 5
INFO [2025-10-14 16:06:05]
INFO [2025-10-14 16:06:05] $x$TF2
INFO [2025-10-14 16:06:05] [1] 1 2 3 4 5
INFO [2025-10-14 16:06:05]
INFO [2025-10-14 16:06:05]
INFO [2025-10-14 16:06:05] $disable.logging
INFO [2025-10-14 16:06:05] [1] TRUE
INFO [2025-10-14 16:06:05]
INFO [2025-10-14 16:06:05] $filename
INFO [2025-10-14 16:06:05] NULL
INFO [2025-10-14 16:06:05]
INFO [2025-10-14 16:06:05] $cat.cex
INFO [2025-10-14 16:06:05] [1] 1
INFO [2025-10-14 16:06:05]
INFO [2025-10-14 16:06:05] $cat.col
INFO [2025-10-14 16:06:05] [1] "black"
INFO [2025-10-14 16:06:05]
INFO [2025-10-14 16:06:05] $cat.fontface
INFO [2025-10-14 16:06:05] [1] "plain"
INFO [2025-10-14 16:06:05]
INFO [2025-10-14 16:06:05] $cat.fontfamily
INFO [2025-10-14 16:06:05] [1] "serif"
INFO [2025-10-14 16:06:05]
INFO [2025-10-14 16:06:05] $x
INFO [2025-10-14 16:06:05] $x$TF1
INFO [2025-10-14 16:06:05] [1] 3 4 5
INFO [2025-10-14 16:06:05]
INFO [2025-10-14 16:06:05] $x$TF2
INFO [2025-10-14 16:06:05] [1] 1 2 4 5
INFO [2025-10-14 16:06:05]
INFO [2025-10-14 16:06:05] $x$TF3
INFO [2025-10-14 16:06:05] [1] 3 4 5
INFO [2025-10-14 16:06:05]
INFO [2025-10-14 16:06:05] $x$TF4
INFO [2025-10-14 16:06:05] [1] 1 2 4 5
INFO [2025-10-14 16:06:05]
INFO [2025-10-14 16:06:05]
INFO [2025-10-14 16:06:05] $disable.logging
INFO [2025-10-14 16:06:05] [1] TRUE
INFO [2025-10-14 16:06:05]
INFO [2025-10-14 16:06:05] $filename
INFO [2025-10-14 16:06:05] NULL
INFO [2025-10-14 16:06:05]
INFO [2025-10-14 16:06:06] $scaled
INFO [2025-10-14 16:06:06] [1] FALSE
INFO [2025-10-14 16:06:06]
INFO [2025-10-14 16:06:06] $euler.d
INFO [2025-10-14 16:06:06] [1] FALSE
INFO [2025-10-14 16:06:06]
INFO [2025-10-14 16:06:06] $cat.cex
INFO [2025-10-14 16:06:06] [1] 1
INFO [2025-10-14 16:06:06]
INFO [2025-10-14 16:06:06] $cat.col
INFO [2025-10-14 16:06:06] [1] "black"
INFO [2025-10-14 16:06:06]
INFO [2025-10-14 16:06:06] $cat.fontface
INFO [2025-10-14 16:06:06] [1] "plain"
INFO [2025-10-14 16:06:06]
INFO [2025-10-14 16:06:06] $cat.fontfamily
INFO [2025-10-14 16:06:06] [1] "serif"
INFO [2025-10-14 16:06:06]
INFO [2025-10-14 16:06:06] $x
INFO [2025-10-14 16:06:06] $x$TF1
INFO [2025-10-14 16:06:06] [1] 1 2 3
INFO [2025-10-14 16:06:06]
INFO [2025-10-14 16:06:06] $x$TF2
INFO [2025-10-14 16:06:06] [1] 1 2 3
INFO [2025-10-14 16:06:06]
INFO [2025-10-14 16:06:06]
INFO [2025-10-14 16:06:06] $disable.logging
INFO [2025-10-14 16:06:06] [1] TRUE
INFO [2025-10-14 16:06:06]
INFO [2025-10-14 16:06:06] $filename
INFO [2025-10-14 16:06:06] NULL
INFO [2025-10-14 16:06:06]
INFO [2025-10-14 16:06:06] $scaled
INFO [2025-10-14 16:06:06] [1] FALSE
INFO [2025-10-14 16:06:06]
INFO [2025-10-14 16:06:06] $euler.d
INFO [2025-10-14 16:06:06] [1] FALSE
INFO [2025-10-14 16:06:06]
INFO [2025-10-14 16:06:06] $cat.cex
INFO [2025-10-14 16:06:06] [1] 1
INFO [2025-10-14 16:06:06]
INFO [2025-10-14 16:06:06] $cat.col
INFO [2025-10-14 16:06:06] [1] "black"
INFO [2025-10-14 16:06:06]
INFO [2025-10-14 16:06:06] $cat.fontface
INFO [2025-10-14 16:06:06] [1] "plain"
INFO [2025-10-14 16:06:06]
INFO [2025-10-14 16:06:06] $cat.fontfamily
INFO [2025-10-14 16:06:06] [1] "serif"
INFO [2025-10-14 16:06:06]
INFO [2025-10-14 16:06:06] $x
INFO [2025-10-14 16:06:06] $x$TF1
INFO [2025-10-14 16:06:06] [1] 4 5 6
INFO [2025-10-14 16:06:06]
INFO [2025-10-14 16:06:06] $x$TF2
INFO [2025-10-14 16:06:06] [1] 1 2 3
INFO [2025-10-14 16:06:06]
INFO [2025-10-14 16:06:06]
INFO [2025-10-14 16:06:06] $disable.logging
INFO [2025-10-14 16:06:06] [1] TRUE
INFO [2025-10-14 16:06:06]
INFO [2025-10-14 16:06:06] $filename
INFO [2025-10-14 16:06:06] NULL
INFO [2025-10-14 16:06:06]
INFO [2025-10-14 16:06:07] $scaled
INFO [2025-10-14 16:06:07] [1] FALSE
INFO [2025-10-14 16:06:07]
INFO [2025-10-14 16:06:07] $euler.d
INFO [2025-10-14 16:06:07] [1] FALSE
INFO [2025-10-14 16:06:07]
INFO [2025-10-14 16:06:07] $cat.cex
INFO [2025-10-14 16:06:07] [1] 1
INFO [2025-10-14 16:06:07]
INFO [2025-10-14 16:06:07] $cat.col
INFO [2025-10-14 16:06:07] [1] "black"
INFO [2025-10-14 16:06:07]
INFO [2025-10-14 16:06:07] $cat.fontface
INFO [2025-10-14 16:06:07] [1] "plain"
INFO [2025-10-14 16:06:07]
INFO [2025-10-14 16:06:07] $cat.fontfamily
INFO [2025-10-14 16:06:07] [1] "serif"
INFO [2025-10-14 16:06:07]
INFO [2025-10-14 16:06:07] $x
INFO [2025-10-14 16:06:07] $x$TF1
INFO [2025-10-14 16:06:07] [1] 4 5 6
INFO [2025-10-14 16:06:07]
INFO [2025-10-14 16:06:07] $x$TF2
INFO [2025-10-14 16:06:07] [1] 1 2 3
INFO [2025-10-14 16:06:07]
INFO [2025-10-14 16:06:07]
INFO [2025-10-14 16:06:07] $disable.logging
INFO [2025-10-14 16:06:07] [1] TRUE
INFO [2025-10-14 16:06:07]
INFO [2025-10-14 16:06:07] $filename
INFO [2025-10-14 16:06:07] NULL
INFO [2025-10-14 16:06:07]
INFO [2025-10-14 16:06:07] $scaled
INFO [2025-10-14 16:06:07] [1] FALSE
INFO [2025-10-14 16:06:07]
INFO [2025-10-14 16:06:07] $euler.d
INFO [2025-10-14 16:06:07] [1] FALSE
INFO [2025-10-14 16:06:07]
INFO [2025-10-14 16:06:07] $cat.cex
INFO [2025-10-14 16:06:07] [1] 1
INFO [2025-10-14 16:06:07]
INFO [2025-10-14 16:06:07] $cat.col
INFO [2025-10-14 16:06:07] [1] "black"
INFO [2025-10-14 16:06:07]
INFO [2025-10-14 16:06:07] $cat.fontface
INFO [2025-10-14 16:06:07] [1] "plain"
INFO [2025-10-14 16:06:07]
INFO [2025-10-14 16:06:07] $cat.fontfamily
INFO [2025-10-14 16:06:07] [1] "serif"
INFO [2025-10-14 16:06:07]
INFO [2025-10-14 16:06:07] $x
INFO [2025-10-14 16:06:07] $x$TF1
INFO [2025-10-14 16:06:07] [1] 4 5 6
INFO [2025-10-14 16:06:07]
INFO [2025-10-14 16:06:07] $x$TF2
INFO [2025-10-14 16:06:07] [1] 1 2 3
INFO [2025-10-14 16:06:07]
INFO [2025-10-14 16:06:07] $x$TF3
INFO [2025-10-14 16:06:07] [1] 2 3 6
INFO [2025-10-14 16:06:07]
INFO [2025-10-14 16:06:07]
INFO [2025-10-14 16:06:07] $disable.logging
INFO [2025-10-14 16:06:07] [1] TRUE
INFO [2025-10-14 16:06:07]
INFO [2025-10-14 16:06:07] $filename
INFO [2025-10-14 16:06:07] NULL
INFO [2025-10-14 16:06:07]
INFO [2025-10-14 16:06:07] $scaled
INFO [2025-10-14 16:06:07] [1] FALSE
INFO [2025-10-14 16:06:07]
INFO [2025-10-14 16:06:07] $euler.d
INFO [2025-10-14 16:06:07] [1] FALSE
INFO [2025-10-14 16:06:07]
INFO [2025-10-14 16:06:07] $cat.cex
INFO [2025-10-14 16:06:07] [1] 1
INFO [2025-10-14 16:06:07]
INFO [2025-10-14 16:06:07] $cat.col
INFO [2025-10-14 16:06:07] [1] "black"
INFO [2025-10-14 16:06:07]
INFO [2025-10-14 16:06:07] $cat.fontface
INFO [2025-10-14 16:06:07] [1] "plain"
INFO [2025-10-14 16:06:07]
INFO [2025-10-14 16:06:07] $cat.fontfamily
INFO [2025-10-14 16:06:07] [1] "serif"
INFO [2025-10-14 16:06:07]
INFO [2025-10-14 16:06:07] $x
INFO [2025-10-14 16:06:07] $x$TF1
INFO [2025-10-14 16:06:07] [1] 3 4 5
INFO [2025-10-14 16:06:07]
INFO [2025-10-14 16:06:07] $x$TF2
INFO [2025-10-14 16:06:07] [1] 1 2 5
INFO [2025-10-14 16:06:07]
INFO [2025-10-14 16:06:07] $x$TF3
INFO [2025-10-14 16:06:07] [1] 1 2 5
INFO [2025-10-14 16:06:07]
INFO [2025-10-14 16:06:07]
INFO [2025-10-14 16:06:07] $disable.logging
INFO [2025-10-14 16:06:07] [1] TRUE
INFO [2025-10-14 16:06:07]
INFO [2025-10-14 16:06:07] $filename
INFO [2025-10-14 16:06:07] NULL
INFO [2025-10-14 16:06:07]
INFO [2025-10-14 16:06:08] $scaled
INFO [2025-10-14 16:06:08] [1] FALSE
INFO [2025-10-14 16:06:08]
INFO [2025-10-14 16:06:08] $euler.d
INFO [2025-10-14 16:06:08] [1] FALSE
INFO [2025-10-14 16:06:08]
INFO [2025-10-14 16:06:08] $cat.cex
INFO [2025-10-14 16:06:08] [1] 1
INFO [2025-10-14 16:06:08]
INFO [2025-10-14 16:06:08] $cat.col
INFO [2025-10-14 16:06:08] [1] "black"
INFO [2025-10-14 16:06:08]
INFO [2025-10-14 16:06:08] $cat.fontface
INFO [2025-10-14 16:06:08] [1] "plain"
INFO [2025-10-14 16:06:08]
INFO [2025-10-14 16:06:08] $cat.fontfamily
INFO [2025-10-14 16:06:08] [1] "serif"
INFO [2025-10-14 16:06:08]
INFO [2025-10-14 16:06:08] $x
INFO [2025-10-14 16:06:08] $x$TF1
INFO [2025-10-14 16:06:08] [1] 3 4 5
INFO [2025-10-14 16:06:08]
INFO [2025-10-14 16:06:08] $x$TF2
INFO [2025-10-14 16:06:08] [1] 1 2 5
INFO [2025-10-14 16:06:08]
INFO [2025-10-14 16:06:08] $x$TF3
INFO [2025-10-14 16:06:08] [1] 1 2 5
INFO [2025-10-14 16:06:08]
INFO [2025-10-14 16:06:08] $x$TF4
INFO [2025-10-14 16:06:08] [1] 1 2 5
INFO [2025-10-14 16:06:08]
INFO [2025-10-14 16:06:08]
INFO [2025-10-14 16:06:08] $disable.logging
INFO [2025-10-14 16:06:08] [1] TRUE
INFO [2025-10-14 16:06:08]
INFO [2025-10-14 16:06:08] $filename
INFO [2025-10-14 16:06:08] NULL
INFO [2025-10-14 16:06:08]
[ FAIL 0 | WARN 3 | SKIP 6 | PASS 320 ]
══ Skipped tests (6) ═══════════════════════════════════════════════════════════
• empty test (6): 'test_binOverGene.R:1:1', 'test_binOverRegions.R:1:1',
'test_enrichmentPlot.R:1:1', 'test_getAnnotation.R:1:1',
'test_reCenterPeaks.R:1:1', 'test_write2FASTA.R:1:1'
[ FAIL 0 | WARN 3 | SKIP 6 | PASS 320 ]
>
> proc.time()
user system elapsed
183.501 5.212 196.884
ChIPpeakAnno.Rcheck/ChIPpeakAnno-Ex.timings
| name | user | system | elapsed | |
| ChIPpeakAnno-package | 0.000 | 0.000 | 0.001 | |
| ExonPlusUtr.human.GRCh37 | 5.008 | 0.150 | 5.241 | |
| HOT.spots | 0.189 | 0.012 | 0.203 | |
| IDRfilter | 0.001 | 0.001 | 0.001 | |
| Peaks.Ste12.Replicate1 | 0.051 | 0.004 | 0.055 | |
| Peaks.Ste12.Replicate2 | 0.013 | 0.003 | 0.016 | |
| Peaks.Ste12.Replicate3 | 0.012 | 0.003 | 0.015 | |
| TSS.human.GRCh37 | 0.173 | 0.010 | 0.185 | |
| TSS.human.GRCh38 | 0.333 | 0.017 | 0.355 | |
| TSS.human.NCBI36 | 0.177 | 0.010 | 0.187 | |
| TSS.mouse.GRCm38 | 0.169 | 0.012 | 0.183 | |
| TSS.mouse.NCBIM37 | 0.142 | 0.006 | 0.150 | |
| TSS.rat.RGSC3.4 | 0.128 | 0.006 | 0.138 | |
| TSS.rat.Rnor_5.0 | 0.106 | 0.006 | 0.112 | |
| TSS.zebrafish.Zv8 | 0.117 | 0.008 | 0.124 | |
| TSS.zebrafish.Zv9 | 0.140 | 0.007 | 0.151 | |
| addAncestors | 1.311 | 0.057 | 1.376 | |
| addGeneIDs | 2.817 | 0.663 | 3.547 | |
| addMetadata | 1.218 | 0.090 | 1.318 | |
| annoGR | 0.000 | 0.001 | 0.000 | |
| annoPeaks | 3.498 | 0.294 | 5.990 | |
| annotatePeakInBatch | 14.087 | 0.630 | 14.939 | |
| annotatedPeak | 0.087 | 0.004 | 0.092 | |
| assignChromosomeRegion | 0.002 | 0.001 | 0.002 | |
| bdp | 0.001 | 0.000 | 0.000 | |
| binOverFeature | 0.876 | 0.026 | 0.911 | |
| binOverGene | 0.001 | 0.000 | 0.001 | |
| binOverRegions | 0.001 | 0.001 | 0.001 | |
| condenseMatrixByColnames | 0.011 | 0.001 | 0.011 | |
| convert2EntrezID | 0.532 | 0.006 | 0.542 | |
| countPatternInSeqs | 0.183 | 0.005 | 0.191 | |
| cumulativePercentage | 0.000 | 0.000 | 0.001 | |
| downstreams | 0.024 | 0.000 | 0.026 | |
| egOrgMap | 0.001 | 0.000 | 0.000 | |
| enrichedGO | 0.003 | 0.002 | 0.005 | |
| enrichmentPlot | 0.704 | 0.011 | 0.717 | |
| estFragmentLength | 0.001 | 0.000 | 0.001 | |
| estLibSize | 0.001 | 0.000 | 0.000 | |
| featureAlignedDistribution | 0.328 | 0.005 | 0.339 | |
| featureAlignedExtendSignal | 0.002 | 0.000 | 0.003 | |
| featureAlignedHeatmap | 0.328 | 0.003 | 0.335 | |
| featureAlignedSignal | 0.183 | 0.042 | 0.228 | |
| findEnhancers | 24.407 | 0.586 | 25.353 | |
| findMotifsInPromoterSeqs | 17.325 | 0.542 | 18.291 | |
| findOverlappingPeaks | 0.001 | 0.000 | 0.002 | |
| findOverlapsOfPeaks | 1.862 | 0.027 | 1.921 | |
| genomicElementDistribution | 0.002 | 0.000 | 0.003 | |
| genomicElementUpSetR | 0.001 | 0.000 | 0.001 | |
| getAllPeakSequence | 0.610 | 0.034 | 0.671 | |
| getAnnotation | 0.001 | 0.001 | 0.003 | |
| getEnrichedGO | 0.012 | 0.006 | 0.019 | |
| getEnrichedPATH | 0.001 | 0.000 | 0.002 | |
| getGO | 0.001 | 0.001 | 0.000 | |
| getGeneSeq | 0.002 | 0.001 | 0.002 | |
| getUniqueGOidCount | 0.001 | 0.000 | 0.001 | |
| getVennCounts | 0.002 | 0.001 | 0.001 | |
| hyperGtest | 0.001 | 0.001 | 0.001 | |
| makeVennDiagram | 0.004 | 0.000 | 0.004 | |
| mergePlusMinusPeaks | 0.001 | 0.000 | 0.001 | |
| metagenePlot | 2.460 | 0.080 | 2.557 | |
| myPeakList | 0.027 | 0.003 | 0.029 | |
| oligoFrequency | 0.119 | 0.007 | 0.127 | |
| oligoSummary | 0.001 | 0.000 | 0.001 | |
| peakPermTest | 0.002 | 0.001 | 0.003 | |
| peaks1 | 0.008 | 0.002 | 0.010 | |
| peaks2 | 0.008 | 0.003 | 0.011 | |
| peaks3 | 0.007 | 0.002 | 0.010 | |
| peaksNearBDP | 0.001 | 0.000 | 0.001 | |
| pie1 | 0.005 | 0.002 | 0.006 | |
| plotBinOverRegions | 0.001 | 0.001 | 0.001 | |
| preparePool | 0.000 | 0.000 | 0.001 | |
| reCenterPeaks | 0.025 | 0.001 | 0.027 | |
| summarizeOverlapsByBins | 7.200 | 0.507 | 7.475 | |
| summarizePatternInPeaks | 1.445 | 0.408 | 1.872 | |
| tileCount | 0.373 | 0.410 | 0.484 | |
| tileGRanges | 0.038 | 0.023 | 0.060 | |
| toGRanges | 0.086 | 0.036 | 0.123 | |
| translatePattern | 0.000 | 0.001 | 0.001 | |
| wgEncodeTfbsV3 | 0.310 | 0.017 | 0.328 | |
| write2FASTA | 0.014 | 0.005 | 0.020 | |
| xget | 0.125 | 0.017 | 0.142 | |