Back to Build/check report for BioC 3.22:   simplified   long
AB[C]DEFGHIJKLMNOPQRSTUVWXYZ

This page was generated on 2025-11-13 11:55 -0500 (Thu, 13 Nov 2025).

HostnameOSArch (*)R versionInstalled pkgs
taishanLinux (openEuler 24.03 LTS)aarch644.5.0 (2025-04-11) -- "How About a Twenty-Six" 4668
Click on any hostname to see more info about the system (e.g. compilers)      (*) as reported by 'uname -p', except on Windows and Mac OS X

Package 350/2361HostnameOS / ArchINSTALLBUILDCHECKBUILD BIN
ChIPpeakAnno 3.44.0  (landing page)
Jianhong Ou
Snapshot Date: 2025-11-12 13:45 -0500 (Wed, 12 Nov 2025)
git_url: https://git.bioconductor.org/packages/ChIPpeakAnno
git_branch: RELEASE_3_22
git_last_commit: 2b855fa
git_last_commit_date: 2025-10-29 10:03:18 -0500 (Wed, 29 Oct 2025)
taishanLinux (openEuler 24.03 LTS) / aarch64  OK    OK    OK  


CHECK results for ChIPpeakAnno on taishan

To the developers/maintainers of the ChIPpeakAnno package:
- Allow up to 24 hours (and sometimes 48 hours) for your latest push to git@git.bioconductor.org:packages/ChIPpeakAnno.git to reflect on this report. See Troubleshooting Build Report for more information.
- Use the following Renviron settings to reproduce errors and warnings.
- If 'R CMD check' started to fail recently on the Linux builder(s) over a missing dependency, add the missing dependency to 'Suggests:' in your DESCRIPTION file. See Renviron.bioc for more information.
- See Martin Grigorov's blog post for how to debug Linux ARM64 related issues on a x86_64 host.

raw results


Summary

Package: ChIPpeakAnno
Version: 3.44.0
Command: /home/biocbuild/R/R/bin/R CMD check --install=check:ChIPpeakAnno.install-out.txt --library=/home/biocbuild/R/R/site-library --no-vignettes --timings ChIPpeakAnno_3.44.0.tar.gz
StartedAt: 2025-11-11 08:04:59 -0000 (Tue, 11 Nov 2025)
EndedAt: 2025-11-11 08:18:39 -0000 (Tue, 11 Nov 2025)
EllapsedTime: 819.6 seconds
RetCode: 0
Status:   OK  
CheckDir: ChIPpeakAnno.Rcheck
Warnings: 0

Command output

##############################################################################
##############################################################################
###
### Running command:
###
###   /home/biocbuild/R/R/bin/R CMD check --install=check:ChIPpeakAnno.install-out.txt --library=/home/biocbuild/R/R/site-library --no-vignettes --timings ChIPpeakAnno_3.44.0.tar.gz
###
##############################################################################
##############################################################################


* using log directory ‘/home/biocbuild/bbs-3.22-bioc/meat/ChIPpeakAnno.Rcheck’
* using R version 4.5.0 (2025-04-11)
* using platform: aarch64-unknown-linux-gnu
* R was compiled by
    aarch64-unknown-linux-gnu-gcc (GCC) 14.2.0
    GNU Fortran (GCC) 14.2.0
* running under: openEuler 24.03 (LTS)
* using session charset: UTF-8
* using option ‘--no-vignettes’
* checking for file ‘ChIPpeakAnno/DESCRIPTION’ ... OK
* checking extension type ... Package
* this is package ‘ChIPpeakAnno’ version ‘3.44.0’
* package encoding: UTF-8
* checking package namespace information ... OK
* checking package dependencies ... INFO
Imports includes 29 non-default packages.
Importing from so many packages makes the package vulnerable to any of
them becoming unavailable.  Move as many as possible to Suggests and
use conditionally.
* checking if this is a source package ... OK
* checking if there is a namespace ... OK
* checking for hidden files and directories ... OK
* checking for portable file names ... OK
* checking for sufficient/correct file permissions ... OK
* checking whether package ‘ChIPpeakAnno’ can be installed ... OK
* checking installed package size ... INFO
  installed size is 21.1Mb
  sub-directories of 1Mb or more:
    R         1.0Mb
    data     12.6Mb
    extdata   7.2Mb
* checking package directory ... OK
* checking ‘build’ directory ... OK
* checking DESCRIPTION meta-information ... OK
* checking top-level files ... OK
* checking for left-over files ... OK
* checking index information ... OK
* checking package subdirectories ... OK
* checking code files for non-ASCII characters ... OK
* checking R files for syntax errors ... OK
* checking whether the package can be loaded ... OK
* checking whether the package can be loaded with stated dependencies ... OK
* checking whether the package can be unloaded cleanly ... OK
* checking whether the namespace can be loaded with stated dependencies ... OK
* checking whether the namespace can be unloaded cleanly ... OK
* checking loading without being on the library search path ... OK
* checking dependencies in R code ... OK
* checking S3 generic/method consistency ... OK
* checking replacement functions ... OK
* checking foreign function calls ... OK
* checking R code for possible problems ... OK
* checking Rd files ... OK
* checking Rd metadata ... OK
* checking Rd cross-references ... OK
* checking for missing documentation entries ... OK
* checking for code/documentation mismatches ... OK
* checking Rd \usage sections ... OK
* checking Rd contents ... OK
* checking for unstated dependencies in examples ... OK
* checking contents of ‘data’ directory ... OK
* checking data for non-ASCII characters ... OK
* checking LazyData ... OK
* checking data for ASCII and uncompressed saves ... OK
* checking files in ‘vignettes’ ... OK
* checking examples ... OK
Examples with CPU (user + system) or elapsed time > 5s
                           user system elapsed
findEnhancers            35.069  0.351  35.531
findMotifsInPromoterSeqs 20.352  0.172  20.587
annotatePeakInBatch      15.960  0.339  16.348
summarizeOverlapsByBins   5.337  0.525   5.486
* checking for unstated dependencies in ‘tests’ ... OK
* checking tests ...
  Running ‘runTests.R’
 OK
* checking for unstated dependencies in vignettes ... OK
* checking package vignettes ... OK
* checking running R code from vignettes ... SKIPPED
* checking re-building of vignette outputs ... SKIPPED
* checking PDF version of manual ... OK
* DONE

Status: OK


Installation output

ChIPpeakAnno.Rcheck/00install.out

##############################################################################
##############################################################################
###
### Running command:
###
###   /home/biocbuild/R/R/bin/R CMD INSTALL ChIPpeakAnno
###
##############################################################################
##############################################################################


* installing to library ‘/home/biocbuild/R/R-4.5.0/site-library’
* installing *source* package ‘ChIPpeakAnno’ ...
** this is package ‘ChIPpeakAnno’ version ‘3.44.0’
** using staged installation
** R
** data
*** moving datasets to lazyload DB
** inst
** byte-compile and prepare package for lazy loading
** help
*** installing help indices
** building package indices
** installing vignettes
** testing if installed package can be loaded from temporary location
** testing if installed package can be loaded from final location
** testing if installed package keeps a record of temporary installation path
* DONE (ChIPpeakAnno)

Tests output

ChIPpeakAnno.Rcheck/tests/runTests.Rout


R version 4.5.0 (2025-04-11) -- "How About a Twenty-Six"
Copyright (C) 2025 The R Foundation for Statistical Computing
Platform: aarch64-unknown-linux-gnu

R is free software and comes with ABSOLUTELY NO WARRANTY.
You are welcome to redistribute it under certain conditions.
Type 'license()' or 'licence()' for distribution details.

R is a collaborative project with many contributors.
Type 'contributors()' for more information and
'citation()' on how to cite R or R packages in publications.

Type 'demo()' for some demos, 'help()' for on-line help, or
'help.start()' for an HTML browser interface to help.
Type 'q()' to quit R.

> require("ChIPpeakAnno") || stop("unable to load Package:ChIPpeakAnno")
Loading required package: ChIPpeakAnno
Loading required package: IRanges
Loading required package: BiocGenerics
Loading required package: generics

Attaching package: 'generics'

The following objects are masked from 'package:base':

    as.difftime, as.factor, as.ordered, intersect, is.element, setdiff,
    setequal, union


Attaching package: 'BiocGenerics'

The following objects are masked from 'package:stats':

    IQR, mad, sd, var, xtabs

The following objects are masked from 'package:base':

    Filter, Find, Map, Position, Reduce, anyDuplicated, aperm, append,
    as.data.frame, basename, cbind, colnames, dirname, do.call,
    duplicated, eval, evalq, get, grep, grepl, is.unsorted, lapply,
    mapply, match, mget, order, paste, pmax, pmax.int, pmin, pmin.int,
    rank, rbind, rownames, sapply, saveRDS, table, tapply, unique,
    unsplit, which.max, which.min

Loading required package: S4Vectors
Loading required package: stats4

Attaching package: 'S4Vectors'

The following object is masked from 'package:utils':

    findMatches

The following objects are masked from 'package:base':

    I, expand.grid, unname

Loading required package: GenomicRanges
Loading required package: Seqinfo
[1] TRUE
> require("BSgenome.Drerio.UCSC.danRer7") || stop("unable to load Package:BSgenome.Drerio.UCSC.danRer7")
Loading required package: BSgenome.Drerio.UCSC.danRer7
Loading required package: BSgenome
Loading required package: Biostrings
Loading required package: XVector

Attaching package: 'Biostrings'

The following object is masked from 'package:base':

    strsplit

Loading required package: BiocIO
Loading required package: rtracklayer
[1] TRUE
> require("BSgenome.Hsapiens.UCSC.hg19") || stop("unable to load Package:BSgenome.Hsapiens.UCSC.hg19")
Loading required package: BSgenome.Hsapiens.UCSC.hg19
[1] TRUE
> require("org.Hs.eg.db") || stop("unable to load Package:org.Hs.eg.db")
Loading required package: org.Hs.eg.db
Loading required package: AnnotationDbi
Loading required package: Biobase
Welcome to Bioconductor

    Vignettes contain introductory material; view with
    'browseVignettes()'. To cite Bioconductor, see
    'citation("Biobase")', and for packages 'citation("pkgname")'.


[1] TRUE
> require("org.Ce.eg.db") || stop("unable to load Package:org.Ce.eg.db")
Loading required package: org.Ce.eg.db

[1] TRUE
> require("BSgenome.Celegans.UCSC.ce10") || stop("unable to load Package:BSgenome.Celegans.UCSC.ce10")
Loading required package: BSgenome.Celegans.UCSC.ce10
[1] TRUE
> require("EnsDb.Hsapiens.v79") || stop("unable to load Package:EnsDb.Hsapiens.v79")
Loading required package: EnsDb.Hsapiens.v79
Loading required package: ensembldb
Loading required package: GenomicFeatures
Loading required package: AnnotationFilter

Attaching package: 'ensembldb'

The following object is masked from 'package:stats':

    filter

[1] TRUE
> require("TxDb.Hsapiens.UCSC.hg38.knownGene") || stop("unable to load TxDb.Hsapiens.UCSC.hg38.knownGene")
Loading required package: TxDb.Hsapiens.UCSC.hg38.knownGene
[1] TRUE
> require("biomaRt") || stop("unable to load biomaRt")
Loading required package: biomaRt
[1] TRUE
> require("reactome.db") || stop("unable to load reactome.db")
Loading required package: reactome.db
[1] TRUE
> require("testthat") || stop("unable to load testthat")
Loading required package: testthat

Attaching package: 'testthat'

The following object is masked from 'package:AnnotationFilter':

    not

[1] TRUE
> test_check("ChIPpeakAnno")
INFO [2025-11-11 08:18:14] $cat.cex
INFO [2025-11-11 08:18:14] [1] 1
INFO [2025-11-11 08:18:14] 
INFO [2025-11-11 08:18:14] $cat.col
INFO [2025-11-11 08:18:14] [1] "black"
INFO [2025-11-11 08:18:14] 
INFO [2025-11-11 08:18:14] $cat.fontface
INFO [2025-11-11 08:18:14] [1] "plain"
INFO [2025-11-11 08:18:14] 
INFO [2025-11-11 08:18:14] $cat.fontfamily
INFO [2025-11-11 08:18:14] [1] "serif"
INFO [2025-11-11 08:18:14] 
INFO [2025-11-11 08:18:14] $x
INFO [2025-11-11 08:18:14] $x$TF1
INFO [2025-11-11 08:18:14] [1] 3 4 5
INFO [2025-11-11 08:18:14] 
INFO [2025-11-11 08:18:14] $x$TF2
INFO [2025-11-11 08:18:14] [1] 1 2 3 4 5
INFO [2025-11-11 08:18:14] 
INFO [2025-11-11 08:18:14] 
INFO [2025-11-11 08:18:14] $disable.logging
INFO [2025-11-11 08:18:14] [1] TRUE
INFO [2025-11-11 08:18:14] 
INFO [2025-11-11 08:18:14] $filename
INFO [2025-11-11 08:18:14] NULL
INFO [2025-11-11 08:18:14] 
INFO [2025-11-11 08:18:14] $cat.cex
INFO [2025-11-11 08:18:14] [1] 1
INFO [2025-11-11 08:18:14] 
INFO [2025-11-11 08:18:14] $cat.col
INFO [2025-11-11 08:18:14] [1] "black"
INFO [2025-11-11 08:18:14] 
INFO [2025-11-11 08:18:14] $cat.fontface
INFO [2025-11-11 08:18:14] [1] "plain"
INFO [2025-11-11 08:18:14] 
INFO [2025-11-11 08:18:14] $cat.fontfamily
INFO [2025-11-11 08:18:14] [1] "serif"
INFO [2025-11-11 08:18:14] 
INFO [2025-11-11 08:18:14] $x
INFO [2025-11-11 08:18:14] $x$TF1
INFO [2025-11-11 08:18:14] [1] 3 4 5
INFO [2025-11-11 08:18:14] 
INFO [2025-11-11 08:18:14] $x$TF2
INFO [2025-11-11 08:18:14] [1] 1 2 4 5
INFO [2025-11-11 08:18:14] 
INFO [2025-11-11 08:18:14] $x$TF3
INFO [2025-11-11 08:18:14] [1] 3 4 5
INFO [2025-11-11 08:18:14] 
INFO [2025-11-11 08:18:14] $x$TF4
INFO [2025-11-11 08:18:14] [1] 1 2 4 5
INFO [2025-11-11 08:18:14] 
INFO [2025-11-11 08:18:14] 
INFO [2025-11-11 08:18:14] $disable.logging
INFO [2025-11-11 08:18:14] [1] TRUE
INFO [2025-11-11 08:18:14] 
INFO [2025-11-11 08:18:14] $filename
INFO [2025-11-11 08:18:14] NULL
INFO [2025-11-11 08:18:14] 
INFO [2025-11-11 08:18:15] $scaled
INFO [2025-11-11 08:18:15] [1] FALSE
INFO [2025-11-11 08:18:15] 
INFO [2025-11-11 08:18:15] $euler.d
INFO [2025-11-11 08:18:15] [1] FALSE
INFO [2025-11-11 08:18:15] 
INFO [2025-11-11 08:18:15] $cat.cex
INFO [2025-11-11 08:18:15] [1] 1
INFO [2025-11-11 08:18:15] 
INFO [2025-11-11 08:18:15] $cat.col
INFO [2025-11-11 08:18:15] [1] "black"
INFO [2025-11-11 08:18:15] 
INFO [2025-11-11 08:18:15] $cat.fontface
INFO [2025-11-11 08:18:15] [1] "plain"
INFO [2025-11-11 08:18:15] 
INFO [2025-11-11 08:18:15] $cat.fontfamily
INFO [2025-11-11 08:18:15] [1] "serif"
INFO [2025-11-11 08:18:15] 
INFO [2025-11-11 08:18:15] $x
INFO [2025-11-11 08:18:15] $x$TF1
INFO [2025-11-11 08:18:15] [1] 1 2 3
INFO [2025-11-11 08:18:15] 
INFO [2025-11-11 08:18:15] $x$TF2
INFO [2025-11-11 08:18:15] [1] 1 2 3
INFO [2025-11-11 08:18:15] 
INFO [2025-11-11 08:18:15] 
INFO [2025-11-11 08:18:15] $disable.logging
INFO [2025-11-11 08:18:15] [1] TRUE
INFO [2025-11-11 08:18:15] 
INFO [2025-11-11 08:18:15] $filename
INFO [2025-11-11 08:18:15] NULL
INFO [2025-11-11 08:18:15] 
INFO [2025-11-11 08:18:15] $scaled
INFO [2025-11-11 08:18:15] [1] FALSE
INFO [2025-11-11 08:18:15] 
INFO [2025-11-11 08:18:15] $euler.d
INFO [2025-11-11 08:18:15] [1] FALSE
INFO [2025-11-11 08:18:15] 
INFO [2025-11-11 08:18:15] $cat.cex
INFO [2025-11-11 08:18:15] [1] 1
INFO [2025-11-11 08:18:15] 
INFO [2025-11-11 08:18:15] $cat.col
INFO [2025-11-11 08:18:15] [1] "black"
INFO [2025-11-11 08:18:15] 
INFO [2025-11-11 08:18:15] $cat.fontface
INFO [2025-11-11 08:18:15] [1] "plain"
INFO [2025-11-11 08:18:15] 
INFO [2025-11-11 08:18:15] $cat.fontfamily
INFO [2025-11-11 08:18:15] [1] "serif"
INFO [2025-11-11 08:18:15] 
INFO [2025-11-11 08:18:15] $x
INFO [2025-11-11 08:18:15] $x$TF1
INFO [2025-11-11 08:18:15] [1] 4 5 6
INFO [2025-11-11 08:18:15] 
INFO [2025-11-11 08:18:15] $x$TF2
INFO [2025-11-11 08:18:15] [1] 1 2 3
INFO [2025-11-11 08:18:15] 
INFO [2025-11-11 08:18:15] 
INFO [2025-11-11 08:18:15] $disable.logging
INFO [2025-11-11 08:18:15] [1] TRUE
INFO [2025-11-11 08:18:15] 
INFO [2025-11-11 08:18:15] $filename
INFO [2025-11-11 08:18:15] NULL
INFO [2025-11-11 08:18:15] 
INFO [2025-11-11 08:18:16] $scaled
INFO [2025-11-11 08:18:16] [1] FALSE
INFO [2025-11-11 08:18:16] 
INFO [2025-11-11 08:18:16] $euler.d
INFO [2025-11-11 08:18:16] [1] FALSE
INFO [2025-11-11 08:18:16] 
INFO [2025-11-11 08:18:16] $cat.cex
INFO [2025-11-11 08:18:16] [1] 1
INFO [2025-11-11 08:18:16] 
INFO [2025-11-11 08:18:16] $cat.col
INFO [2025-11-11 08:18:16] [1] "black"
INFO [2025-11-11 08:18:16] 
INFO [2025-11-11 08:18:16] $cat.fontface
INFO [2025-11-11 08:18:16] [1] "plain"
INFO [2025-11-11 08:18:16] 
INFO [2025-11-11 08:18:16] $cat.fontfamily
INFO [2025-11-11 08:18:16] [1] "serif"
INFO [2025-11-11 08:18:16] 
INFO [2025-11-11 08:18:16] $x
INFO [2025-11-11 08:18:16] $x$TF1
INFO [2025-11-11 08:18:16] [1] 4 5 6
INFO [2025-11-11 08:18:16] 
INFO [2025-11-11 08:18:16] $x$TF2
INFO [2025-11-11 08:18:16] [1] 1 2 3
INFO [2025-11-11 08:18:16] 
INFO [2025-11-11 08:18:16] 
INFO [2025-11-11 08:18:16] $disable.logging
INFO [2025-11-11 08:18:16] [1] TRUE
INFO [2025-11-11 08:18:16] 
INFO [2025-11-11 08:18:16] $filename
INFO [2025-11-11 08:18:16] NULL
INFO [2025-11-11 08:18:16] 
INFO [2025-11-11 08:18:16] $scaled
INFO [2025-11-11 08:18:16] [1] FALSE
INFO [2025-11-11 08:18:16] 
INFO [2025-11-11 08:18:16] $euler.d
INFO [2025-11-11 08:18:16] [1] FALSE
INFO [2025-11-11 08:18:16] 
INFO [2025-11-11 08:18:16] $cat.cex
INFO [2025-11-11 08:18:16] [1] 1
INFO [2025-11-11 08:18:16] 
INFO [2025-11-11 08:18:16] $cat.col
INFO [2025-11-11 08:18:16] [1] "black"
INFO [2025-11-11 08:18:16] 
INFO [2025-11-11 08:18:16] $cat.fontface
INFO [2025-11-11 08:18:16] [1] "plain"
INFO [2025-11-11 08:18:16] 
INFO [2025-11-11 08:18:16] $cat.fontfamily
INFO [2025-11-11 08:18:16] [1] "serif"
INFO [2025-11-11 08:18:16] 
INFO [2025-11-11 08:18:16] $x
INFO [2025-11-11 08:18:16] $x$TF1
INFO [2025-11-11 08:18:16] [1] 4 5 6
INFO [2025-11-11 08:18:16] 
INFO [2025-11-11 08:18:16] $x$TF2
INFO [2025-11-11 08:18:16] [1] 1 2 3
INFO [2025-11-11 08:18:16] 
INFO [2025-11-11 08:18:16] $x$TF3
INFO [2025-11-11 08:18:16] [1] 2 3 6
INFO [2025-11-11 08:18:16] 
INFO [2025-11-11 08:18:16] 
INFO [2025-11-11 08:18:16] $disable.logging
INFO [2025-11-11 08:18:16] [1] TRUE
INFO [2025-11-11 08:18:16] 
INFO [2025-11-11 08:18:16] $filename
INFO [2025-11-11 08:18:16] NULL
INFO [2025-11-11 08:18:16] 
INFO [2025-11-11 08:18:16] $scaled
INFO [2025-11-11 08:18:16] [1] FALSE
INFO [2025-11-11 08:18:16] 
INFO [2025-11-11 08:18:16] $euler.d
INFO [2025-11-11 08:18:16] [1] FALSE
INFO [2025-11-11 08:18:16] 
INFO [2025-11-11 08:18:16] $cat.cex
INFO [2025-11-11 08:18:16] [1] 1
INFO [2025-11-11 08:18:16] 
INFO [2025-11-11 08:18:16] $cat.col
INFO [2025-11-11 08:18:16] [1] "black"
INFO [2025-11-11 08:18:16] 
INFO [2025-11-11 08:18:16] $cat.fontface
INFO [2025-11-11 08:18:16] [1] "plain"
INFO [2025-11-11 08:18:16] 
INFO [2025-11-11 08:18:16] $cat.fontfamily
INFO [2025-11-11 08:18:16] [1] "serif"
INFO [2025-11-11 08:18:16] 
INFO [2025-11-11 08:18:16] $x
INFO [2025-11-11 08:18:16] $x$TF1
INFO [2025-11-11 08:18:16] [1] 3 4 5
INFO [2025-11-11 08:18:16] 
INFO [2025-11-11 08:18:16] $x$TF2
INFO [2025-11-11 08:18:16] [1] 1 2 5
INFO [2025-11-11 08:18:16] 
INFO [2025-11-11 08:18:16] $x$TF3
INFO [2025-11-11 08:18:16] [1] 1 2 5
INFO [2025-11-11 08:18:16] 
INFO [2025-11-11 08:18:16] 
INFO [2025-11-11 08:18:16] $disable.logging
INFO [2025-11-11 08:18:16] [1] TRUE
INFO [2025-11-11 08:18:16] 
INFO [2025-11-11 08:18:16] $filename
INFO [2025-11-11 08:18:16] NULL
INFO [2025-11-11 08:18:16] 
INFO [2025-11-11 08:18:17] $scaled
INFO [2025-11-11 08:18:17] [1] FALSE
INFO [2025-11-11 08:18:17] 
INFO [2025-11-11 08:18:17] $euler.d
INFO [2025-11-11 08:18:17] [1] FALSE
INFO [2025-11-11 08:18:17] 
INFO [2025-11-11 08:18:17] $cat.cex
INFO [2025-11-11 08:18:17] [1] 1
INFO [2025-11-11 08:18:17] 
INFO [2025-11-11 08:18:17] $cat.col
INFO [2025-11-11 08:18:17] [1] "black"
INFO [2025-11-11 08:18:17] 
INFO [2025-11-11 08:18:17] $cat.fontface
INFO [2025-11-11 08:18:17] [1] "plain"
INFO [2025-11-11 08:18:17] 
INFO [2025-11-11 08:18:17] $cat.fontfamily
INFO [2025-11-11 08:18:17] [1] "serif"
INFO [2025-11-11 08:18:17] 
INFO [2025-11-11 08:18:17] $x
INFO [2025-11-11 08:18:17] $x$TF1
INFO [2025-11-11 08:18:17] [1] 3 4 5
INFO [2025-11-11 08:18:17] 
INFO [2025-11-11 08:18:17] $x$TF2
INFO [2025-11-11 08:18:17] [1] 1 2 5
INFO [2025-11-11 08:18:17] 
INFO [2025-11-11 08:18:17] $x$TF3
INFO [2025-11-11 08:18:17] [1] 1 2 5
INFO [2025-11-11 08:18:17] 
INFO [2025-11-11 08:18:17] $x$TF4
INFO [2025-11-11 08:18:17] [1] 1 2 5
INFO [2025-11-11 08:18:17] 
INFO [2025-11-11 08:18:17] 
INFO [2025-11-11 08:18:17] $disable.logging
INFO [2025-11-11 08:18:17] [1] TRUE
INFO [2025-11-11 08:18:17] 
INFO [2025-11-11 08:18:17] $filename
INFO [2025-11-11 08:18:17] NULL
INFO [2025-11-11 08:18:17] 
[ FAIL 0 | WARN 2 | SKIP 6 | PASS 324 ]

══ Skipped tests (6) ═══════════════════════════════════════════════════════════
• empty test (6): 'test_binOverGene.R:1:1', 'test_binOverRegions.R:1:1',
  'test_enrichmentPlot.R:1:1', 'test_getAnnotation.R:1:1',
  'test_reCenterPeaks.R:1:1', 'test_write2FASTA.R:1:1'

[ FAIL 0 | WARN 2 | SKIP 6 | PASS 324 ]
> 
> proc.time()
   user  system elapsed 
257.280   4.710 271.324 

Example timings

ChIPpeakAnno.Rcheck/ChIPpeakAnno-Ex.timings

nameusersystemelapsed
ChIPpeakAnno-package0.0010.0000.001
ExonPlusUtr.human.GRCh373.2130.0683.288
HOT.spots0.1090.0030.113
IDRfilter0.0010.0000.001
Peaks.Ste12.Replicate10.070.000.07
Peaks.Ste12.Replicate20.0160.0000.016
Peaks.Ste12.Replicate30.0160.0000.016
TSS.human.GRCh370.1030.0040.108
TSS.human.GRCh380.2180.0120.231
TSS.human.NCBI360.1060.0000.106
TSS.mouse.GRCm380.0870.0070.096
TSS.mouse.NCBIM370.0810.0040.085
TSS.rat.RGSC3.40.0670.0040.071
TSS.rat.Rnor_5.00.0570.0040.062
TSS.zebrafish.Zv80.0620.0040.066
TSS.zebrafish.Zv90.0760.0000.076
addAncestors1.1620.0361.207
addGeneIDs0.8670.0240.899
addMetadata1.6730.0691.748
annoGR0.0000.0000.001
annoPeaks3.2390.2393.491
annotatePeakInBatch15.960 0.33916.348
annotatedPeak0.0570.0000.057
assignChromosomeRegion0.0000.0000.001
bdp000
binOverFeature0.9420.0000.946
binOverGene0.0010.0000.000
binOverRegions0.0010.0000.000
condenseMatrixByColnames0.0140.0080.022
convert2EntrezID0.4220.0040.426
countPatternInSeqs0.2800.0000.282
cumulativePercentage0.0000.0000.001
downstreams0.0310.0000.031
egOrgMap0.0000.0000.001
enrichedGO0.0020.0000.002
enrichmentPlot0.9560.0040.962
estFragmentLength0.0010.0000.000
estLibSize0.0010.0000.000
featureAlignedDistribution0.2940.0040.298
featureAlignedExtendSignal0.0010.0000.001
featureAlignedHeatmap0.5170.0000.519
featureAlignedSignal0.2370.0080.246
findEnhancers35.069 0.35135.531
findMotifsInPromoterSeqs20.352 0.17220.587
findOverlappingPeaks0.0010.0000.001
findOverlapsOfPeaks2.5980.0002.608
genomicElementDistribution0.0010.0000.001
genomicElementUpSetR0.0010.0000.000
getAllPeakSequence0.6680.0040.689
getAnnotation0.0010.0000.001
getEnrichedGO0.0110.0000.010
getEnrichedPATH0.0010.0000.001
getGO0.0010.0000.000
getGeneSeq0.0010.0000.001
getUniqueGOidCount0.0000.0000.001
getVennCounts0.0010.0000.001
hyperGtest0.0010.0000.001
makeVennDiagram0.0000.0020.002
mergePlusMinusPeaks0.0010.0000.000
metagenePlot4.2920.0834.394
myPeakList0.0140.0000.015
oligoFrequency0.1370.0000.138
oligoSummary000
peakPermTest0.0000.0010.001
peaks10.0100.0000.011
peaks20.0110.0000.010
peaks30.0110.0000.011
peaksNearBDP0.0000.0000.001
pie10.0020.0040.007
plotBinOverRegions000
preparePool000
reCenterPeaks0.0320.0040.036
summarizeOverlapsByBins5.3370.5255.486
summarizePatternInPeaks2.0060.2912.309
tileCount0.2880.2190.431
tileGRanges0.1850.1420.057
toGRanges0.1160.0120.129
translatePattern000
wgEncodeTfbsV30.1800.0140.195
write2FASTA0.0190.0040.023
xget0.1390.0120.151