Back to Multiple platform build/check report for BioC 3.22:   simplified   long
AB[C]DEFGHIJKLMNOPQRSTUVWXYZ

This page was generated on 2025-11-27 12:05 -0500 (Thu, 27 Nov 2025).

HostnameOSArch (*)R versionInstalled pkgs
nebbiolo2Linux (Ubuntu 24.04.3 LTS)x86_644.5.2 (2025-10-31) -- "[Not] Part in a Rumble" 4876
merida1macOS 12.7.6 Montereyx86_644.5.2 Patched (2025-11-05 r88990) -- "[Not] Part in a Rumble" 4656
kjohnson1macOS 13.7.5 Venturaarm644.5.2 Patched (2025-11-04 r88984) -- "[Not] Part in a Rumble" 4602
taishanLinux (openEuler 24.03 LTS)aarch644.5.0 (2025-04-11) -- "How About a Twenty-Six" 4668
Click on any hostname to see more info about the system (e.g. compilers)      (*) as reported by 'uname -p', except on Windows and Mac OS X

Package 289/2361HostnameOS / ArchINSTALLBUILDCHECKBUILD BIN
CatsCradle 1.4.1  (landing page)
Michael Shapiro
Snapshot Date: 2025-11-24 13:45 -0500 (Mon, 24 Nov 2025)
git_url: https://git.bioconductor.org/packages/CatsCradle
git_branch: RELEASE_3_22
git_last_commit: 87aae32
git_last_commit_date: 2025-11-04 07:20:10 -0500 (Tue, 04 Nov 2025)
nebbiolo2Linux (Ubuntu 24.04.3 LTS) / x86_64  OK    OK    OK  UNNEEDED, same version is already published
merida1macOS 12.7.6 Monterey / x86_64  OK    OK    OK    OK  UNNEEDED, same version is already published
kjohnson1macOS 13.7.5 Ventura / arm64  OK    OK    OK    OK  UNNEEDED, same version is already published
taishanLinux (openEuler 24.03 LTS) / aarch64  OK    OK    OK  


CHECK results for CatsCradle on taishan

To the developers/maintainers of the CatsCradle package:
- Allow up to 24 hours (and sometimes 48 hours) for your latest push to git@git.bioconductor.org:packages/CatsCradle.git to reflect on this report. See Troubleshooting Build Report for more information.
- Use the following Renviron settings to reproduce errors and warnings.
- If 'R CMD check' started to fail recently on the Linux builder(s) over a missing dependency, add the missing dependency to 'Suggests:' in your DESCRIPTION file. See Renviron.bioc for more information.
- See Martin Grigorov's blog post for how to debug Linux ARM64 related issues on a x86_64 host.

raw results


Summary

Package: CatsCradle
Version: 1.4.1
Command: /home/biocbuild/R/R/bin/R CMD check --install=check:CatsCradle.install-out.txt --library=/home/biocbuild/R/R/site-library --no-vignettes --timings CatsCradle_1.4.1.tar.gz
StartedAt: 2025-11-25 07:41:16 -0000 (Tue, 25 Nov 2025)
EndedAt: 2025-11-25 07:52:23 -0000 (Tue, 25 Nov 2025)
EllapsedTime: 667.6 seconds
RetCode: 0
Status:   OK  
CheckDir: CatsCradle.Rcheck
Warnings: 0

Command output

##############################################################################
##############################################################################
###
### Running command:
###
###   /home/biocbuild/R/R/bin/R CMD check --install=check:CatsCradle.install-out.txt --library=/home/biocbuild/R/R/site-library --no-vignettes --timings CatsCradle_1.4.1.tar.gz
###
##############################################################################
##############################################################################


* using log directory ‘/home/biocbuild/bbs-3.22-bioc/meat/CatsCradle.Rcheck’
* using R version 4.5.0 (2025-04-11)
* using platform: aarch64-unknown-linux-gnu
* R was compiled by
    aarch64-unknown-linux-gnu-gcc (GCC) 14.2.0
    GNU Fortran (GCC) 14.2.0
* running under: openEuler 24.03 (LTS)
* using session charset: UTF-8
* using option ‘--no-vignettes’
* checking for file ‘CatsCradle/DESCRIPTION’ ... OK
* this is package ‘CatsCradle’ version ‘1.4.1’
* package encoding: UTF-8
* checking package namespace information ... OK
* checking package dependencies ... INFO
Imports includes 21 non-default packages.
Importing from so many packages makes the package vulnerable to any of
them becoming unavailable.  Move as many as possible to Suggests and
use conditionally.
* checking if this is a source package ... OK
* checking if there is a namespace ... OK
* checking for hidden files and directories ... OK
* checking for portable file names ... OK
* checking for sufficient/correct file permissions ... OK
* checking whether package ‘CatsCradle’ can be installed ... OK
* checking installed package size ... OK
* checking package directory ... OK
* checking ‘build’ directory ... OK
* checking DESCRIPTION meta-information ... OK
* checking top-level files ... OK
* checking for left-over files ... OK
* checking index information ... OK
* checking package subdirectories ... OK
* checking code files for non-ASCII characters ... OK
* checking R files for syntax errors ... OK
* checking whether the package can be loaded ... OK
* checking whether the package can be loaded with stated dependencies ... OK
* checking whether the package can be unloaded cleanly ... OK
* checking whether the namespace can be loaded with stated dependencies ... OK
* checking whether the namespace can be unloaded cleanly ... OK
* checking loading without being on the library search path ... OK
* checking dependencies in R code ... OK
* checking S3 generic/method consistency ... OK
* checking replacement functions ... OK
* checking foreign function calls ... OK
* checking R code for possible problems ... NOTE
edgeLengthPlot: no visible binding for global variable ‘cellTypePair’
edgeLengthPlot: no visible binding for global variable ‘cutoff’
make.getExample : getExample: no visible binding for global variable
  ‘seuratGenes’
make.getExample : getExample: no visible binding for global variable
  ‘seuratCells’
make.getExample : getExample: no visible binding for global variable
  ‘xeniumCells’
make.getExample : getExample: no visible binding for global variable
  ‘moransI’
make.getExample : getExample: no visible binding for global variable
  ‘moransILigandReceptor’
make.getExample : getExample: no visible binding for global variable
  ‘humanLRN’
make.getExample : getExample: no visible binding for global variable
  ‘mouseLRN’
meanGeneClusterOnCellUMAP: no visible binding for global variable
  ‘UMAP_1’
meanGeneClusterOnCellUMAP: no visible binding for global variable
  ‘UMAP_2’
plotLRDotplot: no visible binding for global variable ‘sender’
plotLRDotplot: no visible binding for global variable ‘negLog10PValue’
plotLRDotplot: no visible binding for global variable ‘receiver’
Undefined global functions or variables:
  UMAP_1 UMAP_2 cellTypePair cutoff humanLRN moransI
  moransILigandReceptor mouseLRN negLog10PValue receiver sender
  seuratCells seuratGenes xeniumCells
* checking Rd files ... OK
* checking Rd metadata ... OK
* checking Rd cross-references ... OK
* checking for missing documentation entries ... OK
* checking for code/documentation mismatches ... OK
* checking Rd \usage sections ... OK
* checking Rd contents ... OK
* checking for unstated dependencies in examples ... OK
* checking contents of ‘data’ directory ... OK
* checking data for non-ASCII characters ... OK
* checking data for ASCII and uncompressed saves ... OK
* checking files in ‘vignettes’ ... OK
* checking examples ... OK
Examples with CPU (user + system) or elapsed time > 5s
                                      user system elapsed
annotateGeneAsVector                49.770  0.407  50.311
computeNBHDVsCTObject               22.511  0.127  22.699
randomiseNodeIndices                20.025  0.076  20.156
getObjectSubsetClusteringPValue     16.182  0.263  16.490
transposeObject                     12.857  0.080  12.978
aggregateGeneExpression             12.696  0.235  12.954
computeGraphEmbedding               11.482  0.044  11.554
predictAnnotation                   10.153  0.048  10.230
predictAnnotationAllGenes            9.347  0.092   9.465
predictGeneAnnotationImpl            7.992  0.044   8.057
geneSetsVsGeneClustersPValueMatrix   6.818  0.539   7.381
medianComplementPValue               7.139  0.088   7.247
runGeometricClusteringTrials         7.066  0.083   7.172
getObjectSubsetClusteringStatistics  6.968  0.059   7.053
getAverageExpressionDF               6.630  0.335   6.983
tagRowAndColNames                    6.852  0.008   6.883
getNearbyGenes                       6.637  0.196   6.850
combinatorialSpheres                 6.741  0.052   6.813
getAverageExpressionMatrix           6.461  0.295   6.770
meanZPerClusterOnUMAP                6.487  0.036   6.541
meanZPerCluster                      6.427  0.048   6.497
getGeneClusterAveragesPerCell        6.326  0.144   6.490
meanGeneClusterOnCellUMAP            6.402  0.068   6.494
symmetriseNN                         6.335  0.036   6.394
desymmetriseNN                       6.339  0.004   6.363
getClusterOrder                      6.110  0.168   6.297
getNearestNeighbourLists             6.170  0.100   6.283
getGeneNeighbors                     6.125  0.123   6.263
symmetryCheckNN                      6.212  0.024   6.257
* checking for unstated dependencies in vignettes ... OK
* checking package vignettes ... OK
* checking running R code from vignettes ... SKIPPED
* checking re-building of vignette outputs ... SKIPPED
* checking PDF version of manual ... OK
* DONE

Status: 1 NOTE
See
  ‘/home/biocbuild/bbs-3.22-bioc/meat/CatsCradle.Rcheck/00check.log’
for details.


Installation output

CatsCradle.Rcheck/00install.out

##############################################################################
##############################################################################
###
### Running command:
###
###   /home/biocbuild/R/R/bin/R CMD INSTALL CatsCradle
###
##############################################################################
##############################################################################


* installing to library ‘/home/biocbuild/R/R-4.5.0/site-library’
* installing *source* package ‘CatsCradle’ ...
** this is package ‘CatsCradle’ version ‘1.4.1’
** using staged installation
** R
** data
** inst
** byte-compile and prepare package for lazy loading
** help
*** installing help indices
** building package indices
** installing vignettes
** testing if installed package can be loaded from temporary location
** testing if installed package can be loaded from final location
** testing if installed package keeps a record of temporary installation path
* DONE (CatsCradle)

Tests output


Example timings

CatsCradle.Rcheck/CatsCradle-Ex.timings

nameusersystemelapsed
aggregateGeneExpression12.696 0.23512.954
annotateGeneAsVector49.770 0.40750.311
annotateGenesByGeneSet2.0930.1432.243
cellTypesPerCellTypeGraphFromCellMatrix0.2300.0000.232
collapseExtendedNBHDs3.6860.0043.674
combinatorialSpheres6.7410.0526.813
computeCellTypesPerCellTypeMatrix0.1350.0080.144
computeEdgeGraph0.1630.0160.177
computeEdgeObject1.2140.0161.233
computeGraphEmbedding11.482 0.04411.554
computeNBHDByCTMatrix0.1090.0080.117
computeNBHDVsCTObject22.511 0.12722.699
computeNeighbourEnrichment0.1530.0040.157
computeNeighboursDelaunay0.0990.0080.109
computeNeighboursEuclidean0.8940.0360.897
cullEdges0.7310.0120.745
desymmetriseNN6.3390.0046.363
directedHausdorfDistance0.0010.0000.001
edgeCutoffsByClustering0.5500.0000.551
edgeCutoffsByPercentile0.3920.0040.397
edgeCutoffsByWatershed0.4660.0000.466
edgeCutoffsByZScore0.5170.0000.519
edgeLengthPlot0.4720.0040.478
edgeLengthsAndCellTypePairs0.4960.0000.498
exampleObjects000
geneSetsVsGeneClustersPValueMatrix6.8180.5397.381
getAverageExpressionDF6.6300.3356.983
getAverageExpressionMatrix6.4610.2956.770
getClusterOrder6.1100.1686.297
getExtendedNBHDs0.9310.0240.850
getFeatureZScores0.2720.0080.281
getGeneClusterAveragesPerCell6.3260.1446.490
getGeneNeighbors6.1250.1236.263
getLigandReceptorNetwork0.0180.0000.018
getLigandReceptorPairsInPanel0.0850.0000.086
getNearbyGenes6.6370.1966.850
getNearestNeighbourLists6.1700.1006.283
getObjectSubsetClusteringPValue16.182 0.26316.490
getObjectSubsetClusteringStatistics6.9680.0597.053
make.getExample0.1080.0000.108
makeLRInteractionHeatmap0.2220.0040.227
makeSummedLRInteractionHeatmap0.1950.0030.200
meanGeneClusterOnCellUMAP6.4020.0686.494
meanZPerCluster6.4270.0486.497
meanZPerClusterOnUMAP6.4870.0366.541
medianComplementDistance0.0010.0000.001
medianComplementPValue7.1390.0887.247
nbhdsAsEdgesToNbhdsAsList1.0670.0471.119
neighbourhoodDiameter1.1270.0081.138
performLigandReceptorAnalysis1.3700.1881.563
performLigandReceptorAnalysisPermutation1.1620.2151.381
plotLRDotplot2.3260.0082.341
predictAnnotation10.153 0.04810.230
predictAnnotationAllGenes9.3470.0929.465
predictGeneAnnotationImpl7.9920.0448.057
randomiseNodeIndices20.025 0.07620.156
runGeometricClusteringTrials7.0660.0837.172
runMoransI1.8770.0081.891
sankeyFromMatrix0.0040.0000.004
symmetriseNN6.3350.0366.394
symmetryCheckNN6.2120.0246.257
tagRowAndColNames6.8520.0086.883
transposeObject12.857 0.08012.978