Back to Multiple platform build/check report for BioC 3.22:   simplified   long
AB[C]DEFGHIJKLMNOPQRSTUVWXYZ

This page was generated on 2025-11-20 12:05 -0500 (Thu, 20 Nov 2025).

HostnameOSArch (*)R versionInstalled pkgs
nebbiolo2Linux (Ubuntu 24.04.3 LTS)x86_644.5.2 (2025-10-31) -- "[Not] Part in a Rumble" 4615
merida1macOS 12.7.6 Montereyx86_644.5.2 Patched (2025-11-05 r88990) -- "[Not] Part in a Rumble" 4610
kjohnson1macOS 13.7.5 Venturaarm644.5.2 Patched (2025-11-04 r88984) -- "[Not] Part in a Rumble" 4598
taishanLinux (openEuler 24.03 LTS)aarch644.5.0 (2025-04-11) -- "How About a Twenty-Six" 4668
Click on any hostname to see more info about the system (e.g. compilers)      (*) as reported by 'uname -p', except on Windows and Mac OS X

Package 289/2361HostnameOS / ArchINSTALLBUILDCHECKBUILD BIN
CatsCradle 1.4.1  (landing page)
Michael Shapiro
Snapshot Date: 2025-11-17 13:45 -0500 (Mon, 17 Nov 2025)
git_url: https://git.bioconductor.org/packages/CatsCradle
git_branch: RELEASE_3_22
git_last_commit: 87aae32
git_last_commit_date: 2025-11-04 07:20:10 -0500 (Tue, 04 Nov 2025)
nebbiolo2Linux (Ubuntu 24.04.3 LTS) / x86_64  OK    OK    OK  UNNEEDED, same version is already published
merida1macOS 12.7.6 Monterey / x86_64  OK    OK    OK    OK  YES
kjohnson1macOS 13.7.5 Ventura / arm64  OK    OK    OK    OK  UNNEEDED, same version is already published
taishanLinux (openEuler 24.03 LTS) / aarch64  OK    OK    OK  


CHECK results for CatsCradle on kjohnson1

To the developers/maintainers of the CatsCradle package:
- Allow up to 24 hours (and sometimes 48 hours) for your latest push to git@git.bioconductor.org:packages/CatsCradle.git to reflect on this report. See Troubleshooting Build Report for more information.
- Use the following Renviron settings to reproduce errors and warnings.
- If 'R CMD check' started to fail recently on the Linux builder(s) over a missing dependency, add the missing dependency to 'Suggests:' in your DESCRIPTION file. See Renviron.bioc for more information.

raw results


Summary

Package: CatsCradle
Version: 1.4.1
Command: /Library/Frameworks/R.framework/Resources/bin/R CMD check --install=check:CatsCradle.install-out.txt --library=/Library/Frameworks/R.framework/Resources/library --no-vignettes --timings CatsCradle_1.4.1.tar.gz
StartedAt: 2025-11-18 03:39:42 -0500 (Tue, 18 Nov 2025)
EndedAt: 2025-11-18 03:44:16 -0500 (Tue, 18 Nov 2025)
EllapsedTime: 274.2 seconds
RetCode: 0
Status:   OK  
CheckDir: CatsCradle.Rcheck
Warnings: 0

Command output

##############################################################################
##############################################################################
###
### Running command:
###
###   /Library/Frameworks/R.framework/Resources/bin/R CMD check --install=check:CatsCradle.install-out.txt --library=/Library/Frameworks/R.framework/Resources/library --no-vignettes --timings CatsCradle_1.4.1.tar.gz
###
##############################################################################
##############################################################################


* using log directory ‘/Users/biocbuild/bbs-3.22-bioc/meat/CatsCradle.Rcheck’
* using R version 4.5.2 Patched (2025-11-04 r88984)
* using platform: aarch64-apple-darwin20
* R was compiled by
    Apple clang version 16.0.0 (clang-1600.0.26.6)
    GNU Fortran (GCC) 14.2.0
* running under: macOS Ventura 13.7.8
* using session charset: UTF-8
* using option ‘--no-vignettes’
* checking for file ‘CatsCradle/DESCRIPTION’ ... OK
* this is package ‘CatsCradle’ version ‘1.4.1’
* package encoding: UTF-8
* checking package namespace information ... OK
* checking package dependencies ... INFO
Imports includes 21 non-default packages.
Importing from so many packages makes the package vulnerable to any of
them becoming unavailable.  Move as many as possible to Suggests and
use conditionally.
* checking if this is a source package ... OK
* checking if there is a namespace ... OK
* checking for hidden files and directories ... OK
* checking for portable file names ... OK
* checking for sufficient/correct file permissions ... OK
* checking whether package ‘CatsCradle’ can be installed ... OK
* checking installed package size ... OK
* checking package directory ... OK
* checking ‘build’ directory ... OK
* checking DESCRIPTION meta-information ... OK
* checking top-level files ... OK
* checking for left-over files ... OK
* checking index information ... OK
* checking package subdirectories ... OK
* checking code files for non-ASCII characters ... OK
* checking R files for syntax errors ... OK
* checking whether the package can be loaded ... OK
* checking whether the package can be loaded with stated dependencies ... OK
* checking whether the package can be unloaded cleanly ... OK
* checking whether the namespace can be loaded with stated dependencies ... OK
* checking whether the namespace can be unloaded cleanly ... OK
* checking dependencies in R code ... OK
* checking S3 generic/method consistency ... OK
* checking replacement functions ... OK
* checking foreign function calls ... OK
* checking R code for possible problems ... NOTE
edgeLengthPlot: no visible binding for global variable ‘cellTypePair’
edgeLengthPlot: no visible binding for global variable ‘cutoff’
make.getExample : getExample: no visible binding for global variable
  ‘seuratGenes’
make.getExample : getExample: no visible binding for global variable
  ‘seuratCells’
make.getExample : getExample: no visible binding for global variable
  ‘xeniumCells’
make.getExample : getExample: no visible binding for global variable
  ‘moransI’
make.getExample : getExample: no visible binding for global variable
  ‘moransILigandReceptor’
make.getExample : getExample: no visible binding for global variable
  ‘humanLRN’
make.getExample : getExample: no visible binding for global variable
  ‘mouseLRN’
meanGeneClusterOnCellUMAP: no visible binding for global variable
  ‘UMAP_1’
meanGeneClusterOnCellUMAP: no visible binding for global variable
  ‘UMAP_2’
plotLRDotplot: no visible binding for global variable ‘sender’
plotLRDotplot: no visible binding for global variable ‘negLog10PValue’
plotLRDotplot: no visible binding for global variable ‘receiver’
Undefined global functions or variables:
  UMAP_1 UMAP_2 cellTypePair cutoff humanLRN moransI
  moransILigandReceptor mouseLRN negLog10PValue receiver sender
  seuratCells seuratGenes xeniumCells
* checking Rd files ... OK
* checking Rd metadata ... OK
* checking Rd cross-references ... OK
* checking for missing documentation entries ... OK
* checking for code/documentation mismatches ... OK
* checking Rd \usage sections ... OK
* checking Rd contents ... OK
* checking for unstated dependencies in examples ... OK
* checking contents of ‘data’ directory ... OK
* checking data for non-ASCII characters ... OK
* checking data for ASCII and uncompressed saves ... OK
* checking files in ‘vignettes’ ... OK
* checking examples ... OK
Examples with CPU (user + system) or elapsed time > 5s
                                  user system elapsed
annotateGeneAsVector            22.257  0.243  25.266
computeNBHDVsCTObject           10.476  0.072  11.520
randomiseNodeIndices             7.409  0.129   8.370
getObjectSubsetClusteringPValue  6.810  0.318   8.439
computeGraphEmbedding            5.403  0.062   6.020
aggregateGeneExpression          5.178  0.094   5.739
transposeObject                  5.118  0.048   5.855
* checking for unstated dependencies in vignettes ... OK
* checking package vignettes ... OK
* checking running R code from vignettes ... SKIPPED
* checking re-building of vignette outputs ... SKIPPED
* checking PDF version of manual ... OK
* DONE

Status: 1 NOTE
See
  ‘/Users/biocbuild/bbs-3.22-bioc/meat/CatsCradle.Rcheck/00check.log’
for details.


Installation output

CatsCradle.Rcheck/00install.out

##############################################################################
##############################################################################
###
### Running command:
###
###   /Library/Frameworks/R.framework/Resources/bin/R CMD INSTALL CatsCradle
###
##############################################################################
##############################################################################


* installing to library ‘/Library/Frameworks/R.framework/Versions/4.5-arm64/Resources/library’
* installing *source* package ‘CatsCradle’ ...
** this is package ‘CatsCradle’ version ‘1.4.1’
** using staged installation
** R
** data
** inst
** byte-compile and prepare package for lazy loading
** help
*** installing help indices
** building package indices
** installing vignettes
** testing if installed package can be loaded from temporary location
** testing if installed package can be loaded from final location
** testing if installed package keeps a record of temporary installation path
* DONE (CatsCradle)

Tests output


Example timings

CatsCradle.Rcheck/CatsCradle-Ex.timings

nameusersystemelapsed
aggregateGeneExpression5.1780.0945.739
annotateGeneAsVector22.257 0.24325.266
annotateGenesByGeneSet0.7770.0910.970
cellTypesPerCellTypeGraphFromCellMatrix0.1140.0190.147
collapseExtendedNBHDs1.0190.0161.220
combinatorialSpheres2.8350.0343.221
computeCellTypesPerCellTypeMatrix0.0500.0030.054
computeEdgeGraph0.0740.0040.100
computeEdgeObject0.3360.0230.450
computeGraphEmbedding5.4030.0626.020
computeNBHDByCTMatrix0.0550.0040.075
computeNBHDVsCTObject10.476 0.07211.520
computeNeighbourEnrichment0.0550.0050.063
computeNeighboursDelaunay0.0410.0030.043
computeNeighboursEuclidean0.2750.0190.309
cullEdges0.2220.0140.263
desymmetriseNN2.6790.0313.176
directedHausdorfDistance000
edgeCutoffsByClustering0.1250.0060.136
edgeCutoffsByPercentile0.1200.0070.154
edgeCutoffsByWatershed0.1610.0100.182
edgeCutoffsByZScore0.1100.0030.118
edgeLengthPlot0.1360.0030.143
edgeLengthsAndCellTypePairs0.1070.0030.123
exampleObjects000
geneSetsVsGeneClustersPValueMatrix2.7700.0363.049
getAverageExpressionDF2.7180.0293.038
getAverageExpressionMatrix2.6000.0383.022
getClusterOrder2.5160.0263.000
getExtendedNBHDs0.4580.0230.464
getFeatureZScores0.1120.0040.123
getGeneClusterAveragesPerCell2.5410.0312.941
getGeneNeighbors2.5480.0262.884
getLigandReceptorNetwork0.0100.0020.018
getLigandReceptorPairsInPanel0.0420.0050.050
getNearbyGenes2.6510.0312.941
getNearestNeighbourLists2.5310.0373.168
getObjectSubsetClusteringPValue6.8100.3188.439
getObjectSubsetClusteringStatistics2.6840.0412.952
make.getExample0.0410.0040.047
makeLRInteractionHeatmap0.1070.0060.122
makeSummedLRInteractionHeatmap0.0860.0030.091
meanGeneClusterOnCellUMAP2.5670.0282.835
meanZPerCluster2.5200.0172.730
meanZPerClusterOnUMAP2.5620.0252.950
medianComplementDistance0.0000.0000.001
medianComplementPValue2.7460.0283.162
nbhdsAsEdgesToNbhdsAsList0.3980.0620.528
neighbourhoodDiameter0.3740.0440.448
performLigandReceptorAnalysis0.5160.4661.140
performLigandReceptorAnalysisPermutation0.5520.4801.118
plotLRDotplot0.6830.0300.806
predictAnnotation3.9350.1954.502
predictAnnotationAllGenes3.5570.1424.017
predictGeneAnnotationImpl3.2100.1023.744
randomiseNodeIndices7.4090.1298.370
runGeometricClusteringTrials2.7500.0433.042
runMoransI0.4730.0650.609
sankeyFromMatrix0.0020.0000.002
symmetriseNN2.5720.0372.922
symmetryCheckNN2.5680.0182.783
tagRowAndColNames2.6680.0202.941
transposeObject5.1180.0485.855