Back to Multiple platform build/check report for BioC 3.22:   simplified   long
AB[C]DEFGHIJKLMNOPQRSTUVWXYZ

This page was generated on 2025-11-24 12:03 -0500 (Mon, 24 Nov 2025).

HostnameOSArch (*)R versionInstalled pkgs
nebbiolo2Linux (Ubuntu 24.04.3 LTS)x86_644.5.2 (2025-10-31) -- "[Not] Part in a Rumble" 4873
merida1macOS 12.7.6 Montereyx86_644.5.2 Patched (2025-11-05 r88990) -- "[Not] Part in a Rumble" 4654
kjohnson1macOS 13.7.5 Venturaarm644.5.2 Patched (2025-11-04 r88984) -- "[Not] Part in a Rumble" 4600
taishanLinux (openEuler 24.03 LTS)aarch644.5.0 (2025-04-11) -- "How About a Twenty-Six" 4668
Click on any hostname to see more info about the system (e.g. compilers)      (*) as reported by 'uname -p', except on Windows and Mac OS X

Package 289/2361HostnameOS / ArchINSTALLBUILDCHECKBUILD BIN
CatsCradle 1.4.1  (landing page)
Michael Shapiro
Snapshot Date: 2025-11-20 15:01 -0500 (Thu, 20 Nov 2025)
git_url: https://git.bioconductor.org/packages/CatsCradle
git_branch: RELEASE_3_22
git_last_commit: 87aae32
git_last_commit_date: 2025-11-04 07:20:10 -0500 (Tue, 04 Nov 2025)
nebbiolo2Linux (Ubuntu 24.04.3 LTS) / x86_64  OK    OK    OK  UNNEEDED, same version is already published
merida1macOS 12.7.6 Monterey / x86_64  OK    OK    OK    OK  UNNEEDED, same version is already published
kjohnson1macOS 13.7.5 Ventura / arm64  OK    OK    OK    OK  UNNEEDED, same version is already published
taishanLinux (openEuler 24.03 LTS) / aarch64  OK    OK    OK  


CHECK results for CatsCradle on nebbiolo2

To the developers/maintainers of the CatsCradle package:
- Allow up to 24 hours (and sometimes 48 hours) for your latest push to git@git.bioconductor.org:packages/CatsCradle.git to reflect on this report. See Troubleshooting Build Report for more information.
- Use the following Renviron settings to reproduce errors and warnings.
- If 'R CMD check' started to fail recently on the Linux builder(s) over a missing dependency, add the missing dependency to 'Suggests:' in your DESCRIPTION file. See Renviron.bioc for more information.

raw results


Summary

Package: CatsCradle
Version: 1.4.1
Command: /home/biocbuild/bbs-3.22-bioc/R/bin/R CMD check --install=check:CatsCradle.install-out.txt --library=/home/biocbuild/bbs-3.22-bioc/R/site-library --timings CatsCradle_1.4.1.tar.gz
StartedAt: 2025-11-20 22:35:41 -0500 (Thu, 20 Nov 2025)
EndedAt: 2025-11-20 22:53:22 -0500 (Thu, 20 Nov 2025)
EllapsedTime: 1060.2 seconds
RetCode: 0
Status:   OK  
CheckDir: CatsCradle.Rcheck
Warnings: 0

Command output

##############################################################################
##############################################################################
###
### Running command:
###
###   /home/biocbuild/bbs-3.22-bioc/R/bin/R CMD check --install=check:CatsCradle.install-out.txt --library=/home/biocbuild/bbs-3.22-bioc/R/site-library --timings CatsCradle_1.4.1.tar.gz
###
##############################################################################
##############################################################################


* using log directory ‘/home/biocbuild/bbs-3.22-bioc/meat/CatsCradle.Rcheck’
* using R version 4.5.2 (2025-10-31)
* using platform: x86_64-pc-linux-gnu
* R was compiled by
    gcc (Ubuntu 13.3.0-6ubuntu2~24.04) 13.3.0
    GNU Fortran (Ubuntu 13.3.0-6ubuntu2~24.04) 13.3.0
* running under: Ubuntu 24.04.3 LTS
* using session charset: UTF-8
* checking for file ‘CatsCradle/DESCRIPTION’ ... OK
* this is package ‘CatsCradle’ version ‘1.4.1’
* package encoding: UTF-8
* checking package namespace information ... OK
* checking package dependencies ... INFO
Imports includes 21 non-default packages.
Importing from so many packages makes the package vulnerable to any of
them becoming unavailable.  Move as many as possible to Suggests and
use conditionally.
* checking if this is a source package ... OK
* checking if there is a namespace ... OK
* checking for hidden files and directories ... OK
* checking for portable file names ... OK
* checking for sufficient/correct file permissions ... OK
* checking whether package ‘CatsCradle’ can be installed ... OK
* checking installed package size ... OK
* checking package directory ... OK
* checking ‘build’ directory ... OK
* checking DESCRIPTION meta-information ... OK
* checking top-level files ... OK
* checking for left-over files ... OK
* checking index information ... OK
* checking package subdirectories ... OK
* checking code files for non-ASCII characters ... OK
* checking R files for syntax errors ... OK
* checking whether the package can be loaded ... OK
* checking whether the package can be loaded with stated dependencies ... OK
* checking whether the package can be unloaded cleanly ... OK
* checking whether the namespace can be loaded with stated dependencies ... OK
* checking whether the namespace can be unloaded cleanly ... OK
* checking loading without being on the library search path ... OK
* checking dependencies in R code ... OK
* checking S3 generic/method consistency ... OK
* checking replacement functions ... OK
* checking foreign function calls ... OK
* checking R code for possible problems ... NOTE
edgeLengthPlot: no visible binding for global variable ‘cellTypePair’
edgeLengthPlot: no visible binding for global variable ‘cutoff’
make.getExample : getExample: no visible binding for global variable
  ‘seuratGenes’
make.getExample : getExample: no visible binding for global variable
  ‘seuratCells’
make.getExample : getExample: no visible binding for global variable
  ‘xeniumCells’
make.getExample : getExample: no visible binding for global variable
  ‘moransI’
make.getExample : getExample: no visible binding for global variable
  ‘moransILigandReceptor’
make.getExample : getExample: no visible binding for global variable
  ‘humanLRN’
make.getExample : getExample: no visible binding for global variable
  ‘mouseLRN’
meanGeneClusterOnCellUMAP: no visible binding for global variable
  ‘UMAP_1’
meanGeneClusterOnCellUMAP: no visible binding for global variable
  ‘UMAP_2’
plotLRDotplot: no visible binding for global variable ‘sender’
plotLRDotplot: no visible binding for global variable ‘negLog10PValue’
plotLRDotplot: no visible binding for global variable ‘receiver’
Undefined global functions or variables:
  UMAP_1 UMAP_2 cellTypePair cutoff humanLRN moransI
  moransILigandReceptor mouseLRN negLog10PValue receiver sender
  seuratCells seuratGenes xeniumCells
* checking Rd files ... OK
* checking Rd metadata ... OK
* checking Rd cross-references ... OK
* checking for missing documentation entries ... OK
* checking for code/documentation mismatches ... OK
* checking Rd \usage sections ... OK
* checking Rd contents ... OK
* checking for unstated dependencies in examples ... OK
* checking contents of ‘data’ directory ... OK
* checking data for non-ASCII characters ... OK
* checking data for ASCII and uncompressed saves ... OK
* checking files in ‘vignettes’ ... OK
* checking examples ... OK
Examples with CPU (user + system) or elapsed time > 5s
                                      user system elapsed
annotateGeneAsVector                44.379  0.673  45.077
computeNBHDVsCTObject               19.656  0.205  19.864
randomiseNodeIndices                14.893  0.023  14.920
getObjectSubsetClusteringPValue     12.757  0.137  12.897
transposeObject                     11.308  0.004  11.317
aggregateGeneExpression             10.416  0.256  10.603
computeGraphEmbedding                9.414  0.000   9.416
predictAnnotation                    8.609  0.105   8.715
predictAnnotationAllGenes            7.801  0.143   7.946
predictGeneAnnotationImpl            6.794  0.089   6.884
geneSetsVsGeneClustersPValueMatrix   6.195  0.109   6.305
runGeometricClusteringTrials         6.012  0.130   6.143
getAverageExpressionMatrix           5.802  0.082   5.884
getNearbyGenes                       5.823  0.043   5.869
symmetryCheckNN                      5.776  0.068   5.845
combinatorialSpheres                 5.817  0.026   5.846
getAverageExpressionDF               5.729  0.092   5.822
getObjectSubsetClusteringStatistics  5.778  0.028   5.808
symmetriseNN                         5.675  0.065   5.741
medianComplementPValue               5.655  0.058   5.714
tagRowAndColNames                    5.708  0.002   5.712
desymmetriseNN                       5.498  0.084   5.582
getGeneNeighbors                     5.535  0.001   5.537
getGeneClusterAveragesPerCell        5.494  0.027   5.524
meanZPerClusterOnUMAP                5.368  0.052   5.420
meanZPerCluster                      5.390  0.003   5.394
getClusterOrder                      5.328  0.058   5.387
meanGeneClusterOnCellUMAP            5.224  0.055   5.280
getNearestNeighbourLists             5.107  0.009   5.118
* checking for unstated dependencies in vignettes ... OK
* checking package vignettes ... OK
* checking re-building of vignette outputs ... OK
* checking PDF version of manual ... OK
* DONE

Status: 1 NOTE
See
  ‘/home/biocbuild/bbs-3.22-bioc/meat/CatsCradle.Rcheck/00check.log’
for details.


Installation output

CatsCradle.Rcheck/00install.out

##############################################################################
##############################################################################
###
### Running command:
###
###   /home/biocbuild/bbs-3.22-bioc/R/bin/R CMD INSTALL CatsCradle
###
##############################################################################
##############################################################################


* installing to library ‘/home/biocbuild/bbs-3.22-bioc/R/site-library’
* installing *source* package ‘CatsCradle’ ...
** this is package ‘CatsCradle’ version ‘1.4.1’
** using staged installation
** R
** data
** inst
** byte-compile and prepare package for lazy loading
** help
*** installing help indices
** building package indices
** installing vignettes
** testing if installed package can be loaded from temporary location
** testing if installed package can be loaded from final location
** testing if installed package keeps a record of temporary installation path
* DONE (CatsCradle)

Tests output


Example timings

CatsCradle.Rcheck/CatsCradle-Ex.timings

nameusersystemelapsed
aggregateGeneExpression10.416 0.25610.603
annotateGeneAsVector44.379 0.67345.077
annotateGenesByGeneSet1.5490.2041.753
cellTypesPerCellTypeGraphFromCellMatrix0.1880.0010.190
collapseExtendedNBHDs2.4640.0012.403
combinatorialSpheres5.8170.0265.846
computeCellTypesPerCellTypeMatrix0.1090.0180.126
computeEdgeGraph0.1680.0110.147
computeEdgeObject0.8790.0130.892
computeGraphEmbedding9.4140.0009.416
computeNBHDByCTMatrix0.1030.0010.104
computeNBHDVsCTObject19.656 0.20519.864
computeNeighbourEnrichment0.1240.0010.125
computeNeighboursDelaunay0.0910.0020.093
computeNeighboursEuclidean1.0310.0140.642
cullEdges0.5210.0030.524
desymmetriseNN5.4980.0845.582
directedHausdorfDistance0.0000.0000.001
edgeCutoffsByClustering0.3690.0130.382
edgeCutoffsByPercentile0.2680.0030.270
edgeCutoffsByWatershed0.3110.0020.313
edgeCutoffsByZScore0.3370.0020.338
edgeLengthPlot0.3440.0000.345
edgeLengthsAndCellTypePairs0.3310.0030.335
exampleObjects000
geneSetsVsGeneClustersPValueMatrix6.1950.1096.305
getAverageExpressionDF5.7290.0925.822
getAverageExpressionMatrix5.8020.0825.884
getClusterOrder5.3280.0585.387
getExtendedNBHDs0.9590.0220.799
getFeatureZScores0.1930.0020.196
getGeneClusterAveragesPerCell5.4940.0275.524
getGeneNeighbors5.5350.0015.537
getLigandReceptorNetwork0.0160.0000.016
getLigandReceptorPairsInPanel0.0800.0010.081
getNearbyGenes5.8230.0435.869
getNearestNeighbourLists5.1070.0095.118
getObjectSubsetClusteringPValue12.757 0.13712.897
getObjectSubsetClusteringStatistics5.7780.0285.808
make.getExample0.0910.0000.092
makeLRInteractionHeatmap0.1770.0040.182
makeSummedLRInteractionHeatmap0.1640.0010.165
meanGeneClusterOnCellUMAP5.2240.0555.280
meanZPerCluster5.3900.0035.394
meanZPerClusterOnUMAP5.3680.0525.420
medianComplementDistance000
medianComplementPValue5.6550.0585.714
nbhdsAsEdgesToNbhdsAsList0.7070.0120.719
neighbourhoodDiameter0.7390.0140.753
performLigandReceptorAnalysis0.9650.1321.097
performLigandReceptorAnalysisPermutation0.8560.1481.003
plotLRDotplot1.5520.0351.588
predictAnnotation8.6090.1058.715
predictAnnotationAllGenes7.8010.1437.946
predictGeneAnnotationImpl6.7940.0896.884
randomiseNodeIndices14.893 0.02314.920
runGeometricClusteringTrials6.0120.1306.143
runMoransI1.2150.0121.227
sankeyFromMatrix0.0030.0000.004
symmetriseNN5.6750.0655.741
symmetryCheckNN5.7760.0685.845
tagRowAndColNames5.7080.0025.712
transposeObject11.308 0.00411.317