| Back to Multiple platform build/check report for BioC 3.22: simplified long |
|
This page was generated on 2025-11-12 11:58 -0500 (Wed, 12 Nov 2025).
| Hostname | OS | Arch (*) | R version | Installed pkgs |
|---|---|---|---|---|
| nebbiolo2 | Linux (Ubuntu 24.04.3 LTS) | x86_64 | 4.5.1 Patched (2025-08-23 r88802) -- "Great Square Root" | 4902 |
| taishan | Linux (openEuler 24.03 LTS) | aarch64 | 4.5.0 (2025-04-11) -- "How About a Twenty-Six" | 4668 |
| Click on any hostname to see more info about the system (e.g. compilers) (*) as reported by 'uname -p', except on Windows and Mac OS X | ||||
| Package 273/2361 | Hostname | OS / Arch | INSTALL | BUILD | CHECK | BUILD BIN | ||||||||
| CAGEr 2.16.0 (landing page) Charles Plessy
| nebbiolo2 | Linux (Ubuntu 24.04.3 LTS) / x86_64 | OK | OK | OK | |||||||||
| taishan | Linux (openEuler 24.03 LTS) / aarch64 | OK | OK | OK | ||||||||||
|
To the developers/maintainers of the CAGEr package: - Allow up to 24 hours (and sometimes 48 hours) for your latest push to git@git.bioconductor.org:packages/CAGEr.git to reflect on this report. See Troubleshooting Build Report for more information. - Use the following Renviron settings to reproduce errors and warnings. - If 'R CMD check' started to fail recently on the Linux builder(s) over a missing dependency, add the missing dependency to 'Suggests:' in your DESCRIPTION file. See Renviron.bioc for more information. - See Martin Grigorov's blog post for how to debug Linux ARM64 related issues on a x86_64 host. |
| Package: CAGEr |
| Version: 2.16.0 |
| Command: /home/biocbuild/R/R/bin/R CMD check --install=check:CAGEr.install-out.txt --library=/home/biocbuild/R/R/site-library --no-vignettes --timings CAGEr_2.16.0.tar.gz |
| StartedAt: 2025-11-11 07:47:22 -0000 (Tue, 11 Nov 2025) |
| EndedAt: 2025-11-11 08:01:25 -0000 (Tue, 11 Nov 2025) |
| EllapsedTime: 843.7 seconds |
| RetCode: 0 |
| Status: OK |
| CheckDir: CAGEr.Rcheck |
| Warnings: 0 |
##############################################################################
##############################################################################
###
### Running command:
###
### /home/biocbuild/R/R/bin/R CMD check --install=check:CAGEr.install-out.txt --library=/home/biocbuild/R/R/site-library --no-vignettes --timings CAGEr_2.16.0.tar.gz
###
##############################################################################
##############################################################################
* using log directory ‘/home/biocbuild/bbs-3.22-bioc/meat/CAGEr.Rcheck’
* using R version 4.5.0 (2025-04-11)
* using platform: aarch64-unknown-linux-gnu
* R was compiled by
aarch64-unknown-linux-gnu-gcc (GCC) 14.2.0
GNU Fortran (GCC) 14.2.0
* running under: openEuler 24.03 (LTS)
* using session charset: UTF-8
* using option ‘--no-vignettes’
* checking for file ‘CAGEr/DESCRIPTION’ ... OK
* this is package ‘CAGEr’ version ‘2.16.0’
* package encoding: UTF-8
* checking package namespace information ... OK
* checking package dependencies ... INFO
Imports includes 30 non-default packages.
Importing from so many packages makes the package vulnerable to any of
them becoming unavailable. Move as many as possible to Suggests and
use conditionally.
* checking if this is a source package ... OK
* checking if there is a namespace ... OK
* checking for hidden files and directories ... OK
* checking for portable file names ... OK
* checking for sufficient/correct file permissions ... OK
* checking whether package ‘CAGEr’ can be installed ... OK
* checking installed package size ... OK
* checking package directory ... OK
* checking ‘build’ directory ... OK
* checking DESCRIPTION meta-information ... OK
* checking top-level files ... OK
* checking for left-over files ... OK
* checking index information ... OK
* checking package subdirectories ... OK
* checking code files for non-ASCII characters ... OK
* checking R files for syntax errors ... OK
* checking whether the package can be loaded ... OK
* checking whether the package can be loaded with stated dependencies ... OK
* checking whether the package can be unloaded cleanly ... OK
* checking whether the namespace can be loaded with stated dependencies ... OK
* checking whether the namespace can be unloaded cleanly ... OK
* checking loading without being on the library search path ... OK
* checking dependencies in R code ... OK
* checking S3 generic/method consistency ... OK
* checking replacement functions ... OK
* checking foreign function calls ... OK
* checking R code for possible problems ... OK
* checking Rd files ... OK
* checking Rd metadata ... OK
* checking Rd cross-references ... OK
* checking for missing documentation entries ... OK
* checking for code/documentation mismatches ... OK
* checking Rd \usage sections ... OK
* checking Rd contents ... OK
* checking for unstated dependencies in examples ... OK
* checking contents of ‘data’ directory ... OK
* checking data for non-ASCII characters ... OK
* checking LazyData ... OK
* checking data for ASCII and uncompressed saves ... OK
* checking files in ‘vignettes’ ... OK
* checking examples ... OK
Examples with CPU (user + system) or elapsed time > 5s
user system elapsed
paraclu 75.591 0.331 76.142
exportToTrack 62.214 0.291 62.687
scoreShift 33.600 0.275 33.977
aggregateTagClusters 32.572 0.347 33.027
annotateCTSS 20.428 0.224 20.715
quantilePositions 20.390 0.132 20.590
distclu 16.877 0.200 17.121
plotExpressionProfiles 13.473 0.088 13.599
getExpressionProfiles 8.281 0.028 8.334
CustomConsensusClusters 7.392 0.151 7.569
cumulativeCTSSdistribution 5.855 0.039 5.911
plotAnnot 5.082 0.032 5.128
* checking for unstated dependencies in vignettes ... OK
* checking package vignettes ... OK
* checking running R code from vignettes ... SKIPPED
* checking re-building of vignette outputs ... SKIPPED
* checking PDF version of manual ... OK
* DONE
Status: OK
CAGEr.Rcheck/00install.out
############################################################################## ############################################################################## ### ### Running command: ### ### /home/biocbuild/R/R/bin/R CMD INSTALL CAGEr ### ############################################################################## ############################################################################## * installing to library ‘/home/biocbuild/R/R-4.5.0/site-library’ * installing *source* package ‘CAGEr’ ... ** this is package ‘CAGEr’ version ‘2.16.0’ ** using staged installation ** R ** data *** moving datasets to lazyload DB ** inst ** byte-compile and prepare package for lazy loading ** help *** installing help indices ** building package indices ** installing vignettes ** testing if installed package can be loaded from temporary location ** testing if installed package can be loaded from final location ** testing if installed package keeps a record of temporary installation path * DONE (CAGEr)
CAGEr.Rcheck/CAGEr-Ex.timings
| name | user | system | elapsed | |
| CAGEexp-class | 3.511 | 0.131 | 3.686 | |
| CAGEr_Multicore | 3.126 | 0.084 | 3.218 | |
| CTSS-class | 0.367 | 0.004 | 0.371 | |
| CTSScoordinates | 0.12 | 0.00 | 0.12 | |
| CTSSnormalizedTpm | 1.036 | 0.064 | 1.103 | |
| CTSStagCount | 1.014 | 0.100 | 1.117 | |
| CTSStoGenes | 0.567 | 0.032 | 0.601 | |
| CustomConsensusClusters | 7.392 | 0.151 | 7.569 | |
| GeneExpDESeq2 | 0.693 | 0.028 | 0.723 | |
| GeneExpSE | 0.006 | 0.000 | 0.005 | |
| QuantileWidthFunctions | 0.193 | 0.004 | 0.197 | |
| TSSlogo | 4.401 | 0.111 | 4.549 | |
| aggregateTagClusters | 32.572 | 0.347 | 33.027 | |
| annotateCTSS | 20.428 | 0.224 | 20.715 | |
| byCtss | 0.021 | 0.000 | 0.021 | |
| consensusClusters | 0.228 | 0.003 | 0.233 | |
| consensusClustersDESeq2 | 3.492 | 0.008 | 3.510 | |
| consensusClustersTpm | 0.009 | 0.000 | 0.009 | |
| cumulativeCTSSdistribution | 5.855 | 0.039 | 5.911 | |
| distclu | 16.877 | 0.200 | 17.121 | |
| dot-ctss_summary_for_clusters | 1.527 | 0.044 | 1.576 | |
| exampleCAGEexp | 0.000 | 0.000 | 0.001 | |
| exportToTrack | 62.214 | 0.291 | 62.687 | |
| expressionClasses | 3.367 | 0.008 | 3.385 | |
| filteredCTSSidx | 0.015 | 0.000 | 0.015 | |
| flagLowExpCTSS | 0.055 | 0.000 | 0.055 | |
| genomeName | 0.001 | 0.000 | 0.001 | |
| getCTSS | 1.491 | 0.008 | 1.503 | |
| getExpressionProfiles | 8.281 | 0.028 | 8.334 | |
| getShiftingPromoters | 3.413 | 0.000 | 3.422 | |
| hanabi | 0.365 | 0.000 | 0.366 | |
| hanabiPlot | 0.441 | 0.012 | 0.454 | |
| import.CAGEscanMolecule | 0 | 0 | 0 | |
| import.CTSS | 0.123 | 0.004 | 0.127 | |
| import.bam | 0 | 0 | 0 | |
| import.bedCTSS | 0 | 0 | 0 | |
| import.bedScore | 0 | 0 | 0 | |
| import.bedmolecule | 0 | 0 | 0 | |
| import.bigwig | 0.501 | 0.012 | 0.517 | |
| importPublicData | 0.000 | 0.000 | 0.001 | |
| inputFiles | 0.001 | 0.000 | 0.002 | |
| inputFilesType | 0.002 | 0.000 | 0.001 | |
| librarySizes | 0.002 | 0.000 | 0.001 | |
| mapStats | 0.110 | 0.012 | 0.123 | |
| mergeCAGEsets | 3.220 | 0.028 | 3.257 | |
| mergeSamples | 0.698 | 0.008 | 0.709 | |
| moleculesGR2CTSS | 0.204 | 0.000 | 0.206 | |
| normalizeTagCount | 0.771 | 0.004 | 0.773 | |
| paraclu | 75.591 | 0.331 | 76.142 | |
| parseCAGEscanBlocksToGrangeTSS | 0.035 | 0.000 | 0.035 | |
| plotAnnot | 5.082 | 0.032 | 5.128 | |
| plotCorrelation | 0.398 | 0.004 | 0.403 | |
| plotExpressionProfiles | 13.473 | 0.088 | 13.599 | |
| plotInterquantileWidth | 3.827 | 0.023 | 3.863 | |
| plotReverseCumulatives | 4.213 | 0.008 | 4.225 | |
| quantilePositions | 20.390 | 0.132 | 20.590 | |
| quickEnhancers | 0 | 0 | 0 | |
| ranges2annot | 0.501 | 0.000 | 0.502 | |
| ranges2genes | 0.089 | 0.000 | 0.089 | |
| ranges2names | 0.083 | 0.004 | 0.087 | |
| resetCAGEexp | 0.488 | 0.004 | 0.493 | |
| rowSums.RleDataFrame | 0.033 | 0.000 | 0.033 | |
| rowsum.RleDataFrame | 0.036 | 0.000 | 0.036 | |
| sampleLabels | 0.006 | 0.000 | 0.005 | |
| scoreShift | 33.600 | 0.275 | 33.977 | |
| seqNameTotalsSE | 0.005 | 0.000 | 0.004 | |
| setColors | 0.491 | 0.000 | 0.492 | |
| strandInvaders | 0.877 | 0.028 | 0.904 | |
| summariseChrExpr | 0.575 | 0.000 | 0.578 | |
| tagClusters | 0.571 | 0.000 | 0.574 | |