Back to Multiple platform build/check report for BioC 3.22:   simplified   long
AB[C]DEFGHIJKLMNOPQRSTUVWXYZ

This page was generated on 2025-11-20 12:04 -0500 (Thu, 20 Nov 2025).

HostnameOSArch (*)R versionInstalled pkgs
nebbiolo2Linux (Ubuntu 24.04.3 LTS)x86_644.5.2 (2025-10-31) -- "[Not] Part in a Rumble" 4615
merida1macOS 12.7.6 Montereyx86_644.5.2 Patched (2025-11-05 r88990) -- "[Not] Part in a Rumble" 4610
kjohnson1macOS 13.7.5 Venturaarm644.5.2 Patched (2025-11-04 r88984) -- "[Not] Part in a Rumble" 4598
taishanLinux (openEuler 24.03 LTS)aarch644.5.0 (2025-04-11) -- "How About a Twenty-Six" 4668
Click on any hostname to see more info about the system (e.g. compilers)      (*) as reported by 'uname -p', except on Windows and Mac OS X

Package 273/2361HostnameOS / ArchINSTALLBUILDCHECKBUILD BIN
CAGEr 2.16.0  (landing page)
Charles Plessy
Snapshot Date: 2025-11-17 13:45 -0500 (Mon, 17 Nov 2025)
git_url: https://git.bioconductor.org/packages/CAGEr
git_branch: RELEASE_3_22
git_last_commit: b717389
git_last_commit_date: 2025-10-29 10:13:45 -0500 (Wed, 29 Oct 2025)
nebbiolo2Linux (Ubuntu 24.04.3 LTS) / x86_64  OK    OK    OK  UNNEEDED, same version is already published
merida1macOS 12.7.6 Monterey / x86_64  OK    OK    OK    OK  UNNEEDED, same version is already published
kjohnson1macOS 13.7.5 Ventura / arm64  OK    OK    OK    OK  UNNEEDED, same version is already published
taishanLinux (openEuler 24.03 LTS) / aarch64  OK    OK    OK  


CHECK results for CAGEr on merida1

To the developers/maintainers of the CAGEr package:
- Allow up to 24 hours (and sometimes 48 hours) for your latest push to git@git.bioconductor.org:packages/CAGEr.git to reflect on this report. See Troubleshooting Build Report for more information.
- Use the following Renviron settings to reproduce errors and warnings.
- If 'R CMD check' started to fail recently on the Linux builder(s) over a missing dependency, add the missing dependency to 'Suggests:' in your DESCRIPTION file. See Renviron.bioc for more information.

raw results


Summary

Package: CAGEr
Version: 2.16.0
Command: /Library/Frameworks/R.framework/Resources/bin/R CMD check --install=check:CAGEr.install-out.txt --library=/Library/Frameworks/R.framework/Resources/library --no-vignettes --timings CAGEr_2.16.0.tar.gz
StartedAt: 2025-11-18 04:45:19 -0500 (Tue, 18 Nov 2025)
EndedAt: 2025-11-18 05:08:09 -0500 (Tue, 18 Nov 2025)
EllapsedTime: 1370.0 seconds
RetCode: 0
Status:   OK  
CheckDir: CAGEr.Rcheck
Warnings: 0

Command output

##############################################################################
##############################################################################
###
### Running command:
###
###   /Library/Frameworks/R.framework/Resources/bin/R CMD check --install=check:CAGEr.install-out.txt --library=/Library/Frameworks/R.framework/Resources/library --no-vignettes --timings CAGEr_2.16.0.tar.gz
###
##############################################################################
##############################################################################


* using log directory ‘/Users/biocbuild/bbs-3.22-bioc/meat/CAGEr.Rcheck’
* using R version 4.5.2 Patched (2025-11-05 r88990)
* using platform: x86_64-apple-darwin20
* R was compiled by
    Apple clang version 14.0.0 (clang-1400.0.29.202)
    GNU Fortran (GCC) 14.2.0
* running under: macOS Monterey 12.7.6
* using session charset: UTF-8
* using option ‘--no-vignettes’
* checking for file ‘CAGEr/DESCRIPTION’ ... OK
* this is package ‘CAGEr’ version ‘2.16.0’
* package encoding: UTF-8
* checking package namespace information ... OK
* checking package dependencies ... INFO
Imports includes 30 non-default packages.
Importing from so many packages makes the package vulnerable to any of
them becoming unavailable.  Move as many as possible to Suggests and
use conditionally.
* checking if this is a source package ... OK
* checking if there is a namespace ... OK
* checking for hidden files and directories ... OK
* checking for portable file names ... OK
* checking for sufficient/correct file permissions ... OK
* checking whether package ‘CAGEr’ can be installed ... OK
* checking installed package size ... OK
* checking package directory ... OK
* checking ‘build’ directory ... OK
* checking DESCRIPTION meta-information ... OK
* checking top-level files ... OK
* checking for left-over files ... OK
* checking index information ... OK
* checking package subdirectories ... OK
* checking code files for non-ASCII characters ... OK
* checking R files for syntax errors ... OK
* checking whether the package can be loaded ... OK
* checking whether the package can be loaded with stated dependencies ... OK
* checking whether the package can be unloaded cleanly ... OK
* checking whether the namespace can be loaded with stated dependencies ... OK
* checking whether the namespace can be unloaded cleanly ... OK
* checking dependencies in R code ... OK
* checking S3 generic/method consistency ... OK
* checking replacement functions ... OK
* checking foreign function calls ... OK
* checking R code for possible problems ... OK
* checking Rd files ... OK
* checking Rd metadata ... OK
* checking Rd cross-references ... OK
* checking for missing documentation entries ... OK
* checking for code/documentation mismatches ... OK
* checking Rd \usage sections ... OK
* checking Rd contents ... OK
* checking for unstated dependencies in examples ... OK
* checking contents of ‘data’ directory ... OK
* checking data for non-ASCII characters ... OK
* checking LazyData ... OK
* checking data for ASCII and uncompressed saves ... OK
* checking files in ‘vignettes’ ... OK
* checking examples ... OK
Examples with CPU (user + system) or elapsed time > 5s
                              user system elapsed
paraclu                    115.782  0.446 123.408
exportToTrack               99.324  0.461 105.709
scoreShift                  53.806  0.402  56.567
aggregateTagClusters        51.711  0.332  54.571
quantilePositions           32.614  0.136  34.587
annotateCTSS                32.237  0.121  34.207
distclu                     24.393  0.097  25.153
plotExpressionProfiles      20.540  0.196  21.892
getExpressionProfiles       14.054  0.059  14.681
CustomConsensusClusters     12.066  0.044  12.182
CAGEexp-class                8.531  1.474  10.162
cumulativeCTSSdistribution   9.019  0.070   9.252
plotAnnot                    8.293  0.079   8.819
TSSlogo                      6.886  0.081   7.027
plotReverseCumulatives       6.630  0.032   6.975
plotInterquantileWidth       5.751  0.034   6.287
consensusClustersDESeq2      5.297  0.021   5.611
mergeCAGEsets                5.215  0.044   5.507
expressionClasses            5.086  0.016   5.374
getShiftingPromoters         5.030  0.021   5.351
* checking for unstated dependencies in vignettes ... OK
* checking package vignettes ... OK
* checking running R code from vignettes ... SKIPPED
* checking re-building of vignette outputs ... SKIPPED
* checking PDF version of manual ... OK
* DONE

Status: OK


Installation output

CAGEr.Rcheck/00install.out

##############################################################################
##############################################################################
###
### Running command:
###
###   /Library/Frameworks/R.framework/Resources/bin/R CMD INSTALL CAGEr
###
##############################################################################
##############################################################################


* installing to library ‘/Library/Frameworks/R.framework/Versions/4.5-x86_64/Resources/library’
* installing *source* package ‘CAGEr’ ...
** this is package ‘CAGEr’ version ‘2.16.0’
** using staged installation
** R
** data
*** moving datasets to lazyload DB
** inst
** byte-compile and prepare package for lazy loading
** help
*** installing help indices
** building package indices
** installing vignettes
** testing if installed package can be loaded from temporary location
** testing if installed package can be loaded from final location
** testing if installed package keeps a record of temporary installation path
* DONE (CAGEr)

Tests output


Example timings

CAGEr.Rcheck/CAGEr-Ex.timings

nameusersystemelapsed
CAGEexp-class 8.531 1.47410.162
CAGEr_Multicore4.0220.0214.061
CTSS-class0.6660.0040.672
CTSScoordinates0.1920.0060.198
CTSSnormalizedTpm1.7300.0301.786
CTSStagCount1.6710.1321.817
CTSStoGenes1.0910.1151.211
CustomConsensusClusters12.066 0.04412.182
GeneExpDESeq21.1770.0191.198
GeneExpSE0.0080.0010.010
QuantileWidthFunctions0.3310.0030.335
TSSlogo6.8860.0817.027
aggregateTagClusters51.711 0.33254.571
annotateCTSS32.237 0.12134.207
byCtss0.0270.0020.028
consensusClusters0.3570.0070.365
consensusClustersDESeq25.2970.0215.611
consensusClustersTpm0.0130.0010.014
cumulativeCTSSdistribution9.0190.0709.252
distclu24.393 0.09725.153
dot-ctss_summary_for_clusters2.1040.0152.203
exampleCAGEexp0.0000.0020.003
exportToTrack 99.324 0.461105.709
expressionClasses5.0860.0165.374
filteredCTSSidx0.0220.0010.023
flagLowExpCTSS0.0860.0010.093
genomeName0.0000.0000.001
getCTSS2.4580.0252.603
getExpressionProfiles14.054 0.05914.681
getShiftingPromoters5.0300.0215.351
hanabi0.5100.0110.653
hanabiPlot0.6300.0200.665
import.CAGEscanMolecule0.0000.0010.001
import.CTSS0.1910.0040.205
import.bam0.0000.0010.001
import.bedCTSS000
import.bedScore0.0000.0000.001
import.bedmolecule0.0000.0010.001
import.bigwig0.8610.0130.917
importPublicData0.0000.0020.003
inputFiles0.0030.0010.004
inputFilesType0.0030.0000.004
librarySizes0.0030.0010.003
mapStats0.1220.0080.157
mergeCAGEsets5.2150.0445.507
mergeSamples1.2880.0091.357
moleculesGR2CTSS0.3090.0020.320
normalizeTagCount1.2750.0081.351
paraclu115.782 0.446123.408
parseCAGEscanBlocksToGrangeTSS0.0500.0020.055
plotAnnot8.2930.0798.819
plotCorrelation0.6120.0070.652
plotExpressionProfiles20.540 0.19621.892
plotInterquantileWidth5.7510.0346.287
plotReverseCumulatives6.6300.0326.975
quantilePositions32.614 0.13634.587
quickEnhancers0.0010.0000.003
ranges2annot0.8410.0050.876
ranges2genes0.1420.0010.150
ranges2names0.1360.0020.147
resetCAGEexp0.7490.0040.788
rowSums.RleDataFrame0.0480.0010.048
rowsum.RleDataFrame0.0560.0030.062
sampleLabels0.0090.0020.010
scoreShift53.806 0.40256.567
seqNameTotalsSE0.0080.0010.009
setColors0.9620.0091.030
strandInvaders1.6700.1451.903
summariseChrExpr1.2000.0081.255
tagClusters0.9780.0151.112