| Back to --- experimental! --- GPU-enabled build/check report for BioC 3.22 Report updated every 6 hours |
This page was generated on 2025-10-25 08:30 -0400 (Sat, 25 Oct 2025).
| Hostname | OS | Arch (*) | R version | Installed pkgs |
|---|---|---|---|---|
| biocgpu | Linux (Ubuntu 24.04.2 LTS) | x86_64 | 4.5.1 Patched (2025-08-23 r88803) -- "Great Square Root" | 282 |
| amarone | Linux (Ubuntu 24.04.3 LTS) | x86_64 | 4.5.1 Patched (2025-09-10 r88813) -- "Great Square Root" | 283 |
| Click on any hostname to see more info about the system (e.g. compilers) (*) as reported by 'uname -p', except on Windows and Mac OS X | ||||
| Package 3/3 | Hostname | OS / Arch | INSTALL | BUILD | CHECK | ||||||||
| scviR 1.9.14 (landing page) Vincent Carey
| biocgpu | Linux (Ubuntu 24.04.2 LTS) / x86_64 | OK | OK | OK | ||||||||
| amarone | Linux (Ubuntu 24.04.3 LTS) / x86_64 | OK | OK | OK | |||||||||
|
To the developers/maintainers of the scviR package: - Use the following Renviron settings to reproduce errors and warnings. - If 'R CMD check' started to fail recently on the Linux builder(s) over a missing dependency, add the missing dependency to 'Suggests:' in your DESCRIPTION file. See Renviron.bioc for more information. |
| Package: scviR |
| Version: 1.9.14 |
| Command: /home/biocbuild/bbs-3.22-bioc-gpu/R/bin/R CMD INSTALL scviR |
| StartedAt: 2025-10-25 07:45:34 -0400 (Sat, 25 Oct 2025) |
| EndedAt: 2025-10-25 07:46:26 -0400 (Sat, 25 Oct 2025) |
| EllapsedTime: 52.0 seconds |
| RetCode: 0 |
| Status: OK |
############################################################################## ############################################################################## ### ### Running command: ### ### /home/biocbuild/bbs-3.22-bioc-gpu/R/bin/R CMD INSTALL scviR ### ############################################################################## ############################################################################## * installing to library ‘/media/volume/biocgpu2/biocbuild/bbs-3.22-bioc-gpu/R/site-library’ * installing *source* package ‘scviR’ ... ** this is package ‘scviR’ version ‘1.9.14’ ** using staged installation ** R ** data ** inst ** byte-compile and prepare package for lazy loading ** help *** installing help indices *** copying figures ** building package indices ** installing vignettes ** testing if installed package can be loaded from temporary location ** testing if installed package can be loaded from final location ** testing if installed package keeps a record of temporary installation path * DONE (scviR)