Back to --- experimental! ---
GPU-enabled build/check report for BioC 3.23
Report updated every 6 hours

This page was generated on 2025-11-20 13:45 -0500 (Thu, 20 Nov 2025).

R packages installed on biocgpu


                     LibPath                                                           Version    Built
abind                /media/volume/biocgpu2/biocbuild/bbs-3.23-bioc-gpu/R/site-library 1.4-8      4.6.0
AnnotationDbi        /media/volume/biocgpu2/biocbuild/bbs-3.23-bioc-gpu/R/site-library 1.73.0     4.6.0
AnnotationHub        /media/volume/biocgpu2/biocbuild/bbs-3.23-bioc-gpu/R/site-library 4.1.0      4.6.0
askpass              /media/volume/biocgpu2/biocbuild/bbs-3.23-bioc-gpu/R/site-library 1.2.1      4.6.0
assorthead           /media/volume/biocgpu2/biocbuild/bbs-3.23-bioc-gpu/R/site-library 1.5.2      4.6.0
backports            /media/volume/biocgpu2/biocbuild/bbs-3.23-bioc-gpu/R/site-library 1.5.0      4.6.0
base64enc            /media/volume/biocgpu2/biocbuild/bbs-3.23-bioc-gpu/R/site-library 0.1-3      4.6.0
basilisk             /media/volume/biocgpu2/biocbuild/bbs-3.23-bioc-gpu/R/site-library 1.23.0     4.6.0
beachmat             /media/volume/biocgpu2/biocbuild/bbs-3.23-bioc-gpu/R/site-library 2.27.0     4.6.0
beeswarm             /media/volume/biocgpu2/biocbuild/bbs-3.23-bioc-gpu/R/site-library 0.4.0      4.6.0
BH                   /media/volume/biocgpu2/biocbuild/bbs-3.23-bioc-gpu/R/site-library 1.87.0-1   4.6.0
Biobase              /media/volume/biocgpu2/biocbuild/bbs-3.23-bioc-gpu/R/site-library 2.71.0     4.6.0
BiocBaseUtils        /media/volume/biocgpu2/biocbuild/bbs-3.23-bioc-gpu/R/site-library 1.13.0     4.6.0
BiocFileCache        /media/volume/biocgpu2/biocbuild/bbs-3.23-bioc-gpu/R/site-library 3.1.0      4.6.0
BiocGenerics         /media/volume/biocgpu2/biocbuild/bbs-3.23-bioc-gpu/R/site-library 0.57.0     4.6.0
BiocIO               /media/volume/biocgpu2/biocbuild/bbs-3.23-bioc-gpu/R/site-library 1.21.0     4.6.0
BiocManager          /media/volume/biocgpu2/biocbuild/bbs-3.23-bioc-gpu/R/site-library 1.30.27    4.6.0
BiocNeighbors        /media/volume/biocgpu2/biocbuild/bbs-3.23-bioc-gpu/R/site-library 2.5.0      4.6.0
BiocParallel         /media/volume/biocgpu2/biocbuild/bbs-3.23-bioc-gpu/R/site-library 1.45.0     4.6.0
BiocSingular         /media/volume/biocgpu2/biocbuild/bbs-3.23-bioc-gpu/R/site-library 1.27.1     4.6.0
BiocStyle            /media/volume/biocgpu2/biocbuild/bbs-3.23-bioc-gpu/R/site-library 2.39.0     4.6.0
BiocVersion          /media/volume/biocgpu2/biocbuild/bbs-3.23-bioc-gpu/R/site-library 3.23.1     4.6.0
Biostrings           /media/volume/biocgpu2/biocbuild/bbs-3.23-bioc-gpu/R/site-library 2.79.2     4.6.0
bit                  /media/volume/biocgpu2/biocbuild/bbs-3.23-bioc-gpu/R/site-library 4.6.0      4.6.0
bit64                /media/volume/biocgpu2/biocbuild/bbs-3.23-bioc-gpu/R/site-library 4.6.0-1    4.6.0
bitops               /media/volume/biocgpu2/biocbuild/bbs-3.23-bioc-gpu/R/site-library 1.0-9      4.6.0
blob                 /media/volume/biocgpu2/biocbuild/bbs-3.23-bioc-gpu/R/site-library 1.2.4      4.6.0
bookdown             /media/volume/biocgpu2/biocbuild/bbs-3.23-bioc-gpu/R/site-library 0.45       4.6.0
brew                 /media/volume/biocgpu2/biocbuild/bbs-3.23-bioc-gpu/R/site-library 1.0-10     4.6.0
brio                 /media/volume/biocgpu2/biocbuild/bbs-3.23-bioc-gpu/R/site-library 1.1.5      4.6.0
broom                /media/volume/biocgpu2/biocbuild/bbs-3.23-bioc-gpu/R/site-library 1.0.10     4.6.0
BSgenome             /media/volume/biocgpu2/biocbuild/bbs-3.23-bioc-gpu/R/site-library 1.79.1     4.6.0
bslib                /media/volume/biocgpu2/biocbuild/bbs-3.23-bioc-gpu/R/site-library 0.9.0      4.6.0
cachem               /media/volume/biocgpu2/biocbuild/bbs-3.23-bioc-gpu/R/site-library 1.1.0      4.6.0
Cairo                /media/volume/biocgpu2/biocbuild/bbs-3.23-bioc-gpu/R/site-library 1.7-0      4.6.0
callr                /media/volume/biocgpu2/biocbuild/bbs-3.23-bioc-gpu/R/site-library 3.7.6      4.6.0
car                  /media/volume/biocgpu2/biocbuild/bbs-3.23-bioc-gpu/R/site-library 3.1-3      4.6.0
carData              /media/volume/biocgpu2/biocbuild/bbs-3.23-bioc-gpu/R/site-library 3.0-5      4.6.0
cigarillo            /media/volume/biocgpu2/biocbuild/bbs-3.23-bioc-gpu/R/site-library 1.1.0      4.6.0
cli                  /media/volume/biocgpu2/biocbuild/bbs-3.23-bioc-gpu/R/site-library 3.6.5      4.6.0
clipr                /media/volume/biocgpu2/biocbuild/bbs-3.23-bioc-gpu/R/site-library 0.8.0      4.6.0
colorspace           /media/volume/biocgpu2/biocbuild/bbs-3.23-bioc-gpu/R/site-library 2.1-2      4.6.0
commonmark           /media/volume/biocgpu2/biocbuild/bbs-3.23-bioc-gpu/R/site-library 2.0.0      4.6.0
config               /media/volume/biocgpu2/biocbuild/bbs-3.23-bioc-gpu/R/site-library 0.3.2      4.6.0
corrplot             /media/volume/biocgpu2/biocbuild/bbs-3.23-bioc-gpu/R/site-library 0.95       4.6.0
cowplot              /media/volume/biocgpu2/biocbuild/bbs-3.23-bioc-gpu/R/site-library 1.2.0      4.6.0
cpp11                /media/volume/biocgpu2/biocbuild/bbs-3.23-bioc-gpu/R/site-library 0.5.2      4.6.0
crayon               /media/volume/biocgpu2/biocbuild/bbs-3.23-bioc-gpu/R/site-library 1.5.3      4.6.0
credentials          /media/volume/biocgpu2/biocbuild/bbs-3.23-bioc-gpu/R/site-library 2.0.3      4.6.0
curl                 /media/volume/biocgpu2/biocbuild/bbs-3.23-bioc-gpu/R/site-library 7.0.0      4.6.0
DBI                  /media/volume/biocgpu2/biocbuild/bbs-3.23-bioc-gpu/R/site-library 1.2.3      4.6.0
dbplyr               /media/volume/biocgpu2/biocbuild/bbs-3.23-bioc-gpu/R/site-library 2.5.1      4.6.0
DelayedArray         /media/volume/biocgpu2/biocbuild/bbs-3.23-bioc-gpu/R/site-library 0.37.0     4.6.0
Deriv                /media/volume/biocgpu2/biocbuild/bbs-3.23-bioc-gpu/R/site-library 4.2.0      4.6.0
desc                 /media/volume/biocgpu2/biocbuild/bbs-3.23-bioc-gpu/R/site-library 1.4.3      4.6.0
devtools             /media/volume/biocgpu2/biocbuild/bbs-3.23-bioc-gpu/R/site-library 2.4.6      4.6.0
diffobj              /media/volume/biocgpu2/biocbuild/bbs-3.23-bioc-gpu/R/site-library 0.3.6      4.6.0
digest               /media/volume/biocgpu2/biocbuild/bbs-3.23-bioc-gpu/R/site-library 0.6.39     4.6.0
dir.expiry           /media/volume/biocgpu2/biocbuild/bbs-3.23-bioc-gpu/R/site-library 1.19.0     4.6.0
doBy                 /media/volume/biocgpu2/biocbuild/bbs-3.23-bioc-gpu/R/site-library 4.7.0      4.6.0
downlit              /media/volume/biocgpu2/biocbuild/bbs-3.23-bioc-gpu/R/site-library 0.4.5      4.6.0
dplyr                /media/volume/biocgpu2/biocbuild/bbs-3.23-bioc-gpu/R/site-library 1.1.4      4.6.0
dqrng                /media/volume/biocgpu2/biocbuild/bbs-3.23-bioc-gpu/R/site-library 0.4.1      4.6.0
ellipsis             /media/volume/biocgpu2/biocbuild/bbs-3.23-bioc-gpu/R/site-library 0.3.2      4.6.0
evaluate             /media/volume/biocgpu2/biocbuild/bbs-3.23-bioc-gpu/R/site-library 1.0.5      4.6.0
ExperimentHub        /media/volume/biocgpu2/biocbuild/bbs-3.23-bioc-gpu/R/site-library 3.1.0      4.6.0
fansi                /media/volume/biocgpu2/biocbuild/bbs-3.23-bioc-gpu/R/site-library 1.0.7      4.6.0
farver               /media/volume/biocgpu2/biocbuild/bbs-3.23-bioc-gpu/R/site-library 2.1.2      4.6.0
fastmap              /media/volume/biocgpu2/biocbuild/bbs-3.23-bioc-gpu/R/site-library 1.2.0      4.6.0
filelock             /media/volume/biocgpu2/biocbuild/bbs-3.23-bioc-gpu/R/site-library 1.0.3      4.6.0
FNN                  /media/volume/biocgpu2/biocbuild/bbs-3.23-bioc-gpu/R/site-library 1.1.4.1    4.6.0
fontawesome          /media/volume/biocgpu2/biocbuild/bbs-3.23-bioc-gpu/R/site-library 0.5.3      4.6.0
formatR              /media/volume/biocgpu2/biocbuild/bbs-3.23-bioc-gpu/R/site-library 1.14       4.6.0
Formula              /media/volume/biocgpu2/biocbuild/bbs-3.23-bioc-gpu/R/site-library 1.2-5      4.6.0
fs                   /media/volume/biocgpu2/biocbuild/bbs-3.23-bioc-gpu/R/site-library 1.6.6      4.6.0
futile.logger        /media/volume/biocgpu2/biocbuild/bbs-3.23-bioc-gpu/R/site-library 1.4.3      4.6.0
futile.options       /media/volume/biocgpu2/biocbuild/bbs-3.23-bioc-gpu/R/site-library 1.0.1      4.6.0
generics             /media/volume/biocgpu2/biocbuild/bbs-3.23-bioc-gpu/R/site-library 0.1.4      4.6.0
GenomicAlignments    /media/volume/biocgpu2/biocbuild/bbs-3.23-bioc-gpu/R/site-library 1.47.0     4.6.0
GenomicFeatures      /media/volume/biocgpu2/biocbuild/bbs-3.23-bioc-gpu/R/site-library 1.63.1     4.6.0
GenomicRanges        /media/volume/biocgpu2/biocbuild/bbs-3.23-bioc-gpu/R/site-library 1.63.0     4.6.0
gert                 /media/volume/biocgpu2/biocbuild/bbs-3.23-bioc-gpu/R/site-library 2.2.0      4.6.0
ggbeeswarm           /media/volume/biocgpu2/biocbuild/bbs-3.23-bioc-gpu/R/site-library 0.7.2      4.6.0
ggplot2              /media/volume/biocgpu2/biocbuild/bbs-3.23-bioc-gpu/R/site-library 4.0.1      4.6.0
ggpubr               /media/volume/biocgpu2/biocbuild/bbs-3.23-bioc-gpu/R/site-library 0.6.2      4.6.0
ggrastr              /media/volume/biocgpu2/biocbuild/bbs-3.23-bioc-gpu/R/site-library 1.0.2      4.6.0
ggrepel              /media/volume/biocgpu2/biocbuild/bbs-3.23-bioc-gpu/R/site-library 0.9.6      4.6.0
ggsci                /media/volume/biocgpu2/biocbuild/bbs-3.23-bioc-gpu/R/site-library 4.1.0      4.6.0
ggsignif             /media/volume/biocgpu2/biocbuild/bbs-3.23-bioc-gpu/R/site-library 0.6.4      4.6.0
gh                   /media/volume/biocgpu2/biocbuild/bbs-3.23-bioc-gpu/R/site-library 1.5.0      4.6.0
gitcreds             /media/volume/biocgpu2/biocbuild/bbs-3.23-bioc-gpu/R/site-library 0.1.2      4.6.0
glue                 /media/volume/biocgpu2/biocbuild/bbs-3.23-bioc-gpu/R/site-library 1.8.0      4.6.0
gridExtra            /media/volume/biocgpu2/biocbuild/bbs-3.23-bioc-gpu/R/site-library 2.3        4.6.0
gtable               /media/volume/biocgpu2/biocbuild/bbs-3.23-bioc-gpu/R/site-library 0.3.6      4.6.0
h5mread              /media/volume/biocgpu2/biocbuild/bbs-3.23-bioc-gpu/R/site-library 1.3.0      4.6.0
HDF5Array            /media/volume/biocgpu2/biocbuild/bbs-3.23-bioc-gpu/R/site-library 1.39.0     4.6.0
here                 /media/volume/biocgpu2/biocbuild/bbs-3.23-bioc-gpu/R/site-library 1.0.2      4.6.0
highr                /media/volume/biocgpu2/biocbuild/bbs-3.23-bioc-gpu/R/site-library 0.11       4.6.0
htmltools            /media/volume/biocgpu2/biocbuild/bbs-3.23-bioc-gpu/R/site-library 0.5.8.1    4.6.0
htmlwidgets          /media/volume/biocgpu2/biocbuild/bbs-3.23-bioc-gpu/R/site-library 1.6.4      4.6.0
httpuv               /media/volume/biocgpu2/biocbuild/bbs-3.23-bioc-gpu/R/site-library 1.6.16     4.6.0
httr                 /media/volume/biocgpu2/biocbuild/bbs-3.23-bioc-gpu/R/site-library 1.4.7      4.6.0
httr2                /media/volume/biocgpu2/biocbuild/bbs-3.23-bioc-gpu/R/site-library 1.2.1      4.6.0
ini                  /media/volume/biocgpu2/biocbuild/bbs-3.23-bioc-gpu/R/site-library 0.3.1      4.6.0
IRanges              /media/volume/biocgpu2/biocbuild/bbs-3.23-bioc-gpu/R/site-library 2.45.0     4.6.0
irlba                /media/volume/biocgpu2/biocbuild/bbs-3.23-bioc-gpu/R/site-library 2.3.5.1    4.6.0
isoband              /media/volume/biocgpu2/biocbuild/bbs-3.23-bioc-gpu/R/site-library 0.2.7      4.6.0
jquerylib            /media/volume/biocgpu2/biocbuild/bbs-3.23-bioc-gpu/R/site-library 0.1.4      4.6.0
jsonlite             /media/volume/biocgpu2/biocbuild/bbs-3.23-bioc-gpu/R/site-library 2.0.0      4.6.0
KEGGREST             /media/volume/biocgpu2/biocbuild/bbs-3.23-bioc-gpu/R/site-library 1.51.1     4.6.0
keras                /media/volume/biocgpu2/biocbuild/bbs-3.23-bioc-gpu/R/site-library 2.16.0     4.6.0
knitr                /media/volume/biocgpu2/biocbuild/bbs-3.23-bioc-gpu/R/site-library 1.50       4.6.0
labeling             /media/volume/biocgpu2/biocbuild/bbs-3.23-bioc-gpu/R/site-library 0.4.3      4.6.0
lambda.r             /media/volume/biocgpu2/biocbuild/bbs-3.23-bioc-gpu/R/site-library 1.2.4      4.6.0
later                /media/volume/biocgpu2/biocbuild/bbs-3.23-bioc-gpu/R/site-library 1.4.4      4.6.0
lifecycle            /media/volume/biocgpu2/biocbuild/bbs-3.23-bioc-gpu/R/site-library 1.0.4      4.6.0
limma                /media/volume/biocgpu2/biocbuild/bbs-3.23-bioc-gpu/R/site-library 3.67.0     4.6.0
lme4                 /media/volume/biocgpu2/biocbuild/bbs-3.23-bioc-gpu/R/site-library 1.1-37     4.6.0
magrittr             /media/volume/biocgpu2/biocbuild/bbs-3.23-bioc-gpu/R/site-library 2.0.4      4.6.0
MatrixGenerics       /media/volume/biocgpu2/biocbuild/bbs-3.23-bioc-gpu/R/site-library 1.23.0     4.6.0
MatrixModels         /media/volume/biocgpu2/biocbuild/bbs-3.23-bioc-gpu/R/site-library 0.5-4      4.6.0
matrixStats          /media/volume/biocgpu2/biocbuild/bbs-3.23-bioc-gpu/R/site-library 1.5.0      4.6.0
memoise              /media/volume/biocgpu2/biocbuild/bbs-3.23-bioc-gpu/R/site-library 2.0.1      4.6.0
microbenchmark       /media/volume/biocgpu2/biocbuild/bbs-3.23-bioc-gpu/R/site-library 1.5.0      4.6.0
mime                 /media/volume/biocgpu2/biocbuild/bbs-3.23-bioc-gpu/R/site-library 0.13       4.6.0
miniUI               /media/volume/biocgpu2/biocbuild/bbs-3.23-bioc-gpu/R/site-library 0.1.2      4.6.0
minqa                /media/volume/biocgpu2/biocbuild/bbs-3.23-bioc-gpu/R/site-library 1.2.8      4.6.0
modelr               /media/volume/biocgpu2/biocbuild/bbs-3.23-bioc-gpu/R/site-library 0.1.11     4.6.0
nloptr               /media/volume/biocgpu2/biocbuild/bbs-3.23-bioc-gpu/R/site-library 2.2.1      4.6.0
numDeriv             /media/volume/biocgpu2/biocbuild/bbs-3.23-bioc-gpu/R/site-library 2016.8-1.1 4.6.0
openssl              /media/volume/biocgpu2/biocbuild/bbs-3.23-bioc-gpu/R/site-library 2.3.4      4.6.0
orthos               /media/volume/biocgpu2/biocbuild/bbs-3.23-bioc-gpu/R/site-library 1.9.0      4.6.0
orthosData           /media/volume/biocgpu2/biocbuild/bbs-3.23-bioc-gpu/R/site-library 1.9.0      4.6.0
otel                 /media/volume/biocgpu2/biocbuild/bbs-3.23-bioc-gpu/R/site-library 0.2.0      4.6.0
pbkrtest             /media/volume/biocgpu2/biocbuild/bbs-3.23-bioc-gpu/R/site-library 0.5.5      4.6.0
pheatmap             /media/volume/biocgpu2/biocbuild/bbs-3.23-bioc-gpu/R/site-library 1.0.13     4.6.0
pillar               /media/volume/biocgpu2/biocbuild/bbs-3.23-bioc-gpu/R/site-library 1.11.1     4.6.0
pkgbuild             /media/volume/biocgpu2/biocbuild/bbs-3.23-bioc-gpu/R/site-library 1.4.8      4.6.0
pkgconfig            /media/volume/biocgpu2/biocbuild/bbs-3.23-bioc-gpu/R/site-library 2.0.3      4.6.0
pkgdown              /media/volume/biocgpu2/biocbuild/bbs-3.23-bioc-gpu/R/site-library 2.2.0      4.6.0
pkgload              /media/volume/biocgpu2/biocbuild/bbs-3.23-bioc-gpu/R/site-library 1.4.1      4.6.0
plogr                /media/volume/biocgpu2/biocbuild/bbs-3.23-bioc-gpu/R/site-library 0.2.0      4.6.0
plyr                 /media/volume/biocgpu2/biocbuild/bbs-3.23-bioc-gpu/R/site-library 1.8.9      4.6.0
png                  /media/volume/biocgpu2/biocbuild/bbs-3.23-bioc-gpu/R/site-library 0.1-8      4.6.0
polynom              /media/volume/biocgpu2/biocbuild/bbs-3.23-bioc-gpu/R/site-library 1.4-1      4.6.0
praise               /media/volume/biocgpu2/biocbuild/bbs-3.23-bioc-gpu/R/site-library 1.0.0      4.6.0
prettyunits          /media/volume/biocgpu2/biocbuild/bbs-3.23-bioc-gpu/R/site-library 1.2.0      4.6.0
processx             /media/volume/biocgpu2/biocbuild/bbs-3.23-bioc-gpu/R/site-library 3.8.6      4.6.0
profvis              /media/volume/biocgpu2/biocbuild/bbs-3.23-bioc-gpu/R/site-library 0.4.0      4.6.0
promises             /media/volume/biocgpu2/biocbuild/bbs-3.23-bioc-gpu/R/site-library 1.5.0      4.6.0
ps                   /media/volume/biocgpu2/biocbuild/bbs-3.23-bioc-gpu/R/site-library 1.9.1      4.6.0
purrr                /media/volume/biocgpu2/biocbuild/bbs-3.23-bioc-gpu/R/site-library 1.2.0      4.6.0
quantreg             /media/volume/biocgpu2/biocbuild/bbs-3.23-bioc-gpu/R/site-library 6.1        4.6.0
R6                   /media/volume/biocgpu2/biocbuild/bbs-3.23-bioc-gpu/R/site-library 2.6.1      4.6.0
ragg                 /media/volume/biocgpu2/biocbuild/bbs-3.23-bioc-gpu/R/site-library 1.5.0      4.6.0
rappdirs             /media/volume/biocgpu2/biocbuild/bbs-3.23-bioc-gpu/R/site-library 0.3.3      4.6.0
rbibutils            /media/volume/biocgpu2/biocbuild/bbs-3.23-bioc-gpu/R/site-library 2.4        4.6.0
RbowtieCuda          /media/volume/biocgpu2/biocbuild/bbs-3.23-bioc-gpu/R/site-library 1.3.0      4.6.0
rcmdcheck            /media/volume/biocgpu2/biocbuild/bbs-3.23-bioc-gpu/R/site-library 1.4.0      4.6.0
RColorBrewer         /media/volume/biocgpu2/biocbuild/bbs-3.23-bioc-gpu/R/site-library 1.1-3      4.6.0
Rcpp                 /media/volume/biocgpu2/biocbuild/bbs-3.23-bioc-gpu/R/site-library 1.1.0      4.6.0
RcppAnnoy            /media/volume/biocgpu2/biocbuild/bbs-3.23-bioc-gpu/R/site-library 0.0.22     4.6.0
RcppEigen            /media/volume/biocgpu2/biocbuild/bbs-3.23-bioc-gpu/R/site-library 0.3.4.0.2  4.6.0
RcppML               /media/volume/biocgpu2/biocbuild/bbs-3.23-bioc-gpu/R/site-library 0.3.7      4.6.0
RcppProgress         /media/volume/biocgpu2/biocbuild/bbs-3.23-bioc-gpu/R/site-library 0.4.2      4.6.0
RcppTOML             /media/volume/biocgpu2/biocbuild/bbs-3.23-bioc-gpu/R/site-library 0.2.3      4.6.0
RCurl                /media/volume/biocgpu2/biocbuild/bbs-3.23-bioc-gpu/R/site-library 1.98-1.17  4.6.0
Rdpack               /media/volume/biocgpu2/biocbuild/bbs-3.23-bioc-gpu/R/site-library 2.6.4      4.6.0
reformulas           /media/volume/biocgpu2/biocbuild/bbs-3.23-bioc-gpu/R/site-library 0.4.2      4.6.0
remotes              /media/volume/biocgpu2/biocbuild/bbs-3.23-bioc-gpu/R/site-library 2.5.0      4.6.0
reshape2             /media/volume/biocgpu2/biocbuild/bbs-3.23-bioc-gpu/R/site-library 1.4.5      4.6.0
restfulr             /media/volume/biocgpu2/biocbuild/bbs-3.23-bioc-gpu/R/site-library 0.0.16     4.6.0
reticulate           /media/volume/biocgpu2/biocbuild/bbs-3.23-bioc-gpu/R/site-library 1.44.1     4.6.0
rhdf5                /media/volume/biocgpu2/biocbuild/bbs-3.23-bioc-gpu/R/site-library 2.55.11    4.6.0
rhdf5filters         /media/volume/biocgpu2/biocbuild/bbs-3.23-bioc-gpu/R/site-library 1.23.1     4.6.0
Rhdf5lib             /media/volume/biocgpu2/biocbuild/bbs-3.23-bioc-gpu/R/site-library 1.33.0     4.6.0
Rhtslib              /media/volume/biocgpu2/biocbuild/bbs-3.23-bioc-gpu/R/site-library 3.7.0      4.6.0
rJava                /media/volume/biocgpu2/biocbuild/bbs-3.23-bioc-gpu/R/site-library 1.0-11     4.6.0
rjson                /media/volume/biocgpu2/biocbuild/bbs-3.23-bioc-gpu/R/site-library 0.2.23     4.6.0
rlang                /media/volume/biocgpu2/biocbuild/bbs-3.23-bioc-gpu/R/site-library 1.1.6      4.6.0
rmarkdown            /media/volume/biocgpu2/biocbuild/bbs-3.23-bioc-gpu/R/site-library 2.30       4.6.0
roxygen2             /media/volume/biocgpu2/biocbuild/bbs-3.23-bioc-gpu/R/site-library 7.3.3      4.6.0
rprojroot            /media/volume/biocgpu2/biocbuild/bbs-3.23-bioc-gpu/R/site-library 2.1.1      4.6.0
Rsamtools            /media/volume/biocgpu2/biocbuild/bbs-3.23-bioc-gpu/R/site-library 2.27.0     4.6.0
RSpectra             /media/volume/biocgpu2/biocbuild/bbs-3.23-bioc-gpu/R/site-library 0.16-2     4.6.0
RSQLite              /media/volume/biocgpu2/biocbuild/bbs-3.23-bioc-gpu/R/site-library 2.4.4      4.6.0
rstatix              /media/volume/biocgpu2/biocbuild/bbs-3.23-bioc-gpu/R/site-library 0.7.3      4.6.0
rstudioapi           /media/volume/biocgpu2/biocbuild/bbs-3.23-bioc-gpu/R/site-library 0.17.1     4.6.0
rsvd                 /media/volume/biocgpu2/biocbuild/bbs-3.23-bioc-gpu/R/site-library 1.0.5      4.6.0
rtracklayer          /media/volume/biocgpu2/biocbuild/bbs-3.23-bioc-gpu/R/site-library 1.71.0     4.6.0
Rtsne                /media/volume/biocgpu2/biocbuild/bbs-3.23-bioc-gpu/R/site-library 0.17       4.6.0
RUnit                /media/volume/biocgpu2/biocbuild/bbs-3.23-bioc-gpu/R/site-library 0.4.33.1   4.6.0
rversions            /media/volume/biocgpu2/biocbuild/bbs-3.23-bioc-gpu/R/site-library 3.0.0      4.6.0
S4Arrays             /media/volume/biocgpu2/biocbuild/bbs-3.23-bioc-gpu/R/site-library 1.11.0     4.6.0
S4Vectors            /media/volume/biocgpu2/biocbuild/bbs-3.23-bioc-gpu/R/site-library 0.49.0     4.6.0
S7                   /media/volume/biocgpu2/biocbuild/bbs-3.23-bioc-gpu/R/site-library 0.2.1      4.6.0
sass                 /media/volume/biocgpu2/biocbuild/bbs-3.23-bioc-gpu/R/site-library 0.4.10     4.6.0
ScaledMatrix         /media/volume/biocgpu2/biocbuild/bbs-3.23-bioc-gpu/R/site-library 1.19.0     4.6.0
scales               /media/volume/biocgpu2/biocbuild/bbs-3.23-bioc-gpu/R/site-library 1.4.0      4.6.0
scater               /media/volume/biocgpu2/biocbuild/bbs-3.23-bioc-gpu/R/site-library 1.39.0     4.6.0
scuttle              /media/volume/biocgpu2/biocbuild/bbs-3.23-bioc-gpu/R/site-library 1.21.0     4.6.0
scviR                /media/volume/biocgpu2/biocbuild/bbs-3.23-bioc-gpu/R/site-library 1.11.0     4.6.0
Seqinfo              /media/volume/biocgpu2/biocbuild/bbs-3.23-bioc-gpu/R/site-library 1.1.0      4.6.0
sessioninfo          /media/volume/biocgpu2/biocbuild/bbs-3.23-bioc-gpu/R/site-library 1.2.3      4.6.0
shiny                /media/volume/biocgpu2/biocbuild/bbs-3.23-bioc-gpu/R/site-library 1.11.1     4.6.0
SingleCellExperiment /media/volume/biocgpu2/biocbuild/bbs-3.23-bioc-gpu/R/site-library 1.33.0     4.6.0
sitmo                /media/volume/biocgpu2/biocbuild/bbs-3.23-bioc-gpu/R/site-library 2.0.2      4.6.0
snow                 /media/volume/biocgpu2/biocbuild/bbs-3.23-bioc-gpu/R/site-library 0.4-4      4.6.0
sourcetools          /media/volume/biocgpu2/biocbuild/bbs-3.23-bioc-gpu/R/site-library 0.1.7-1    4.6.0
SparseArray          /media/volume/biocgpu2/biocbuild/bbs-3.23-bioc-gpu/R/site-library 1.11.2     4.6.0
SparseM              /media/volume/biocgpu2/biocbuild/bbs-3.23-bioc-gpu/R/site-library 1.84-2     4.6.0
statmod              /media/volume/biocgpu2/biocbuild/bbs-3.23-bioc-gpu/R/site-library 1.5.1      4.6.0
stringi              /media/volume/biocgpu2/biocbuild/bbs-3.23-bioc-gpu/R/site-library 1.8.7      4.6.0
stringr              /media/volume/biocgpu2/biocbuild/bbs-3.23-bioc-gpu/R/site-library 1.6.0      4.6.0
SummarizedExperiment /media/volume/biocgpu2/biocbuild/bbs-3.23-bioc-gpu/R/site-library 1.41.0     4.6.0
sys                  /media/volume/biocgpu2/biocbuild/bbs-3.23-bioc-gpu/R/site-library 3.4.3      4.6.0
systemfonts          /media/volume/biocgpu2/biocbuild/bbs-3.23-bioc-gpu/R/site-library 1.3.1      4.6.0
tensorflow           /media/volume/biocgpu2/biocbuild/bbs-3.23-bioc-gpu/R/site-library 2.20.0     4.6.0
testthat             /media/volume/biocgpu2/biocbuild/bbs-3.23-bioc-gpu/R/site-library 3.3.0      4.6.0
textshaping          /media/volume/biocgpu2/biocbuild/bbs-3.23-bioc-gpu/R/site-library 1.0.4      4.6.0
tfautograph          /media/volume/biocgpu2/biocbuild/bbs-3.23-bioc-gpu/R/site-library 0.3.2      4.6.0
tfruns               /media/volume/biocgpu2/biocbuild/bbs-3.23-bioc-gpu/R/site-library 1.5.4      4.6.0
tibble               /media/volume/biocgpu2/biocbuild/bbs-3.23-bioc-gpu/R/site-library 3.3.0      4.6.0
tidyr                /media/volume/biocgpu2/biocbuild/bbs-3.23-bioc-gpu/R/site-library 1.3.1      4.6.0
tidyselect           /media/volume/biocgpu2/biocbuild/bbs-3.23-bioc-gpu/R/site-library 1.2.1      4.6.0
tinytex              /media/volume/biocgpu2/biocbuild/bbs-3.23-bioc-gpu/R/site-library 0.58       4.6.0
urlchecker           /media/volume/biocgpu2/biocbuild/bbs-3.23-bioc-gpu/R/site-library 1.0.1      4.6.0
usethis              /media/volume/biocgpu2/biocbuild/bbs-3.23-bioc-gpu/R/site-library 3.2.1      4.6.0
utf8                 /media/volume/biocgpu2/biocbuild/bbs-3.23-bioc-gpu/R/site-library 1.2.6      4.6.0
uwot                 /media/volume/biocgpu2/biocbuild/bbs-3.23-bioc-gpu/R/site-library 0.2.4      4.6.0
VariantAnnotation    /media/volume/biocgpu2/biocbuild/bbs-3.23-bioc-gpu/R/site-library 1.57.0     4.6.0
vctrs                /media/volume/biocgpu2/biocbuild/bbs-3.23-bioc-gpu/R/site-library 0.6.5      4.6.0
vipor                /media/volume/biocgpu2/biocbuild/bbs-3.23-bioc-gpu/R/site-library 0.4.7      4.6.0
viridis              /media/volume/biocgpu2/biocbuild/bbs-3.23-bioc-gpu/R/site-library 0.6.5      4.6.0
viridisLite          /media/volume/biocgpu2/biocbuild/bbs-3.23-bioc-gpu/R/site-library 0.4.2      4.6.0
waldo                /media/volume/biocgpu2/biocbuild/bbs-3.23-bioc-gpu/R/site-library 0.6.2      4.6.0
whisker              /media/volume/biocgpu2/biocbuild/bbs-3.23-bioc-gpu/R/site-library 0.4.1      4.6.0
withr                /media/volume/biocgpu2/biocbuild/bbs-3.23-bioc-gpu/R/site-library 3.0.2      4.6.0
xfun                 /media/volume/biocgpu2/biocbuild/bbs-3.23-bioc-gpu/R/site-library 0.54       4.6.0
XML                  /media/volume/biocgpu2/biocbuild/bbs-3.23-bioc-gpu/R/site-library 3.99-0.20  4.6.0
xml2                 /media/volume/biocgpu2/biocbuild/bbs-3.23-bioc-gpu/R/site-library 1.5.0      4.6.0
xopen                /media/volume/biocgpu2/biocbuild/bbs-3.23-bioc-gpu/R/site-library 1.0.1      4.6.0
xtable               /media/volume/biocgpu2/biocbuild/bbs-3.23-bioc-gpu/R/site-library 1.8-4      4.6.0
XVector              /media/volume/biocgpu2/biocbuild/bbs-3.23-bioc-gpu/R/site-library 0.51.0     4.6.0
yaml                 /media/volume/biocgpu2/biocbuild/bbs-3.23-bioc-gpu/R/site-library 2.3.10     4.6.0
zeallot              /media/volume/biocgpu2/biocbuild/bbs-3.23-bioc-gpu/R/site-library 0.2.0      4.6.0
zip                  /media/volume/biocgpu2/biocbuild/bbs-3.23-bioc-gpu/R/site-library 2.3.3      4.6.0
base                 /media/volume/biocgpu2/biocbuild/bbs-3.23-bioc-gpu/R/library      4.6.0      4.6.0
boot                 /media/volume/biocgpu2/biocbuild/bbs-3.23-bioc-gpu/R/library      1.3-32     4.6.0
class                /media/volume/biocgpu2/biocbuild/bbs-3.23-bioc-gpu/R/library      7.3-23     4.6.0
cluster              /media/volume/biocgpu2/biocbuild/bbs-3.23-bioc-gpu/R/library      2.1.8.1    4.6.0
codetools            /media/volume/biocgpu2/biocbuild/bbs-3.23-bioc-gpu/R/library      0.2-20     4.6.0
compiler             /media/volume/biocgpu2/biocbuild/bbs-3.23-bioc-gpu/R/library      4.6.0      4.6.0
datasets             /media/volume/biocgpu2/biocbuild/bbs-3.23-bioc-gpu/R/library      4.6.0      4.6.0
foreign              /media/volume/biocgpu2/biocbuild/bbs-3.23-bioc-gpu/R/library      0.8-90     4.6.0
graphics             /media/volume/biocgpu2/biocbuild/bbs-3.23-bioc-gpu/R/library      4.6.0      4.6.0
grDevices            /media/volume/biocgpu2/biocbuild/bbs-3.23-bioc-gpu/R/library      4.6.0      4.6.0
grid                 /media/volume/biocgpu2/biocbuild/bbs-3.23-bioc-gpu/R/library      4.6.0      4.6.0
KernSmooth           /media/volume/biocgpu2/biocbuild/bbs-3.23-bioc-gpu/R/library      2.23-26    4.6.0
lattice              /media/volume/biocgpu2/biocbuild/bbs-3.23-bioc-gpu/R/library      0.22-7     4.6.0
MASS                 /media/volume/biocgpu2/biocbuild/bbs-3.23-bioc-gpu/R/library      7.3-65     4.6.0
Matrix               /media/volume/biocgpu2/biocbuild/bbs-3.23-bioc-gpu/R/library      1.7-4      4.6.0
methods              /media/volume/biocgpu2/biocbuild/bbs-3.23-bioc-gpu/R/library      4.6.0      4.6.0
mgcv                 /media/volume/biocgpu2/biocbuild/bbs-3.23-bioc-gpu/R/library      1.9-4      4.6.0
nlme                 /media/volume/biocgpu2/biocbuild/bbs-3.23-bioc-gpu/R/library      3.1-168    4.6.0
nnet                 /media/volume/biocgpu2/biocbuild/bbs-3.23-bioc-gpu/R/library      7.3-20     4.6.0
parallel             /media/volume/biocgpu2/biocbuild/bbs-3.23-bioc-gpu/R/library      4.6.0      4.6.0
rpart                /media/volume/biocgpu2/biocbuild/bbs-3.23-bioc-gpu/R/library      4.1.24     4.6.0
spatial              /media/volume/biocgpu2/biocbuild/bbs-3.23-bioc-gpu/R/library      7.3-18     4.6.0
splines              /media/volume/biocgpu2/biocbuild/bbs-3.23-bioc-gpu/R/library      4.6.0      4.6.0
stats                /media/volume/biocgpu2/biocbuild/bbs-3.23-bioc-gpu/R/library      4.6.0      4.6.0
stats4               /media/volume/biocgpu2/biocbuild/bbs-3.23-bioc-gpu/R/library      4.6.0      4.6.0
survival             /media/volume/biocgpu2/biocbuild/bbs-3.23-bioc-gpu/R/library      3.8-3      4.6.0
tcltk                /media/volume/biocgpu2/biocbuild/bbs-3.23-bioc-gpu/R/library      4.6.0      4.6.0
tools                /media/volume/biocgpu2/biocbuild/bbs-3.23-bioc-gpu/R/library      4.6.0      4.6.0
utils                /media/volume/biocgpu2/biocbuild/bbs-3.23-bioc-gpu/R/library      4.6.0      4.6.0