Back to --- experimental! ---
GPU-enabled build/check report for BioC 3.23
Report updated every 6 hours

This page was generated on 2025-11-20 13:45 -0500 (Thu, 20 Nov 2025).

R packages installed on kakapo1


                     LibPath                                      Version    Built
AnnotationDbi        /home/biocbuild/bbs-3.23-bioc/R/site-library 1.73.0     4.6.0
AnnotationHub        /home/biocbuild/bbs-3.23-bioc/R/site-library 4.1.0      4.6.0
BH                   /home/biocbuild/bbs-3.23-bioc/R/site-library 1.87.0-1   4.6.0
Biobase              /home/biocbuild/bbs-3.23-bioc/R/site-library 2.71.0     4.6.0
BiocBaseUtils        /home/biocbuild/bbs-3.23-bioc/R/site-library 1.13.0     4.6.0
BiocFileCache        /home/biocbuild/bbs-3.23-bioc/R/site-library 3.1.0      4.6.0
BiocGenerics         /home/biocbuild/bbs-3.23-bioc/R/site-library 0.57.0     4.6.0
BiocManager          /home/biocbuild/bbs-3.23-bioc/R/site-library 1.30.27    4.6.0
BiocNeighbors        /home/biocbuild/bbs-3.23-bioc/R/site-library 2.5.0      4.6.0
BiocParallel         /home/biocbuild/bbs-3.23-bioc/R/site-library 1.45.0     4.6.0
BiocSingular         /home/biocbuild/bbs-3.23-bioc/R/site-library 1.27.1     4.6.0
BiocStyle            /home/biocbuild/bbs-3.23-bioc/R/site-library 2.39.0     4.6.0
BiocVersion          /home/biocbuild/bbs-3.23-bioc/R/site-library 3.23.1     4.6.0
Biostrings           /home/biocbuild/bbs-3.23-bioc/R/site-library 2.79.2     4.6.0
Cairo                /home/biocbuild/bbs-3.23-bioc/R/site-library 1.7-0      4.6.0
DBI                  /home/biocbuild/bbs-3.23-bioc/R/site-library 1.2.3      4.6.0
DelayedArray         /home/biocbuild/bbs-3.23-bioc/R/site-library 0.37.0     4.6.0
Deriv                /home/biocbuild/bbs-3.23-bioc/R/site-library 4.2.0      4.6.0
ExperimentHub        /home/biocbuild/bbs-3.23-bioc/R/site-library 3.1.0      4.6.0
FNN                  /home/biocbuild/bbs-3.23-bioc/R/site-library 1.1.4.1    4.6.0
Formula              /home/biocbuild/bbs-3.23-bioc/R/site-library 1.2-5      4.6.0
GenomicRanges        /home/biocbuild/bbs-3.23-bioc/R/site-library 1.63.0     4.6.0
HDF5Array            /home/biocbuild/bbs-3.23-bioc/R/site-library 1.39.0     4.6.0
IRanges              /home/biocbuild/bbs-3.23-bioc/R/site-library 2.45.0     4.6.0
KEGGREST             /home/biocbuild/bbs-3.23-bioc/R/site-library 1.51.1     4.6.0
MatrixGenerics       /home/biocbuild/bbs-3.23-bioc/R/site-library 1.23.0     4.6.0
MatrixModels         /home/biocbuild/bbs-3.23-bioc/R/site-library 0.5-4      4.6.0
R6                   /home/biocbuild/bbs-3.23-bioc/R/site-library 2.6.1      4.6.0
RColorBrewer         /home/biocbuild/bbs-3.23-bioc/R/site-library 1.1-3      4.6.0
RSQLite              /home/biocbuild/bbs-3.23-bioc/R/site-library 2.4.4      4.6.0
RSpectra             /home/biocbuild/bbs-3.23-bioc/R/site-library 0.16-2     4.6.0
RUnit                /home/biocbuild/bbs-3.23-bioc/R/site-library 0.4.33.1   4.6.0
RbowtieCuda          /home/biocbuild/bbs-3.23-bioc/R/site-library 1.3.0      4.6.0
Rcpp                 /home/biocbuild/bbs-3.23-bioc/R/site-library 1.1.0      4.6.0
RcppAnnoy            /home/biocbuild/bbs-3.23-bioc/R/site-library 0.0.22     4.6.0
RcppEigen            /home/biocbuild/bbs-3.23-bioc/R/site-library 0.3.4.0.2  4.6.0
RcppML               /home/biocbuild/bbs-3.23-bioc/R/site-library 0.3.7      4.6.0
RcppProgress         /home/biocbuild/bbs-3.23-bioc/R/site-library 0.4.2      4.6.0
RcppTOML             /home/biocbuild/bbs-3.23-bioc/R/site-library 0.2.3      4.6.0
Rdpack               /home/biocbuild/bbs-3.23-bioc/R/site-library 2.6.4      4.6.0
Rhdf5lib             /home/biocbuild/bbs-3.23-bioc/R/site-library 1.33.0     4.6.0
Rtsne                /home/biocbuild/bbs-3.23-bioc/R/site-library 0.17       4.6.0
S4Arrays             /home/biocbuild/bbs-3.23-bioc/R/site-library 1.11.0     4.6.0
S4Vectors            /home/biocbuild/bbs-3.23-bioc/R/site-library 0.49.0     4.6.0
S7                   /home/biocbuild/bbs-3.23-bioc/R/site-library 0.2.1      4.6.0
ScaledMatrix         /home/biocbuild/bbs-3.23-bioc/R/site-library 1.19.0     4.6.0
Seqinfo              /home/biocbuild/bbs-3.23-bioc/R/site-library 1.1.0      4.6.0
SingleCellExperiment /home/biocbuild/bbs-3.23-bioc/R/site-library 1.33.0     4.6.0
SparseArray          /home/biocbuild/bbs-3.23-bioc/R/site-library 1.11.2     4.6.0
SparseM              /home/biocbuild/bbs-3.23-bioc/R/site-library 1.84-2     4.6.0
SummarizedExperiment /home/biocbuild/bbs-3.23-bioc/R/site-library 1.41.0     4.6.0
XVector              /home/biocbuild/bbs-3.23-bioc/R/site-library 0.51.0     4.6.0
abind                /home/biocbuild/bbs-3.23-bioc/R/site-library 1.4-8      4.6.0
askpass              /home/biocbuild/bbs-3.23-bioc/R/site-library 1.2.1      4.6.0
assorthead           /home/biocbuild/bbs-3.23-bioc/R/site-library 1.5.2      4.6.0
backports            /home/biocbuild/bbs-3.23-bioc/R/site-library 1.5.0      4.6.0
base64enc            /home/biocbuild/bbs-3.23-bioc/R/site-library 0.1-3      4.6.0
basilisk             /home/biocbuild/bbs-3.23-bioc/R/site-library 1.23.0     4.6.0
beachmat             /home/biocbuild/bbs-3.23-bioc/R/site-library 2.27.0     4.6.0
beeswarm             /home/biocbuild/bbs-3.23-bioc/R/site-library 0.4.0      4.6.0
bit                  /home/biocbuild/bbs-3.23-bioc/R/site-library 4.6.0      4.6.0
bit64                /home/biocbuild/bbs-3.23-bioc/R/site-library 4.6.0-1    4.6.0
blob                 /home/biocbuild/bbs-3.23-bioc/R/site-library 1.2.4      4.6.0
bookdown             /home/biocbuild/bbs-3.23-bioc/R/site-library 0.45       4.6.0
brew                 /home/biocbuild/bbs-3.23-bioc/R/site-library 1.0-10     4.6.0
brio                 /home/biocbuild/bbs-3.23-bioc/R/site-library 1.1.5      4.6.0
broom                /home/biocbuild/bbs-3.23-bioc/R/site-library 1.0.10     4.6.0
bslib                /home/biocbuild/bbs-3.23-bioc/R/site-library 0.9.0      4.6.0
cachem               /home/biocbuild/bbs-3.23-bioc/R/site-library 1.1.0      4.6.0
callr                /home/biocbuild/bbs-3.23-bioc/R/site-library 3.7.6      4.6.0
car                  /home/biocbuild/bbs-3.23-bioc/R/site-library 3.1-3      4.6.0
carData              /home/biocbuild/bbs-3.23-bioc/R/site-library 3.0-5      4.6.0
cli                  /home/biocbuild/bbs-3.23-bioc/R/site-library 3.6.5      4.6.0
clipr                /home/biocbuild/bbs-3.23-bioc/R/site-library 0.8.0      4.6.0
colorspace           /home/biocbuild/bbs-3.23-bioc/R/site-library 2.1-2      4.6.0
commonmark           /home/biocbuild/bbs-3.23-bioc/R/site-library 2.0.0      4.6.0
config               /home/biocbuild/bbs-3.23-bioc/R/site-library 0.3.2      4.6.0
corrplot             /home/biocbuild/bbs-3.23-bioc/R/site-library 0.95       4.6.0
cowplot              /home/biocbuild/bbs-3.23-bioc/R/site-library 1.2.0      4.6.0
cpp11                /home/biocbuild/bbs-3.23-bioc/R/site-library 0.5.2      4.6.0
crayon               /home/biocbuild/bbs-3.23-bioc/R/site-library 1.5.3      4.6.0
credentials          /home/biocbuild/bbs-3.23-bioc/R/site-library 2.0.3      4.6.0
curl                 /home/biocbuild/bbs-3.23-bioc/R/site-library 7.0.0      4.6.0
dbplyr               /home/biocbuild/bbs-3.23-bioc/R/site-library 2.5.1      4.6.0
desc                 /home/biocbuild/bbs-3.23-bioc/R/site-library 1.4.3      4.6.0
devtools             /home/biocbuild/bbs-3.23-bioc/R/site-library 2.4.6      4.6.0
diffobj              /home/biocbuild/bbs-3.23-bioc/R/site-library 0.3.6      4.6.0
digest               /home/biocbuild/bbs-3.23-bioc/R/site-library 0.6.39     4.6.0
dir.expiry           /home/biocbuild/bbs-3.23-bioc/R/site-library 1.19.0     4.6.0
doBy                 /home/biocbuild/bbs-3.23-bioc/R/site-library 4.7.0      4.6.0
downlit              /home/biocbuild/bbs-3.23-bioc/R/site-library 0.4.5      4.6.0
dplyr                /home/biocbuild/bbs-3.23-bioc/R/site-library 1.1.4      4.6.0
dqrng                /home/biocbuild/bbs-3.23-bioc/R/site-library 0.4.1      4.6.0
ellipsis             /home/biocbuild/bbs-3.23-bioc/R/site-library 0.3.2      4.6.0
evaluate             /home/biocbuild/bbs-3.23-bioc/R/site-library 1.0.5      4.6.0
fansi                /home/biocbuild/bbs-3.23-bioc/R/site-library 1.0.7      4.6.0
farver               /home/biocbuild/bbs-3.23-bioc/R/site-library 2.1.2      4.6.0
fastmap              /home/biocbuild/bbs-3.23-bioc/R/site-library 1.2.0      4.6.0
filelock             /home/biocbuild/bbs-3.23-bioc/R/site-library 1.0.3      4.6.0
fontawesome          /home/biocbuild/bbs-3.23-bioc/R/site-library 0.5.3      4.6.0
formatR              /home/biocbuild/bbs-3.23-bioc/R/site-library 1.14       4.6.0
fs                   /home/biocbuild/bbs-3.23-bioc/R/site-library 1.6.6      4.6.0
futile.logger        /home/biocbuild/bbs-3.23-bioc/R/site-library 1.4.3      4.6.0
futile.options       /home/biocbuild/bbs-3.23-bioc/R/site-library 1.0.1      4.6.0
generics             /home/biocbuild/bbs-3.23-bioc/R/site-library 0.1.4      4.6.0
gert                 /home/biocbuild/bbs-3.23-bioc/R/site-library 2.2.0      4.6.0
ggbeeswarm           /home/biocbuild/bbs-3.23-bioc/R/site-library 0.7.2      4.6.0
ggplot2              /home/biocbuild/bbs-3.23-bioc/R/site-library 4.0.1      4.6.0
ggpubr               /home/biocbuild/bbs-3.23-bioc/R/site-library 0.6.2      4.6.0
ggrastr              /home/biocbuild/bbs-3.23-bioc/R/site-library 1.0.2      4.6.0
ggrepel              /home/biocbuild/bbs-3.23-bioc/R/site-library 0.9.6      4.6.0
ggsci                /home/biocbuild/bbs-3.23-bioc/R/site-library 4.1.0      4.6.0
ggsignif             /home/biocbuild/bbs-3.23-bioc/R/site-library 0.6.4      4.6.0
gh                   /home/biocbuild/bbs-3.23-bioc/R/site-library 1.5.0      4.6.0
gitcreds             /home/biocbuild/bbs-3.23-bioc/R/site-library 0.1.2      4.6.0
glue                 /home/biocbuild/bbs-3.23-bioc/R/site-library 1.8.0      4.6.0
gridExtra            /home/biocbuild/bbs-3.23-bioc/R/site-library 2.3        4.6.0
gtable               /home/biocbuild/bbs-3.23-bioc/R/site-library 0.3.6      4.6.0
h5mread              /home/biocbuild/bbs-3.23-bioc/R/site-library 1.3.0      4.6.0
here                 /home/biocbuild/bbs-3.23-bioc/R/site-library 1.0.2      4.6.0
highr                /home/biocbuild/bbs-3.23-bioc/R/site-library 0.11       4.6.0
htmltools            /home/biocbuild/bbs-3.23-bioc/R/site-library 0.5.8.1    4.6.0
htmlwidgets          /home/biocbuild/bbs-3.23-bioc/R/site-library 1.6.4      4.6.0
httpuv               /home/biocbuild/bbs-3.23-bioc/R/site-library 1.6.16     4.6.0
httr                 /home/biocbuild/bbs-3.23-bioc/R/site-library 1.4.7      4.6.0
httr2                /home/biocbuild/bbs-3.23-bioc/R/site-library 1.2.1      4.6.0
ini                  /home/biocbuild/bbs-3.23-bioc/R/site-library 0.3.1      4.6.0
irlba                /home/biocbuild/bbs-3.23-bioc/R/site-library 2.3.5.1    4.6.0
isoband              /home/biocbuild/bbs-3.23-bioc/R/site-library 0.2.7      4.6.0
jquerylib            /home/biocbuild/bbs-3.23-bioc/R/site-library 0.1.4      4.6.0
jsonlite             /home/biocbuild/bbs-3.23-bioc/R/site-library 2.0.0      4.6.0
keras                /home/biocbuild/bbs-3.23-bioc/R/site-library 2.16.0     4.6.0
knitr                /home/biocbuild/bbs-3.23-bioc/R/site-library 1.50       4.6.0
labeling             /home/biocbuild/bbs-3.23-bioc/R/site-library 0.4.3      4.6.0
lambda.r             /home/biocbuild/bbs-3.23-bioc/R/site-library 1.2.4      4.6.0
later                /home/biocbuild/bbs-3.23-bioc/R/site-library 1.4.4      4.6.0
lifecycle            /home/biocbuild/bbs-3.23-bioc/R/site-library 1.0.4      4.6.0
limma                /home/biocbuild/bbs-3.23-bioc/R/site-library 3.67.0     4.6.0
lme4                 /home/biocbuild/bbs-3.23-bioc/R/site-library 1.1-37     4.6.0
magrittr             /home/biocbuild/bbs-3.23-bioc/R/site-library 2.0.4      4.6.0
matrixStats          /home/biocbuild/bbs-3.23-bioc/R/site-library 1.5.0      4.6.0
memoise              /home/biocbuild/bbs-3.23-bioc/R/site-library 2.0.1      4.6.0
microbenchmark       /home/biocbuild/bbs-3.23-bioc/R/site-library 1.5.0      4.6.0
mime                 /home/biocbuild/bbs-3.23-bioc/R/site-library 0.13       4.6.0
miniUI               /home/biocbuild/bbs-3.23-bioc/R/site-library 0.1.2      4.6.0
minqa                /home/biocbuild/bbs-3.23-bioc/R/site-library 1.2.8      4.6.0
modelr               /home/biocbuild/bbs-3.23-bioc/R/site-library 0.1.11     4.6.0
nloptr               /home/biocbuild/bbs-3.23-bioc/R/site-library 2.2.1      4.6.0
numDeriv             /home/biocbuild/bbs-3.23-bioc/R/site-library 2016.8-1.1 4.6.0
openssl              /home/biocbuild/bbs-3.23-bioc/R/site-library 2.3.4      4.6.0
orthos               /home/biocbuild/bbs-3.23-bioc/R/site-library 1.9.0      4.6.0
orthosData           /home/biocbuild/bbs-3.23-bioc/R/site-library 1.9.0      4.6.0
otel                 /home/biocbuild/bbs-3.23-bioc/R/site-library 0.2.0      4.6.0
pbkrtest             /home/biocbuild/bbs-3.23-bioc/R/site-library 0.5.5      4.6.0
pheatmap             /home/biocbuild/bbs-3.23-bioc/R/site-library 1.0.13     4.6.0
pillar               /home/biocbuild/bbs-3.23-bioc/R/site-library 1.11.1     4.6.0
pkgbuild             /home/biocbuild/bbs-3.23-bioc/R/site-library 1.4.8      4.6.0
pkgconfig            /home/biocbuild/bbs-3.23-bioc/R/site-library 2.0.3      4.6.0
pkgdown              /home/biocbuild/bbs-3.23-bioc/R/site-library 2.2.0      4.6.0
pkgload              /home/biocbuild/bbs-3.23-bioc/R/site-library 1.4.1      4.6.0
plogr                /home/biocbuild/bbs-3.23-bioc/R/site-library 0.2.0      4.6.0
plyr                 /home/biocbuild/bbs-3.23-bioc/R/site-library 1.8.9      4.6.0
png                  /home/biocbuild/bbs-3.23-bioc/R/site-library 0.1-8      4.6.0
polynom              /home/biocbuild/bbs-3.23-bioc/R/site-library 1.4-1      4.6.0
praise               /home/biocbuild/bbs-3.23-bioc/R/site-library 1.0.0      4.6.0
prettyunits          /home/biocbuild/bbs-3.23-bioc/R/site-library 1.2.0      4.6.0
processx             /home/biocbuild/bbs-3.23-bioc/R/site-library 3.8.6      4.6.0
profvis              /home/biocbuild/bbs-3.23-bioc/R/site-library 0.4.0      4.6.0
promises             /home/biocbuild/bbs-3.23-bioc/R/site-library 1.5.0      4.6.0
ps                   /home/biocbuild/bbs-3.23-bioc/R/site-library 1.9.1      4.6.0
purrr                /home/biocbuild/bbs-3.23-bioc/R/site-library 1.2.0      4.6.0
quantreg             /home/biocbuild/bbs-3.23-bioc/R/site-library 6.1        4.6.0
quarto               /home/biocbuild/bbs-3.23-bioc/R/site-library 1.5.1      4.6.0
rJava                /home/biocbuild/bbs-3.23-bioc/R/site-library 1.0-11     4.6.0
ragg                 /home/biocbuild/bbs-3.23-bioc/R/site-library 1.5.0      4.6.0
rappdirs             /home/biocbuild/bbs-3.23-bioc/R/site-library 0.3.3      4.6.0
rbibutils            /home/biocbuild/bbs-3.23-bioc/R/site-library 2.4        4.6.0
rcmdcheck            /home/biocbuild/bbs-3.23-bioc/R/site-library 1.4.0      4.6.0
reformulas           /home/biocbuild/bbs-3.23-bioc/R/site-library 0.4.2      4.6.0
remotes              /home/biocbuild/bbs-3.23-bioc/R/site-library 2.5.0      4.6.0
reshape2             /home/biocbuild/bbs-3.23-bioc/R/site-library 1.4.5      4.6.0
reticulate           /home/biocbuild/bbs-3.23-bioc/R/site-library 1.44.1     4.6.0
rhdf5                /home/biocbuild/bbs-3.23-bioc/R/site-library 2.55.11    4.6.0
rhdf5filters         /home/biocbuild/bbs-3.23-bioc/R/site-library 1.23.1     4.6.0
rlang                /home/biocbuild/bbs-3.23-bioc/R/site-library 1.1.6      4.6.0
rmarkdown            /home/biocbuild/bbs-3.23-bioc/R/site-library 2.30       4.6.0
roxygen2             /home/biocbuild/bbs-3.23-bioc/R/site-library 7.3.3      4.6.0
rprojroot            /home/biocbuild/bbs-3.23-bioc/R/site-library 2.1.1      4.6.0
rstatix              /home/biocbuild/bbs-3.23-bioc/R/site-library 0.7.3      4.6.0
rstudioapi           /home/biocbuild/bbs-3.23-bioc/R/site-library 0.17.1     4.6.0
rsvd                 /home/biocbuild/bbs-3.23-bioc/R/site-library 1.0.5      4.6.0
rversions            /home/biocbuild/bbs-3.23-bioc/R/site-library 3.0.0      4.6.0
sass                 /home/biocbuild/bbs-3.23-bioc/R/site-library 0.4.10     4.6.0
scales               /home/biocbuild/bbs-3.23-bioc/R/site-library 1.4.0      4.6.0
scater               /home/biocbuild/bbs-3.23-bioc/R/site-library 1.39.0     4.6.0
scuttle              /home/biocbuild/bbs-3.23-bioc/R/site-library 1.21.0     4.6.0
scviR                /home/biocbuild/bbs-3.23-bioc/R/site-library 1.11.0     4.6.0
sessioninfo          /home/biocbuild/bbs-3.23-bioc/R/site-library 1.2.3      4.6.0
shiny                /home/biocbuild/bbs-3.23-bioc/R/site-library 1.11.1     4.6.0
sitmo                /home/biocbuild/bbs-3.23-bioc/R/site-library 2.0.2      4.6.0
snow                 /home/biocbuild/bbs-3.23-bioc/R/site-library 0.4-4      4.6.0
sourcetools          /home/biocbuild/bbs-3.23-bioc/R/site-library 0.1.7-1    4.6.0
statmod              /home/biocbuild/bbs-3.23-bioc/R/site-library 1.5.1      4.6.0
stringi              /home/biocbuild/bbs-3.23-bioc/R/site-library 1.8.7      4.6.0
stringr              /home/biocbuild/bbs-3.23-bioc/R/site-library 1.6.0      4.6.0
sys                  /home/biocbuild/bbs-3.23-bioc/R/site-library 3.4.3      4.6.0
systemfonts          /home/biocbuild/bbs-3.23-bioc/R/site-library 1.3.1      4.6.0
tensorflow           /home/biocbuild/bbs-3.23-bioc/R/site-library 2.20.0     4.6.0
testthat             /home/biocbuild/bbs-3.23-bioc/R/site-library 3.3.0      4.6.0
textshaping          /home/biocbuild/bbs-3.23-bioc/R/site-library 1.0.4      4.6.0
tfautograph          /home/biocbuild/bbs-3.23-bioc/R/site-library 0.3.2      4.6.0
tfruns               /home/biocbuild/bbs-3.23-bioc/R/site-library 1.5.4      4.6.0
tibble               /home/biocbuild/bbs-3.23-bioc/R/site-library 3.3.0      4.6.0
tidyr                /home/biocbuild/bbs-3.23-bioc/R/site-library 1.3.1      4.6.0
tidyselect           /home/biocbuild/bbs-3.23-bioc/R/site-library 1.2.1      4.6.0
tinytex              /home/biocbuild/bbs-3.23-bioc/R/site-library 0.58       4.6.0
urlchecker           /home/biocbuild/bbs-3.23-bioc/R/site-library 1.0.1      4.6.0
usethis              /home/biocbuild/bbs-3.23-bioc/R/site-library 3.2.1      4.6.0
utf8                 /home/biocbuild/bbs-3.23-bioc/R/site-library 1.2.6      4.6.0
uwot                 /home/biocbuild/bbs-3.23-bioc/R/site-library 0.2.4      4.6.0
vctrs                /home/biocbuild/bbs-3.23-bioc/R/site-library 0.6.5      4.6.0
vipor                /home/biocbuild/bbs-3.23-bioc/R/site-library 0.4.7      4.6.0
viridis              /home/biocbuild/bbs-3.23-bioc/R/site-library 0.6.5      4.6.0
viridisLite          /home/biocbuild/bbs-3.23-bioc/R/site-library 0.4.2      4.6.0
waldo                /home/biocbuild/bbs-3.23-bioc/R/site-library 0.6.2      4.6.0
whisker              /home/biocbuild/bbs-3.23-bioc/R/site-library 0.4.1      4.6.0
withr                /home/biocbuild/bbs-3.23-bioc/R/site-library 3.0.2      4.6.0
xfun                 /home/biocbuild/bbs-3.23-bioc/R/site-library 0.54       4.6.0
xml2                 /home/biocbuild/bbs-3.23-bioc/R/site-library 1.5.0      4.6.0
xopen                /home/biocbuild/bbs-3.23-bioc/R/site-library 1.0.1      4.6.0
xtable               /home/biocbuild/bbs-3.23-bioc/R/site-library 1.8-4      4.6.0
yaml                 /home/biocbuild/bbs-3.23-bioc/R/site-library 2.3.10     4.6.0
zeallot              /home/biocbuild/bbs-3.23-bioc/R/site-library 0.2.0      4.6.0
zip                  /home/biocbuild/bbs-3.23-bioc/R/site-library 2.3.3      4.6.0
KernSmooth           /home/biocbuild/bbs-3.23-bioc/R/library      2.23-26    4.6.0
MASS                 /home/biocbuild/bbs-3.23-bioc/R/library      7.3-65     4.6.0
Matrix               /home/biocbuild/bbs-3.23-bioc/R/library      1.7-4      4.6.0
base                 /home/biocbuild/bbs-3.23-bioc/R/library      4.6.0      4.6.0
boot                 /home/biocbuild/bbs-3.23-bioc/R/library      1.3-32     4.6.0
class                /home/biocbuild/bbs-3.23-bioc/R/library      7.3-23     4.6.0
cluster              /home/biocbuild/bbs-3.23-bioc/R/library      2.1.8.1    4.6.0
codetools            /home/biocbuild/bbs-3.23-bioc/R/library      0.2-20     4.6.0
compiler             /home/biocbuild/bbs-3.23-bioc/R/library      4.6.0      4.6.0
datasets             /home/biocbuild/bbs-3.23-bioc/R/library      4.6.0      4.6.0
foreign              /home/biocbuild/bbs-3.23-bioc/R/library      0.8-90     4.6.0
grDevices            /home/biocbuild/bbs-3.23-bioc/R/library      4.6.0      4.6.0
graphics             /home/biocbuild/bbs-3.23-bioc/R/library      4.6.0      4.6.0
grid                 /home/biocbuild/bbs-3.23-bioc/R/library      4.6.0      4.6.0
lattice              /home/biocbuild/bbs-3.23-bioc/R/library      0.22-7     4.6.0
methods              /home/biocbuild/bbs-3.23-bioc/R/library      4.6.0      4.6.0
mgcv                 /home/biocbuild/bbs-3.23-bioc/R/library      1.9-4      4.6.0
nlme                 /home/biocbuild/bbs-3.23-bioc/R/library      3.1-168    4.6.0
nnet                 /home/biocbuild/bbs-3.23-bioc/R/library      7.3-20     4.6.0
parallel             /home/biocbuild/bbs-3.23-bioc/R/library      4.6.0      4.6.0
rpart                /home/biocbuild/bbs-3.23-bioc/R/library      4.1.24     4.6.0
spatial              /home/biocbuild/bbs-3.23-bioc/R/library      7.3-18     4.6.0
splines              /home/biocbuild/bbs-3.23-bioc/R/library      4.6.0      4.6.0
stats                /home/biocbuild/bbs-3.23-bioc/R/library      4.6.0      4.6.0
stats4               /home/biocbuild/bbs-3.23-bioc/R/library      4.6.0      4.6.0
survival             /home/biocbuild/bbs-3.23-bioc/R/library      3.8-3      4.6.0
tcltk                /home/biocbuild/bbs-3.23-bioc/R/library      4.6.0      4.6.0
tools                /home/biocbuild/bbs-3.23-bioc/R/library      4.6.0      4.6.0
utils                /home/biocbuild/bbs-3.23-bioc/R/library      4.6.0      4.6.0