Back to Multiple platform build/check report for BioC 3.22:   simplified   long
ABCDEFGHIJKLMNOPQR[S]TUVWXYZ

This page was generated on 2025-10-13 12:07 -0400 (Mon, 13 Oct 2025).

HostnameOSArch (*)R versionInstalled pkgs
nebbiolo2Linux (Ubuntu 24.04.3 LTS)x86_644.5.1 Patched (2025-08-23 r88802) -- "Great Square Root" 4864
lconwaymacOS 12.7.1 Montereyx86_644.5.1 Patched (2025-09-10 r88807) -- "Great Square Root" 4652
kjohnson3macOS 13.7.7 Venturaarm644.5.1 Patched (2025-09-10 r88807) -- "Great Square Root" 4597
taishanLinux (openEuler 24.03 LTS)aarch644.5.0 (2025-04-11) -- "How About a Twenty-Six" 4586
Click on any hostname to see more info about the system (e.g. compilers)      (*) as reported by 'uname -p', except on Windows and Mac OS X

Package 1979/2346HostnameOS / ArchINSTALLBUILDCHECKBUILD BIN
sesame 1.27.1  (landing page)
Wanding Zhou
Snapshot Date: 2025-10-12 13:45 -0400 (Sun, 12 Oct 2025)
git_url: https://git.bioconductor.org/packages/sesame
git_branch: devel
git_last_commit: e90f911
git_last_commit_date: 2025-06-21 02:29:58 -0400 (Sat, 21 Jun 2025)
nebbiolo2Linux (Ubuntu 24.04.3 LTS) / x86_64  OK    OK    OK  UNNEEDED, same version is already published
lconwaymacOS 12.7.1 Monterey / x86_64  OK    OK    OK    OK  UNNEEDED, same version is already published
kjohnson3macOS 13.7.7 Ventura / arm64  OK    OK    OK    OK  UNNEEDED, same version is already published
taishanLinux (openEuler 24.03 LTS) / aarch64  OK    OK    OK  


CHECK results for sesame on taishan

To the developers/maintainers of the sesame package:
- Allow up to 24 hours (and sometimes 48 hours) for your latest push to git@git.bioconductor.org:packages/sesame.git to reflect on this report. See Troubleshooting Build Report for more information.
- Use the following Renviron settings to reproduce errors and warnings.
- If 'R CMD check' started to fail recently on the Linux builder(s) over a missing dependency, add the missing dependency to 'Suggests:' in your DESCRIPTION file. See Renviron.bioc for more information.
- See Martin Grigorov's blog post for how to debug Linux ARM64 related issues on a x86_64 host.

raw results


Summary

Package: sesame
Version: 1.27.1
Command: /home/biocbuild/R/R/bin/R CMD check --install=check:sesame.install-out.txt --library=/home/biocbuild/R/R/site-library --no-vignettes --timings sesame_1.27.1.tar.gz
StartedAt: 2025-10-10 13:33:00 -0000 (Fri, 10 Oct 2025)
EndedAt: 2025-10-10 13:50:51 -0000 (Fri, 10 Oct 2025)
EllapsedTime: 1071.3 seconds
RetCode: 0
Status:   OK  
CheckDir: sesame.Rcheck
Warnings: 0

Command output

##############################################################################
##############################################################################
###
### Running command:
###
###   /home/biocbuild/R/R/bin/R CMD check --install=check:sesame.install-out.txt --library=/home/biocbuild/R/R/site-library --no-vignettes --timings sesame_1.27.1.tar.gz
###
##############################################################################
##############################################################################


* using log directory ‘/home/biocbuild/bbs-3.22-bioc/meat/sesame.Rcheck’
* using R version 4.5.0 (2025-04-11)
* using platform: aarch64-unknown-linux-gnu
* R was compiled by
    aarch64-unknown-linux-gnu-gcc (GCC) 14.2.0
    GNU Fortran (GCC) 14.2.0
* running under: openEuler 24.03 (LTS)
* using session charset: UTF-8
* using option ‘--no-vignettes’
* checking for file ‘sesame/DESCRIPTION’ ... OK
* checking extension type ... Package
* this is package ‘sesame’ version ‘1.27.1’
* package encoding: UTF-8
* checking package namespace information ... OK
* checking package dependencies ... OK
* checking if this is a source package ... OK
* checking if there is a namespace ... OK
* checking for hidden files and directories ... OK
* checking for portable file names ... OK
* checking for sufficient/correct file permissions ... OK
* checking whether package ‘sesame’ can be installed ... OK
* checking installed package size ... OK
* checking package directory ... OK
* checking ‘build’ directory ... OK
* checking DESCRIPTION meta-information ... OK
* checking top-level files ... OK
* checking for left-over files ... OK
* checking index information ... OK
* checking package subdirectories ... OK
* checking code files for non-ASCII characters ... OK
* checking R files for syntax errors ... OK
* checking whether the package can be loaded ... OK
* checking whether the package can be loaded with stated dependencies ... OK
* checking whether the package can be unloaded cleanly ... OK
* checking whether the namespace can be loaded with stated dependencies ... OK
* checking whether the namespace can be unloaded cleanly ... OK
* checking loading without being on the library search path ... OK
* checking whether startup messages can be suppressed ... OK
* checking dependencies in R code ... OK
* checking S3 generic/method consistency ... OK
* checking replacement functions ... OK
* checking foreign function calls ... OK
* checking R code for possible problems ... OK
* checking Rd files ... OK
* checking Rd metadata ... OK
* checking Rd cross-references ... OK
* checking for missing documentation entries ... OK
* checking for code/documentation mismatches ... OK
* checking Rd \usage sections ... OK
* checking Rd contents ... OK
* checking for unstated dependencies in examples ... OK
* checking files in ‘vignettes’ ... OK
* checking examples ... OK
Examples with CPU (user + system) or elapsed time > 5s
                                user system elapsed
imputeBetasByGenomicNeighbors 40.725  0.565  51.089
inferSex                      26.839  0.301  42.029
imputeBetas                   24.428  0.547  33.453
sesameQC_calcStats            22.802  0.176  31.260
sesameQC_plotHeatSNPs         22.301  0.236  28.953
inferSpecies                  17.068  0.706  19.572
compareMouseStrainReference   15.868  0.549  21.360
matchDesign                   16.131  0.163  18.297
ELBAR                         15.850  0.173  19.425
diffRefSet                    15.167  0.306  19.607
compareReference              14.425  0.478  20.104
getRefSet                     12.978  0.168  27.134
sesameQC_plotBar              11.762  0.271  15.344
sesameQC_plotBetaByDesign     11.876  0.055  13.647
DMR                           10.456  0.210  13.048
visualizeGene                  9.747  0.183  10.472
DML                            9.184  0.296  13.819
inferStrain                    8.676  0.267   9.331
sdf_read_table                 8.136  0.128  11.069
inferTissue                    7.762  0.226   9.007
deIdentify                     7.342  0.187  13.215
estimateLeukocyte              7.289  0.117  13.671
dyeBiasCorrMostBalanced        6.820  0.242   8.886
getMask                        6.611  0.198   9.153
dyeBiasNL                      6.314  0.064  11.047
createUCSCtrack                6.056  0.202   9.310
openSesame                     5.936  0.264   7.244
reIdentify                     5.691  0.104   8.652
probeSuccessRate               5.402  0.104   5.866
bisConversionControl           4.798  0.075   6.507
sesameQC_rankStats             4.143  0.060   5.276
prepSesame                     4.091  0.052   5.061
checkLevels                    3.985  0.052   5.491
noMasked                       3.948  0.088   6.722
visualizeSegments              1.828  0.020   5.062
* checking for unstated dependencies in ‘tests’ ... OK
* checking tests ...
  Running ‘testthat.R’
 OK
* checking for unstated dependencies in vignettes ... OK
* checking package vignettes ... OK
* checking running R code from vignettes ... SKIPPED
* checking re-building of vignette outputs ... SKIPPED
* checking PDF version of manual ... OK
* DONE

Status: OK


Installation output

sesame.Rcheck/00install.out

##############################################################################
##############################################################################
###
### Running command:
###
###   /home/biocbuild/R/R/bin/R CMD INSTALL sesame
###
##############################################################################
##############################################################################


* installing to library ‘/home/biocbuild/R/R-4.5.0/site-library’
* installing *source* package ‘sesame’ ...
** this is package ‘sesame’ version ‘1.27.1’
** using staged installation
** R
** inst
** byte-compile and prepare package for lazy loading
** help
*** installing help indices
** building package indices
** installing vignettes
** testing if installed package can be loaded from temporary location
** testing if installed package can be loaded from final location
** testing if installed package keeps a record of temporary installation path
* DONE (sesame)

Tests output

sesame.Rcheck/tests/testthat.Rout


R version 4.5.0 (2025-04-11) -- "How About a Twenty-Six"
Copyright (C) 2025 The R Foundation for Statistical Computing
Platform: aarch64-unknown-linux-gnu

R is free software and comes with ABSOLUTELY NO WARRANTY.
You are welcome to redistribute it under certain conditions.
Type 'license()' or 'licence()' for distribution details.

R is a collaborative project with many contributors.
Type 'contributors()' for more information and
'citation()' on how to cite R or R packages in publications.

Type 'demo()' for some demos, 'help()' for on-line help, or
'help.start()' for an HTML browser interface to help.
Type 'q()' to quit R.

> library(testthat)
> library(sesame)
Loading required package: sesameData
Loading required package: ExperimentHub
Loading required package: BiocGenerics
Loading required package: generics

Attaching package: 'generics'

The following objects are masked from 'package:base':

    as.difftime, as.factor, as.ordered, intersect, is.element, setdiff,
    setequal, union


Attaching package: 'BiocGenerics'

The following objects are masked from 'package:stats':

    IQR, mad, sd, var, xtabs

The following objects are masked from 'package:base':

    Filter, Find, Map, Position, Reduce, anyDuplicated, aperm, append,
    as.data.frame, basename, cbind, colnames, dirname, do.call,
    duplicated, eval, evalq, get, grep, grepl, is.unsorted, lapply,
    mapply, match, mget, order, paste, pmax, pmax.int, pmin, pmin.int,
    rank, rbind, rownames, sapply, saveRDS, table, tapply, unique,
    unsplit, which.max, which.min

Loading required package: AnnotationHub
Loading required package: BiocFileCache
Loading required package: dbplyr
Loading sesameData.

----------------------------------------------------------
| SEnsible Step-wise Analysis of DNA MEthylation (SeSAMe)
| --------------------------------------------------------
| Please cache auxiliary data by "sesameDataCache()".
| This needs to be done only once per SeSAMe installation.
----------------------------------------------------------

> 
> test_check("sesame")
[ FAIL 0 | WARN 0 | SKIP 0 | PASS 5 ]
> 
> proc.time()
   user  system elapsed 
 21.978   0.829  29.795 

Example timings

sesame.Rcheck/sesame-Ex.timings

nameusersystemelapsed
BetaValueToMValue0.0000.0000.001
DML 9.184 0.29613.819
DMLpredict1.5240.0512.446
DMR10.456 0.21013.048
ELBAR15.850 0.17319.425
MValueToBetaValue000
SigDF0.3410.0120.354
addMask0.0750.0000.074
betasCollapseToPfx0.0160.0000.015
bisConversionControl4.7980.0756.507
calcEffectSize1.3450.0241.377
checkLevels3.9850.0525.491
cnSegmentation0.3600.0160.441
compareMouseStrainReference15.868 0.54921.360
compareMouseTissueReference0.0010.0000.000
compareReference14.425 0.47820.104
controls2.2060.1082.498
createUCSCtrack6.0560.2029.310
deIdentify 7.342 0.18713.215
detectionPnegEcdf1.0660.0122.160
diffRefSet15.167 0.30619.607
dmContrasts1.9500.0402.539
dyeBiasCorr3.0680.0464.178
dyeBiasCorrMostBalanced6.8200.2428.886
dyeBiasL2.5720.1322.970
dyeBiasNL 6.314 0.06411.047
estimateLeukocyte 7.289 0.11713.671
formatVCF2.2720.0642.519
getAFTypeIbySumAlleles1.9030.0482.439
getAFs1.3080.0151.375
getBetas1.0030.0231.590
getMask6.6110.1989.153
getRefSet12.978 0.16827.134
imputeBetas24.428 0.54733.453
imputeBetasByGenomicNeighbors40.725 0.56551.089
imputeBetasMatrixByMean0.0020.0000.002
inferEthnicity0.0000.0000.001
inferInfiniumIChannel0.2970.0680.397
inferSex26.839 0.30142.029
inferSpecies17.068 0.70619.572
inferStrain8.6760.2679.331
inferTissue7.7620.2269.007
initFileSet1.2850.0321.343
listAvailableMasks1.3560.0231.413
mLiftOver000
mapFileSet0.0320.0040.071
mapToMammal402.8600.0763.245
matchDesign16.131 0.16318.297
meanIntensity2.8660.0803.168
medianTotalIntensity0.9030.0801.034
noMasked3.9480.0886.722
noob2.3770.0712.663
openSesame5.9360.2647.244
openSesameToFile1.6550.0321.852
pOOBAH1.4210.0042.515
palgen0.0450.0040.103
parseGEOsignalMU3.2290.0844.148
predictAge2.3790.0433.832
predictAgeHorvath353000
predictAgeSkinBlood000
predictMouseAgeInMonth0.0000.0000.001
prefixMask0.5660.0000.667
prefixMaskButC0.1830.0000.184
prefixMaskButCG0.0770.0040.083
prepSesame4.0910.0525.061
prepSesameList0.0020.0000.005
print.DMLSummary3.2850.0764.761
print.fileSet1.3270.0472.580
probeID_designType000
probeSuccessRate5.4020.1045.866
qualityMask2.4540.0563.695
reIdentify5.6910.1048.652
readFileSet0.0560.0000.112
readIDATpair0.1250.0000.137
recommendedMaskNames000
resetMask0.4700.0280.499
scrub2.6690.0482.842
scrubSoft4.1070.0124.418
sdfPlatform0.3380.0120.471
sdf_read_table 8.136 0.12811.069
sdf_write_table2.2860.0483.511
searchIDATprefixes0.0050.0000.020
sesame-package2.1330.0562.759
sesameAnno_attachManifest000
sesameAnno_buildAddressFile000
sesameAnno_buildManifestGRanges000
sesameAnno_download000
sesameAnno_readManifestTSV000
sesameQC_calcStats22.802 0.17631.260
sesameQC_getStats2.0950.0082.153
sesameQC_plotBar11.762 0.27115.344
sesameQC_plotBetaByDesign11.876 0.05513.647
sesameQC_plotHeatSNPs22.301 0.23628.953
sesameQC_plotIntensVsBetas2.2030.0443.658
sesameQC_plotRedGrnQQ1.4790.0562.609
sesameQC_rankStats4.1430.0605.276
sesameQCtoDF2.2050.0043.064
sesame_checkVersion0.0040.0000.008
sesamize000
setMask0.0980.0000.178
signalMU0.8660.0200.901
sliceFileSet0.0410.0000.041
summaryExtractTest2.9900.0603.149
totalIntensities2.6960.0473.094
updateSigDF3.5300.1323.882
visualizeGene 9.747 0.18310.472
visualizeProbes1.440.002.08
visualizeRegion0.4840.0082.141
visualizeSegments1.8280.0205.062