Back to Multiple platform build/check report for BioC 3.22:   simplified   long
ABCDEFGHIJKLMNOPQR[S]TUVWXYZ

This page was generated on 2025-10-14 12:05 -0400 (Tue, 14 Oct 2025).

HostnameOSArch (*)R versionInstalled pkgs
nebbiolo2Linux (Ubuntu 24.04.3 LTS)x86_644.5.1 Patched (2025-08-23 r88802) -- "Great Square Root" 4864
lconwaymacOS 12.7.1 Montereyx86_644.5.1 Patched (2025-09-10 r88807) -- "Great Square Root" 4652
kjohnson3macOS 13.7.7 Venturaarm644.5.1 Patched (2025-09-10 r88807) -- "Great Square Root" 4597
taishanLinux (openEuler 24.03 LTS)aarch644.5.0 (2025-04-11) -- "How About a Twenty-Six" 4610
Click on any hostname to see more info about the system (e.g. compilers)      (*) as reported by 'uname -p', except on Windows and Mac OS X

Package 1979/2346HostnameOS / ArchINSTALLBUILDCHECKBUILD BIN
sesame 1.27.1  (landing page)
Wanding Zhou
Snapshot Date: 2025-10-13 13:45 -0400 (Mon, 13 Oct 2025)
git_url: https://git.bioconductor.org/packages/sesame
git_branch: devel
git_last_commit: e90f911
git_last_commit_date: 2025-06-21 02:29:58 -0400 (Sat, 21 Jun 2025)
nebbiolo2Linux (Ubuntu 24.04.3 LTS) / x86_64  OK    OK    OK  UNNEEDED, same version is already published
lconwaymacOS 12.7.1 Monterey / x86_64  OK    OK    OK    OK  UNNEEDED, same version is already published
kjohnson3macOS 13.7.7 Ventura / arm64  OK    OK    OK    OK  UNNEEDED, same version is already published
taishanLinux (openEuler 24.03 LTS) / aarch64  OK    OK    OK  


CHECK results for sesame on lconway

To the developers/maintainers of the sesame package:
- Allow up to 24 hours (and sometimes 48 hours) for your latest push to git@git.bioconductor.org:packages/sesame.git to reflect on this report. See Troubleshooting Build Report for more information.
- Use the following Renviron settings to reproduce errors and warnings.
- If 'R CMD check' started to fail recently on the Linux builder(s) over a missing dependency, add the missing dependency to 'Suggests:' in your DESCRIPTION file. See Renviron.bioc for more information.

raw results


Summary

Package: sesame
Version: 1.27.1
Command: /Library/Frameworks/R.framework/Resources/bin/R CMD check --install=check:sesame.install-out.txt --library=/Library/Frameworks/R.framework/Resources/library --no-vignettes --timings sesame_1.27.1.tar.gz
StartedAt: 2025-10-14 01:17:38 -0400 (Tue, 14 Oct 2025)
EndedAt: 2025-10-14 01:31:12 -0400 (Tue, 14 Oct 2025)
EllapsedTime: 814.7 seconds
RetCode: 0
Status:   OK  
CheckDir: sesame.Rcheck
Warnings: 0

Command output

##############################################################################
##############################################################################
###
### Running command:
###
###   /Library/Frameworks/R.framework/Resources/bin/R CMD check --install=check:sesame.install-out.txt --library=/Library/Frameworks/R.framework/Resources/library --no-vignettes --timings sesame_1.27.1.tar.gz
###
##############################################################################
##############################################################################


* using log directory ‘/Users/biocbuild/bbs-3.22-bioc/meat/sesame.Rcheck’
* using R version 4.5.1 Patched (2025-09-10 r88807)
* using platform: x86_64-apple-darwin20
* R was compiled by
    Apple clang version 14.0.0 (clang-1400.0.29.202)
    GNU Fortran (GCC) 14.2.0
* running under: macOS Monterey 12.7.6
* using session charset: UTF-8
* using option ‘--no-vignettes’
* checking for file ‘sesame/DESCRIPTION’ ... OK
* checking extension type ... Package
* this is package ‘sesame’ version ‘1.27.1’
* package encoding: UTF-8
* checking package namespace information ... OK
* checking package dependencies ... OK
* checking if this is a source package ... OK
* checking if there is a namespace ... OK
* checking for hidden files and directories ... OK
* checking for portable file names ... OK
* checking for sufficient/correct file permissions ... OK
* checking whether package ‘sesame’ can be installed ... OK
* checking installed package size ... OK
* checking package directory ... OK
* checking ‘build’ directory ... OK
* checking DESCRIPTION meta-information ... OK
* checking top-level files ... OK
* checking for left-over files ... OK
* checking index information ... OK
* checking package subdirectories ... OK
* checking code files for non-ASCII characters ... OK
* checking R files for syntax errors ... OK
* checking whether the package can be loaded ... OK
* checking whether the package can be loaded with stated dependencies ... OK
* checking whether the package can be unloaded cleanly ... OK
* checking whether the namespace can be loaded with stated dependencies ... OK
* checking whether the namespace can be unloaded cleanly ... OK
* checking whether startup messages can be suppressed ... OK
* checking dependencies in R code ... OK
* checking S3 generic/method consistency ... OK
* checking replacement functions ... OK
* checking foreign function calls ... OK
* checking R code for possible problems ... OK
* checking Rd files ... OK
* checking Rd metadata ... OK
* checking Rd cross-references ... OK
* checking for missing documentation entries ... OK
* checking for code/documentation mismatches ... OK
* checking Rd \usage sections ... OK
* checking Rd contents ... OK
* checking for unstated dependencies in examples ... OK
* checking files in ‘vignettes’ ... OK
* checking examples ... OK
Examples with CPU (user + system) or elapsed time > 5s
                                user system elapsed
imputeBetasByGenomicNeighbors 38.765  1.590  40.705
sesameQC_calcStats            23.913  2.010  26.244
inferSex                      24.530  1.323  26.101
sesameQC_plotHeatSNPs         20.727  2.432  23.974
imputeBetas                   19.248  1.829  21.485
ELBAR                         16.781  3.661  20.911
diffRefSet                    16.658  0.763  17.617
inferSpecies                  15.019  0.766  15.929
sesameQC_plotBar              14.063  0.537  14.735
sesameQC_plotBetaByDesign     11.869  2.133  14.288
getRefSet                     13.080  0.613  13.855
compareMouseStrainReference   12.835  0.560  13.558
compareReference              11.872  0.665  12.695
matchDesign                   11.412  0.776  12.280
DML                            9.830  1.347  11.320
visualizeGene                  9.885  0.929  11.044
inferTissue                    7.803  1.694   9.681
DMR                            9.177  0.305   9.585
sdf_read_table                 8.967  0.500   9.593
inferStrain                    8.327  0.702   9.139
estimateLeukocyte              7.588  0.648   8.369
getMask                        6.949  0.598   7.666
dyeBiasCorrMostBalanced        7.174  0.353   7.639
createUCSCtrack                6.776  0.368   7.224
deIdentify                     6.657  0.427   7.243
dyeBiasNL                      6.399  0.660   7.142
openSesame                     5.708  1.073   6.913
reIdentify                     6.001  0.385   6.451
probeSuccessRate               5.843  0.506   6.454
bisConversionControl           4.978  0.331   5.384
checkLevels                    4.413  0.457   5.188
* checking for unstated dependencies in ‘tests’ ... OK
* checking tests ...
  Running ‘testthat.R’
 OK
* checking for unstated dependencies in vignettes ... OK
* checking package vignettes ... OK
* checking running R code from vignettes ... SKIPPED
* checking re-building of vignette outputs ... SKIPPED
* checking PDF version of manual ... OK
* DONE

Status: OK


Installation output

sesame.Rcheck/00install.out

##############################################################################
##############################################################################
###
### Running command:
###
###   /Library/Frameworks/R.framework/Resources/bin/R CMD INSTALL sesame
###
##############################################################################
##############################################################################


* installing to library ‘/Library/Frameworks/R.framework/Versions/4.5-x86_64/Resources/library’
* installing *source* package ‘sesame’ ...
** this is package ‘sesame’ version ‘1.27.1’
** using staged installation
** R
** inst
** byte-compile and prepare package for lazy loading
** help
*** installing help indices
** building package indices
** installing vignettes
** testing if installed package can be loaded from temporary location
** testing if installed package can be loaded from final location
** testing if installed package keeps a record of temporary installation path
* DONE (sesame)

Tests output

sesame.Rcheck/tests/testthat.Rout


R version 4.5.1 Patched (2025-09-10 r88807) -- "Great Square Root"
Copyright (C) 2025 The R Foundation for Statistical Computing
Platform: x86_64-apple-darwin20

R is free software and comes with ABSOLUTELY NO WARRANTY.
You are welcome to redistribute it under certain conditions.
Type 'license()' or 'licence()' for distribution details.

R is a collaborative project with many contributors.
Type 'contributors()' for more information and
'citation()' on how to cite R or R packages in publications.

Type 'demo()' for some demos, 'help()' for on-line help, or
'help.start()' for an HTML browser interface to help.
Type 'q()' to quit R.

> library(testthat)
> library(sesame)
Loading required package: sesameData
Loading required package: ExperimentHub
Loading required package: BiocGenerics
Loading required package: generics

Attaching package: 'generics'

The following objects are masked from 'package:base':

    as.difftime, as.factor, as.ordered, intersect, is.element, setdiff,
    setequal, union


Attaching package: 'BiocGenerics'

The following objects are masked from 'package:stats':

    IQR, mad, sd, var, xtabs

The following objects are masked from 'package:base':

    Filter, Find, Map, Position, Reduce, anyDuplicated, aperm, append,
    as.data.frame, basename, cbind, colnames, dirname, do.call,
    duplicated, eval, evalq, get, grep, grepl, is.unsorted, lapply,
    mapply, match, mget, order, paste, pmax, pmax.int, pmin, pmin.int,
    rank, rbind, rownames, sapply, saveRDS, table, tapply, unique,
    unsplit, which.max, which.min

Loading required package: AnnotationHub
Loading required package: BiocFileCache
Loading required package: dbplyr
Loading sesameData.

----------------------------------------------------------
| SEnsible Step-wise Analysis of DNA MEthylation (SeSAMe)
| --------------------------------------------------------
| Please cache auxiliary data by "sesameDataCache()".
| This needs to be done only once per SeSAMe installation.
----------------------------------------------------------

> 
> test_check("sesame")
[ FAIL 0 | WARN 0 | SKIP 0 | PASS 5 ]
> 
> proc.time()
   user  system elapsed 
 23.233   2.123  25.675 

Example timings

sesame.Rcheck/sesame-Ex.timings

nameusersystemelapsed
BetaValueToMValue0.0000.0010.001
DML 9.830 1.34711.320
DMLpredict1.4070.1281.568
DMR9.1770.3059.585
ELBAR16.781 3.66120.911
MValueToBetaValue0.0000.0010.000
SigDF0.3300.0880.426
addMask0.0910.0010.092
betasCollapseToPfx0.0120.0010.013
bisConversionControl4.9780.3315.384
calcEffectSize1.2880.1701.494
checkLevels4.4130.4575.188
cnSegmentation0.3150.0840.424
compareMouseStrainReference12.835 0.56013.558
compareMouseTissueReference0.0000.0010.000
compareReference11.872 0.66512.695
controls2.2800.2922.685
createUCSCtrack6.7760.3687.224
deIdentify6.6570.4277.243
detectionPnegEcdf1.1710.0071.187
diffRefSet16.658 0.76317.617
dmContrasts2.2240.2602.533
dyeBiasCorr3.0390.2833.404
dyeBiasCorrMostBalanced7.1740.3537.639
dyeBiasL2.5250.1702.741
dyeBiasNL6.3990.6607.142
estimateLeukocyte7.5880.6488.369
formatVCF2.3450.3572.794
getAFTypeIbySumAlleles1.9970.2512.299
getAFs1.3230.2061.545
getBetas0.940.141.10
getMask6.9490.5987.666
getRefSet13.080 0.61313.855
imputeBetas19.248 1.82921.485
imputeBetasByGenomicNeighbors38.765 1.59040.705
imputeBetasMatrixByMean0.0020.0000.002
inferEthnicity0.0010.0000.000
inferInfiniumIChannel0.4110.4960.922
inferSex24.530 1.32326.101
inferSpecies15.019 0.76615.929
inferStrain8.3270.7029.139
inferTissue7.8031.6949.681
initFileSet1.3090.2711.619
listAvailableMasks1.4380.1711.644
mLiftOver0.0000.0020.002
mapFileSet0.0390.0050.044
mapToMammal402.9500.4463.478
matchDesign11.412 0.77612.280
meanIntensity2.8300.2003.071
medianTotalIntensity0.8720.0720.952
noMasked4.0780.6664.803
noob2.1670.0412.221
openSesame5.7081.0736.913
openSesameToFile1.6890.2151.920
pOOBAH1.5380.0091.558
palgen0.0440.0080.053
parseGEOsignalMU3.2280.1713.431
predictAge2.7650.5243.370
predictAgeHorvath3530.0000.0010.000
predictAgeSkinBlood000
predictMouseAgeInMonth000
prefixMask0.7030.0040.714
prefixMaskButC0.1920.0010.195
prefixMaskButCG0.0850.0010.086
prepSesame4.0340.2874.368
prepSesameList0.0010.0010.003
print.DMLSummary2.9480.6873.685
print.fileSet1.2910.2581.581
probeID_designType0.0000.0010.000
probeSuccessRate5.8430.5066.454
qualityMask1.8740.2432.144
reIdentify6.0010.3856.451
readFileSet0.0600.0180.093
readIDATpair0.1450.0020.149
recommendedMaskNames0.0000.0000.001
resetMask0.4540.0600.519
scrub2.5850.4523.078
scrubSoft3.4180.8324.305
sdfPlatform0.3120.0970.417
sdf_read_table8.9670.5009.593
sdf_write_table2.6440.1622.836
searchIDATprefixes0.0040.0020.007
sesame-package2.4710.4242.928
sesameAnno_attachManifest0.0000.0010.000
sesameAnno_buildAddressFile0.0010.0000.000
sesameAnno_buildManifestGRanges0.0000.0000.001
sesameAnno_download000
sesameAnno_readManifestTSV000
sesameQC_calcStats23.913 2.01026.244
sesameQC_getStats2.1870.0162.213
sesameQC_plotBar14.063 0.53714.735
sesameQC_plotBetaByDesign11.869 2.13314.288
sesameQC_plotHeatSNPs20.727 2.43223.974
sesameQC_plotIntensVsBetas2.0860.2942.444
sesameQC_plotRedGrnQQ1.4540.2861.785
sesameQC_rankStats4.0120.3894.498
sesameQCtoDF2.3660.0852.467
sesame_checkVersion0.0040.0010.004
sesamize000
setMask0.1020.0010.103
signalMU1.1620.1071.295
sliceFileSet0.0410.0040.045
summaryExtractTest3.1791.0774.528
totalIntensities2.7290.5023.495
updateSigDF3.4590.6134.207
visualizeGene 9.885 0.92911.044
visualizeProbes1.3290.0511.415
visualizeRegion0.3620.0030.367
visualizeSegments1.7230.6122.382