Back to Build/check report for BioC 3.23:   simplified   long
ABCDEFGHIJKLMNOPQ[R]STUVWXYZ

This page was generated on 2025-11-01 11:32 -0400 (Sat, 01 Nov 2025).

HostnameOSArch (*)R versionInstalled pkgs
nebbiolo1Linux (Ubuntu 24.04.3 LTS)x86_64R Under development (unstable) (2025-10-20 r88955) -- "Unsuffered Consequences" 4774
Click on any hostname to see more info about the system (e.g. compilers)      (*) as reported by 'uname -p', except on Windows and Mac OS X

All results for package rhdf5


To the developers/maintainers of the rhdf5 package:
- Allow up to 24 hours (and sometimes 48 hours) for your latest push to git@git.bioconductor.org:packages/rhdf5.git to reflect on this report. See Troubleshooting Build Report for more information.
- Use the following Renviron settings to reproduce errors and warnings.
- If 'R CMD check' started to fail recently on the Linux builder(s) over a missing dependency, add the missing dependency to 'Suggests:' in your DESCRIPTION file. See Renviron.bioc for more information.

raw results

Package 1758/2321HostnameOS / ArchINSTALLBUILDCHECKBUILD BIN
rhdf5 2.55.4  (landing page)
Hugo Gruson
Snapshot Date: 2025-10-31 13:40 -0400 (Fri, 31 Oct 2025)
git_url: https://git.bioconductor.org/packages/rhdf5
git_branch: devel
git_last_commit: 8cd8dc6
git_last_commit_date: 2025-10-31 04:46:45 -0400 (Fri, 31 Oct 2025)
nebbiolo1Linux (Ubuntu 24.04.3 LTS) / x86_64  OK    OK    WARNINGS  YES



Results for Bioconductor software packages that depend directly on package rhdf5

QUICK STATSOS / ArchINSTALLBUILDCHECKBUILD BIN
nebbiolo1Linux (Ubuntu 24.04.3 LTS) / x86_64
0358
01150
001040
Package 1/61HostnameOS / ArchINSTALLBUILDCHECKBUILD BIN
alabaster.base 1.11.0  (landing page)
Aaron Lun
git_last_commit: f3bb4e9
git_last_commit_date: 2025-10-29 11:21:08 -0400
nebbiolo1Linux (Ubuntu 24.04.3 LTS) / x86_64  OK    ERROR  skipped
Package 2/61HostnameOS / ArchINSTALLBUILDCHECKBUILD BIN
alabaster.bumpy 1.11.0  (landing page)
Aaron Lun
git_last_commit: 08f8924
git_last_commit_date: 2025-10-29 11:21:24 -0400
nebbiolo1Linux (Ubuntu 24.04.3 LTS) / x86_64  OK    ERROR  skipped
Package 3/61HostnameOS / ArchINSTALLBUILDCHECKBUILD BIN
alabaster.mae 1.11.0  (landing page)
Aaron Lun
git_last_commit: f3f563c
git_last_commit_date: 2025-10-29 11:21:27 -0400
nebbiolo1Linux (Ubuntu 24.04.3 LTS) / x86_64  OK    ERROR  skipped
Package 4/61HostnameOS / ArchINSTALLBUILDCHECKBUILD BIN
alabaster.matrix 1.11.0  (landing page)
Aaron Lun
git_last_commit: c5028de
git_last_commit_date: 2025-10-29 11:21:14 -0400
nebbiolo1Linux (Ubuntu 24.04.3 LTS) / x86_64  OK    ERROR  skipped
Package 5/61HostnameOS / ArchINSTALLBUILDCHECKBUILD BIN
alabaster.ranges 1.11.0  (landing page)
Aaron Lun
git_last_commit: 283afd5
git_last_commit_date: 2025-10-29 11:21:11 -0400
nebbiolo1Linux (Ubuntu 24.04.3 LTS) / x86_64  OK    ERROR  skipped
Package 6/61HostnameOS / ArchINSTALLBUILDCHECKBUILD BIN
alabaster.spatial 1.11.0  (landing page)
Aaron Lun
git_last_commit: 05db641
git_last_commit_date: 2025-10-29 11:21:22 -0400
nebbiolo1Linux (Ubuntu 24.04.3 LTS) / x86_64  OK    ERROR  skipped
Package 7/61HostnameOS / ArchINSTALLBUILDCHECKBUILD BIN
BayesSpace 1.21.0  (landing page)
Senbai Kang
git_last_commit: 47c1795
git_last_commit_date: 2025-10-29 11:03:05 -0400
nebbiolo1Linux (Ubuntu 24.04.3 LTS) / x86_64  OK    OK    OK  NO, package depends on 'SingleCellExperiment' which is not available
Package 8/61HostnameOS / ArchINSTALLBUILDCHECKBUILD BIN
BgeeCall 1.27.0  (landing page)
Julien Wollbrett
git_last_commit: 7cf1fc3
git_last_commit_date: 2025-10-29 10:56:16 -0400
nebbiolo1Linux (Ubuntu 24.04.3 LTS) / x86_64  ERROR    ERROR  skipped
Package 9/61HostnameOS / ArchINSTALLBUILDCHECKBUILD BIN
biomformat 1.39.0  (landing page)
Paul J. McMurdie
git_last_commit: 7f14801
git_last_commit_date: 2025-10-29 10:29:00 -0400
nebbiolo1Linux (Ubuntu 24.04.3 LTS) / x86_64  OK    OK    OK  UNNEEDED, same version is already published
Package 10/61HostnameOS / ArchINSTALLBUILDCHECKBUILD BIN
bnbc 1.33.0  (landing page)
Kipper Fletez-Brant
git_last_commit: dc2adb8
git_last_commit_date: 2025-10-29 10:41:29 -0400
nebbiolo1Linux (Ubuntu 24.04.3 LTS) / x86_64  OK    OK    OK  YES
Package 11/61HostnameOS / ArchINSTALLBUILDCHECKBUILD BIN
bsseq 1.47.1  (landing page)
Kasper Daniel Hansen
git_last_commit: 46b4295
git_last_commit_date: 2025-10-31 11:03:21 -0400
nebbiolo1Linux (Ubuntu 24.04.3 LTS) / x86_64  OK    OK    WARNINGS  NO, package depends on 'BSgenome' which is not available
Package 12/61HostnameOS / ArchINSTALLBUILDCHECKBUILD BIN
chihaya 1.11.0  (landing page)
Aaron Lun
git_last_commit: d520e49
git_last_commit_date: 2025-10-29 11:21:37 -0400
nebbiolo1Linux (Ubuntu 24.04.3 LTS) / x86_64  OK    OK    WARNINGS  YES
Package 13/61HostnameOS / ArchINSTALLBUILDCHECKBUILD BIN
CiteFuse 1.23.0  (landing page)
Yingxin Lin
git_last_commit: ef26cba
git_last_commit_date: 2025-10-29 10:58:33 -0400
nebbiolo1Linux (Ubuntu 24.04.3 LTS) / x86_64  OK    OK    OK  NO, package depends on 'SingleCellExperiment' which is not available
Package 14/61HostnameOS / ArchINSTALLBUILDCHECKBUILD BIN
cmapR 1.23.0  (landing page)
Ted Natoli
git_last_commit: b3d9762
git_last_commit_date: 2025-10-29 10:57:41 -0400
nebbiolo1Linux (Ubuntu 24.04.3 LTS) / x86_64  OK    OK    OK  YES
Package 15/61HostnameOS / ArchINSTALLBUILDCHECKBUILD BIN
CoGAPS 3.31.0  (landing page)
Elana J. Fertig
git_last_commit: 46dd3c5
git_last_commit_date: 2025-10-29 10:05:26 -0400
nebbiolo1Linux (Ubuntu 24.04.3 LTS) / x86_64  OK    OK    OK  NO, package depends on 'SingleCellExperiment' which is not available
Package 16/61HostnameOS / ArchINSTALLBUILDCHECKBUILD BIN
CopyNumberPlots 1.27.0  (landing page)
Bernat Gel
git_last_commit: d68d13f
git_last_commit_date: 2025-10-29 10:51:43 -0400
nebbiolo1Linux (Ubuntu 24.04.3 LTS) / x86_64  OK    OK    OK  NO, package depends on 'karyoploteR' which is not available
Package 17/61HostnameOS / ArchINSTALLBUILDCHECKBUILD BIN
CRISPRseek 1.51.0  (landing page)
Lihua Julie Zhu
git_last_commit: 0934262
git_last_commit_date: 2025-10-29 10:17:22 -0400
nebbiolo1Linux (Ubuntu 24.04.3 LTS) / x86_64  OK    OK    OK  NO, package depends on 'GenomicFeatures' which is not available
Package 18/61HostnameOS / ArchINSTALLBUILDCHECKBUILD BIN
cTRAP 1.29.0  (landing page)
Nuno Saraiva-Agostinho
git_last_commit: c19a6e4
git_last_commit_date: 2025-10-29 10:48:28 -0400
nebbiolo1Linux (Ubuntu 24.04.3 LTS) / x86_64  OK    OK    OK  YES
Package 19/61HostnameOS / ArchINSTALLBUILDCHECKBUILD BIN
cytomapper 1.23.0  (landing page)
Lasse Meyer
git_last_commit: 20338b5
git_last_commit_date: 2025-10-29 10:57:59 -0400
nebbiolo1Linux (Ubuntu 24.04.3 LTS) / x86_64  OK    OK    OK  NO, package depends on 'SingleCellExperiment' which is not available
Package 20/61HostnameOS / ArchINSTALLBUILDCHECKBUILD BIN
diffHic 1.43.0  (landing page)
Aaron Lun , Gordon Smyth , Hannah Coughlin
git_last_commit: c909cdb
git_last_commit_date: 2025-10-29 10:25:47 -0400
nebbiolo1Linux (Ubuntu 24.04.3 LTS) / x86_64  OK    OK    OK  NO, package depends on 'BSgenome' which is not available
Package 21/61HostnameOS / ArchINSTALLBUILDCHECKBUILD BIN
DropletUtils 1.31.0  (landing page)
Jonathan Griffiths
git_last_commit: 92de364
git_last_commit_date: 2025-10-29 10:42:43 -0400
nebbiolo1Linux (Ubuntu 24.04.3 LTS) / x86_64  OK    OK    WARNINGS  NO, package depends on 'SingleCellExperiment' which is not available
Package 22/61HostnameOS / ArchINSTALLBUILDCHECKBUILD BIN
epigraHMM 1.19.0  (landing page)
Pedro Baldoni
git_last_commit: af5be02
git_last_commit_date: 2025-10-29 11:09:46 -0400
nebbiolo1Linux (Ubuntu 24.04.3 LTS) / x86_64  OK    OK    WARNINGS  NO, package depends on 'rtracklayer' which is not available
Package 23/61HostnameOS / ArchINSTALLBUILDCHECKBUILD BIN
EventPointer 3.19.0  (landing page)
Juan A. Ferrer-Bonsoms
git_last_commit: ab73f34
git_last_commit_date: 2025-10-29 10:37:08 -0400
nebbiolo1Linux (Ubuntu 24.04.3 LTS) / x86_64  ERROR    ERROR  skipped
Package 24/61HostnameOS / ArchINSTALLBUILDCHECKBUILD BIN
FRASER 2.7.0  (landing page)
Christian Mertes
git_last_commit: ecd421c
git_last_commit_date: 2025-10-29 10:58:54 -0400
nebbiolo1Linux (Ubuntu 24.04.3 LTS) / x86_64  ERROR    ERROR  skipped
Package 25/61HostnameOS / ArchINSTALLBUILDCHECKBUILD BIN
GenomicScores 2.23.0  (landing page)
Robert Castelo
git_last_commit: fce182e
git_last_commit_date: 2025-10-29 10:38:07 -0400
nebbiolo1Linux (Ubuntu 24.04.3 LTS) / x86_64  OK    OK    OK  YES
Package 26/61HostnameOS / ArchINSTALLBUILDCHECKBUILD BIN
gep2pep 1.31.0  (landing page)
Francesco Napolitano
git_last_commit: 5fcf5d5
git_last_commit_date: 2025-10-29 10:42:15 -0400
nebbiolo1Linux (Ubuntu 24.04.3 LTS) / x86_64  OK    OK    OK  YES
Package 27/61HostnameOS / ArchINSTALLBUILDCHECKBUILD BIN
GSCA 2.41.0  (landing page)
Zhicheng Ji
git_last_commit: e6b6b2f
git_last_commit_date: 2025-10-29 10:18:06 -0400
nebbiolo1Linux (Ubuntu 24.04.3 LTS) / x86_64  OK    OK    OK  UNNEEDED, same version is already published
Package 28/61HostnameOS / ArchINSTALLBUILDCHECKBUILD BIN
h5mread 1.3.0  (landing page)
Hervé Pagès
git_last_commit: 376f55f
git_last_commit_date: 2025-10-29 14:49:58 -0400
nebbiolo1Linux (Ubuntu 24.04.3 LTS) / x86_64  OK    OK    WARNINGS  YES
Package 29/61HostnameOS / ArchINSTALLBUILDCHECKBUILD BIN
h5vc 2.45.0  (landing page)
Paul Theodor Pyl
git_last_commit: 39f8a8c
git_last_commit_date: 2025-10-29 10:17:13 -0400
nebbiolo1Linux (Ubuntu 24.04.3 LTS) / x86_64  OK    OK    OK  YES
Package 30/61HostnameOS / ArchINSTALLBUILDCHECKBUILD BIN
HDF5Array 1.39.0  (landing page)
Hervé Pagès
git_last_commit: 538f969
git_last_commit_date: 2025-10-29 12:21:26 -0400
nebbiolo1Linux (Ubuntu 24.04.3 LTS) / x86_64  OK    OK    OK  YES
Package 31/61HostnameOS / ArchINSTALLBUILDCHECKBUILD BIN
HicAggR 1.7.0  (landing page)
Olivier Cuvier
git_last_commit: 7e29b61
git_last_commit_date: 2025-10-29 11:30:21 -0400
nebbiolo1Linux (Ubuntu 24.04.3 LTS) / x86_64  OK    OK    WARNINGS  NO, package depends on 'rtracklayer' which is not available
Package 32/61HostnameOS / ArchINSTALLBUILDCHECKBUILD BIN
HiCBricks 1.29.0  (landing page)
Koustav Pal
git_last_commit: cac0a08
git_last_commit_date: 2025-10-29 10:48:17 -0400
nebbiolo1Linux (Ubuntu 24.04.3 LTS) / x86_64  OK    OK    OK  YES
Package 33/61HostnameOS / ArchINSTALLBUILDCHECKBUILD BIN
HiCcompare 1.33.0  (landing page)
Mikhail Dozmorov
git_last_commit: cd8aee7
git_last_commit_date: 2025-10-29 10:39:45 -0400
nebbiolo1Linux (Ubuntu 24.04.3 LTS) / x86_64  OK    OK    OK  YES
Package 34/61HostnameOS / ArchINSTALLBUILDCHECKBUILD BIN
HiCExperiment 1.11.0  (landing page)
Jacques Serizay
git_last_commit: ba6af4b
git_last_commit_date: 2025-10-29 11:21:02 -0400
nebbiolo1Linux (Ubuntu 24.04.3 LTS) / x86_64  OK    OK    OK  YES
Package 35/61HostnameOS / ArchINSTALLBUILDCHECKBUILD BIN
HiCPotts 1.1.0  (landing page)
Itunu. Godwin Osuntoki
git_last_commit: a37a5fa
git_last_commit_date: 2025-10-29 11:37:09 -0400
nebbiolo1Linux (Ubuntu 24.04.3 LTS) / x86_64  OK    OK    OK  NO, package depends on 'rtracklayer' which is not available
Package 36/61HostnameOS / ArchINSTALLBUILDCHECKBUILD BIN
IONiseR 2.35.0  (landing page)
Mike Smith
git_last_commit: c0803bd
git_last_commit_date: 2025-10-29 10:26:28 -0400
nebbiolo1Linux (Ubuntu 24.04.3 LTS) / x86_64  OK    OK    OK  YES
Package 37/61HostnameOS / ArchINSTALLBUILDCHECKBUILD BIN
LoomExperiment 1.29.0  (landing page)
Bioconductor Package Maintainer
git_last_commit: dce7132
git_last_commit_date: 2025-10-29 10:48:53 -0400
nebbiolo1Linux (Ubuntu 24.04.3 LTS) / x86_64  OK    OK    OK  NO, package depends on 'SingleCellExperiment' which is not available
Package 38/61HostnameOS / ArchINSTALLBUILDCHECKBUILD BIN
mariner 1.11.0  (landing page)
Eric Davis
git_last_commit: bc186bb
git_last_commit_date: 2025-10-29 11:23:11 -0400
nebbiolo1Linux (Ubuntu 24.04.3 LTS) / x86_64  OK    OK    OK  NO, package depends on 'plyranges' which is not available
Package 39/61HostnameOS / ArchINSTALLBUILDCHECKBUILD BIN
methodical 1.7.0  (landing page)
Richard Heery
git_last_commit: ca1b149
git_last_commit_date: 2025-10-29 11:27:18 -0400
nebbiolo1Linux (Ubuntu 24.04.3 LTS) / x86_64  OK    OK    WARNINGS  NO, package depends on 'annotatr' which is not available
Package 40/61HostnameOS / ArchINSTALLBUILDCHECKBUILD BIN
MOFA2 1.21.0  (landing page)
Ricard Argelaguet
git_last_commit: 004eb62
git_last_commit_date: 2025-10-29 11:03:36 -0400
nebbiolo1Linux (Ubuntu 24.04.3 LTS) / x86_64  OK    OK    WARNINGS  YES
Package 41/61HostnameOS / ArchINSTALLBUILDCHECKBUILD BIN
MoleculeExperiment 1.11.0  (landing page)
Shila Ghazanfar
git_last_commit: 35b0ff3
git_last_commit_date: 2025-10-29 11:22:45 -0400
nebbiolo1Linux (Ubuntu 24.04.3 LTS) / x86_64  OK    OK    OK  NO, package depends on 'SpatialExperiment' which is not available
Package 42/61HostnameOS / ArchINSTALLBUILDCHECKBUILD BIN
MuData 1.15.0  (landing page)
Ilia Kats
git_last_commit: 186e639
git_last_commit_date: 2025-10-29 11:15:11 -0400
nebbiolo1Linux (Ubuntu 24.04.3 LTS) / x86_64  OK    OK    OK  NO, package depends on 'SingleCellExperiment' which is not available
Package 43/61HostnameOS / ArchINSTALLBUILDCHECKBUILD BIN
octad 1.13.0  (landing page)
E. Chekalin
git_last_commit: 27dcaeb
git_last_commit_date: 2025-10-29 11:19:54 -0400
nebbiolo1Linux (Ubuntu 24.04.3 LTS) / x86_64  OK    OK    OK  NO, package depends on 'RUVSeq' which is not available
Package 44/61HostnameOS / ArchINSTALLBUILDCHECKBUILD BIN
phantasus 1.31.0  (landing page)
Alexey Sergushichev
git_last_commit: 30cb2d9
git_last_commit_date: 2025-10-29 10:44:01 -0400
nebbiolo1Linux (Ubuntu 24.04.3 LTS) / x86_64  OK    OK    OK  YES
Package 45/61HostnameOS / ArchINSTALLBUILDCHECKBUILD BIN
plotgardener 1.17.0  (landing page)
Nicole Kramer
git_last_commit: eaa9c96
git_last_commit_date: 2025-10-29 11:11:39 -0400
nebbiolo1Linux (Ubuntu 24.04.3 LTS) / x86_64  OK    OK    OK  NO, package depends on 'plyranges' which is not available
Package 46/61HostnameOS / ArchINSTALLBUILDCHECKBUILD BIN
ptairMS 1.19.0  (landing page)
camille Roquencourt
git_last_commit: 230089f
git_last_commit_date: 2025-10-29 11:07:57 -0400
nebbiolo1Linux (Ubuntu 24.04.3 LTS) / x86_64  OK    OK    WARNINGS  YES
Package 47/61HostnameOS / ArchINSTALLBUILDCHECKBUILD BIN
PureCN 2.17.0  (landing page)
Markus Riester
git_last_commit: 3330cff
git_last_commit_date: 2025-10-29 10:31:57 -0400
nebbiolo1Linux (Ubuntu 24.04.3 LTS) / x86_64  OK    OK    OK  NO, package depends on 'VariantAnnotation' which is not available
Package 48/61HostnameOS / ArchINSTALLBUILDCHECKBUILD BIN
recountmethylation 1.21.0  (landing page)
Sean K Maden
git_last_commit: 7346a8e
git_last_commit_date: 2025-10-29 11:01:55 -0400
nebbiolo1Linux (Ubuntu 24.04.3 LTS) / x86_64  OK    ERROR  skipped
Package 49/61HostnameOS / ArchINSTALLBUILDCHECKBUILD BIN
ribor 1.23.0  (landing page)
Michael Geng
git_last_commit: 9decab8
git_last_commit_date: 2025-10-29 10:57:14 -0400
nebbiolo1Linux (Ubuntu 24.04.3 LTS) / x86_64  OK    OK    OK  UNNEEDED, same version is already published
Package 50/61HostnameOS / ArchINSTALLBUILDCHECKBUILD BIN
scafari 1.1.0  (landing page)
Sophie Wind
git_last_commit: 0bee2a7
git_last_commit_date: 2025-10-29 11:36:58 -0400
nebbiolo1Linux (Ubuntu 24.04.3 LTS) / x86_64  OK    OK    OK  NO, package depends on 'ggbio' which is not available
Package 51/61HostnameOS / ArchINSTALLBUILDCHECKBUILD BIN
scCB2 1.21.0  (landing page)
Zijian Ni
git_last_commit: 6b117de
git_last_commit_date: 2025-10-29 11:00:33 -0400
nebbiolo1Linux (Ubuntu 24.04.3 LTS) / x86_64  OK    OK    OK  NO, package depends on 'SingleCellExperiment' which is not available
Package 52/61HostnameOS / ArchINSTALLBUILDCHECKBUILD BIN
scMitoMut 1.7.0  (landing page)
Wenjie Sun
git_last_commit: e223927
git_last_commit_date: 2025-10-29 11:28:15 -0400
nebbiolo1Linux (Ubuntu 24.04.3 LTS) / x86_64  OK    OK    OK  UNNEEDED, same version is already published
Package 53/61HostnameOS / ArchINSTALLBUILDCHECKBUILD BIN
scone 1.35.0  (landing page)
Davide Risso
git_last_commit: 60f7f37
git_last_commit_date: 2025-10-29 10:36:05 -0400
nebbiolo1Linux (Ubuntu 24.04.3 LTS) / x86_64  OK    ERROR  skipped
Package 54/61HostnameOS / ArchINSTALLBUILDCHECKBUILD BIN
scRNAseqApp 1.11.0  (landing page)
Jianhong Ou
git_last_commit: 781d06f
git_last_commit_date: 2025-10-29 11:20:39 -0400
nebbiolo1Linux (Ubuntu 24.04.3 LTS) / x86_64  OK    OK    OK  NO, package depends on 'rtracklayer' which is not available
Package 55/61HostnameOS / ArchINSTALLBUILDCHECKBUILD BIN
signatureSearch 1.25.0  (landing page)
Brendan Gongol
git_last_commit: 342f9a7
git_last_commit_date: 2025-10-29 10:55:44 -0400
nebbiolo1Linux (Ubuntu 24.04.3 LTS) / x86_64  OK    OK    OK  YES
Package 56/61HostnameOS / ArchINSTALLBUILDCHECKBUILD BIN
SpaceTrooper 1.1.0  (landing page)
Dario Righelli
git_last_commit: 99c120b
git_last_commit_date: 2025-10-29 11:37:03 -0400
nebbiolo1Linux (Ubuntu 24.04.3 LTS) / x86_64  OK    OK    OK  NO, package depends on 'SpatialExperiment' which is not available
Package 57/61HostnameOS / ArchINSTALLBUILDCHECKBUILD BIN
SpliceWiz 1.13.0  (landing page)
Alex Chit Hei Wong
git_last_commit: 73b017a
git_last_commit_date: 2025-10-29 11:17:35 -0400
nebbiolo1Linux (Ubuntu 24.04.3 LTS) / x86_64  OK    OK    WARNINGS  NO, package depends on 'BSgenome' which is not available
Package 58/61HostnameOS / ArchINSTALLBUILDCHECKBUILD BIN
SpotClean 1.13.0  (landing page)
Zijian Ni
git_last_commit: d03a2a9
git_last_commit_date: 2025-10-29 11:17:07 -0400
nebbiolo1Linux (Ubuntu 24.04.3 LTS) / x86_64  OK    OK    OK  NO, package depends on 'SpatialExperiment' which is not available
Package 59/61HostnameOS / ArchINSTALLBUILDCHECKBUILD BIN
SurfR 1.7.0  (landing page)
Aurora Maurizio
git_last_commit: 90bbf06
git_last_commit_date: 2025-10-29 11:27:44 -0400
nebbiolo1Linux (Ubuntu 24.04.3 LTS) / x86_64  OK    OK    OK  NO, package depends on 'SPsimSeq' which is not available
Package 60/61HostnameOS / ArchINSTALLBUILDCHECKBUILD BIN
TENxIO 1.13.0  (landing page)
Marcel Ramos
git_last_commit: e1cb3c4
git_last_commit_date: 2025-10-29 11:19:24 -0400
nebbiolo1Linux (Ubuntu 24.04.3 LTS) / x86_64  OK    OK    OK  NO, package depends on 'SingleCellExperiment' which is not available
Package 61/61HostnameOS / ArchINSTALLBUILDCHECKBUILD BIN
trackViewer 1.47.0  (landing page)
Jianhong Ou
git_last_commit: c2b7d9b
git_last_commit_date: 2025-10-29 10:17:52 -0400
nebbiolo1Linux (Ubuntu 24.04.3 LTS) / x86_64  OK    OK    OK  NO, package depends on 'GenomicFeatures' which is not available