Back to Build/check report for BioC 3.23:   simplified   long
ABCDEFGHIJKLMNO[P]QRSTUVWXYZ

This page was generated on 2025-10-31 08:34 -0400 (Fri, 31 Oct 2025).

HostnameOSArch (*)R versionInstalled pkgs
nebbiolo1Linux (Ubuntu 24.04.3 LTS)x86_64R Under development (unstable) (2025-10-20 r88955) -- "Unsuffered Consequences" 4428
Click on any hostname to see more info about the system (e.g. compilers)      (*) as reported by 'uname -p', except on Windows and Mac OS X

All results for package pcaMethods


To the developers/maintainers of the pcaMethods package:
- Allow up to 24 hours (and sometimes 48 hours) for your latest push to git@git.bioconductor.org:packages/pcaMethods.git to reflect on this report. See Troubleshooting Build Report for more information.
- Use the following Renviron settings to reproduce errors and warnings.
- If 'R CMD check' started to fail recently on the Linux builder(s) over a missing dependency, add the missing dependency to 'Suggests:' in your DESCRIPTION file. See Renviron.bioc for more information.

raw results

Package 1540/2321HostnameOS / ArchINSTALLBUILDCHECKBUILD BIN
pcaMethods 2.3.0  (landing page)
Henning Redestig
Snapshot Date: 2025-10-30 13:40 -0400 (Thu, 30 Oct 2025)
git_url: https://git.bioconductor.org/packages/pcaMethods
git_branch: devel
git_last_commit: 8787174
git_last_commit_date: 2025-10-29 09:58:32 -0400 (Wed, 29 Oct 2025)
nebbiolo1Linux (Ubuntu 24.04.3 LTS) / x86_64  OK    OK    OK  YES



Results for Bioconductor software packages that depend directly on package pcaMethods

QUICK STATSOS / ArchINSTALLBUILDCHECKBUILD BIN
nebbiolo1Linux (Ubuntu 24.04.3 LTS) / x86_64
0311
068
0314
Package 1/14HostnameOS / ArchINSTALLBUILDCHECKBUILD BIN
consensusDE 1.29.0  (landing page)
Ashley J. Waardenberg
git_last_commit: e69df52
git_last_commit_date: 2025-10-29 10:48:35 -0400
nebbiolo1Linux (Ubuntu 24.04.3 LTS) / x86_64  ERROR    ERROR  skipped
Package 2/14HostnameOS / ArchINSTALLBUILDCHECKBUILD BIN
DeconRNASeq 1.53.0  (landing page)
Ting Gong
git_last_commit: 95e8afe
git_last_commit_date: 2025-10-29 10:12:11 -0400
nebbiolo1Linux (Ubuntu 24.04.3 LTS) / x86_64  OK    ERROR  skipped
Package 3/14HostnameOS / ArchINSTALLBUILDCHECKBUILD BIN
destiny 3.25.0  (landing page)
Philipp Angerer
git_last_commit: 424224a
git_last_commit_date: 2025-10-29 11:14:40 -0400
nebbiolo1Linux (Ubuntu 24.04.3 LTS) / x86_64  OK    ERROR  skipped
Package 4/14HostnameOS / ArchINSTALLBUILDCHECKBUILD BIN
FRASER 2.7.0  (landing page)
Christian Mertes
git_last_commit: ecd421c
git_last_commit_date: 2025-10-29 10:58:54 -0400
nebbiolo1Linux (Ubuntu 24.04.3 LTS) / x86_64  ERROR    ERROR  skipped
Package 5/14HostnameOS / ArchINSTALLBUILDCHECKBUILD BIN
MAI 1.17.0  (landing page)
Jonathan Dekermanjian
git_last_commit: ca7ec3d
git_last_commit_date: 2025-10-29 11:11:14 -0400
nebbiolo1Linux (Ubuntu 24.04.3 LTS) / x86_64  OK    OK    OK  NO, package depends on 'SummarizedExperiment' which is not available
Package 6/14HostnameOS / ArchINSTALLBUILDCHECKBUILD BIN
MatrixQCvis 1.19.0  (landing page)
Thomas Naake
git_last_commit: 0b99d49
git_last_commit_date: 2025-10-29 11:09:24 -0400
nebbiolo1Linux (Ubuntu 24.04.3 LTS) / x86_64  OK    OK    OK  NO, package depends on 'SummarizedExperiment' which is not available
Package 7/14HostnameOS / ArchINSTALLBUILDCHECKBUILD BIN
MSnbase 2.37.0  (landing page)
Laurent Gatto
git_last_commit: 3ca1ea4
git_last_commit_date: 2025-10-29 10:06:57 -0400
nebbiolo1Linux (Ubuntu 24.04.3 LTS) / x86_64  OK    OK    OK  NO, package depends on 'PSMatch' which is not available
Package 8/14HostnameOS / ArchINSTALLBUILDCHECKBUILD BIN
MSPrep 1.21.0  (landing page)
Max McGrath
git_last_commit: e2ae0eb
git_last_commit_date: 2025-10-29 11:02:54 -0400
nebbiolo1Linux (Ubuntu 24.04.3 LTS) / x86_64  OK    OK    ERROR  
Package 9/14HostnameOS / ArchINSTALLBUILDCHECKBUILD BIN
MultiBaC 1.21.0  (landing page)
The package maintainer
git_last_commit: 75d22ea
git_last_commit_date: 2025-10-29 11:00:41 -0400
nebbiolo1Linux (Ubuntu 24.04.3 LTS) / x86_64  OK    OK    OK  NO, package depends on 'MultiAssayExperiment' which is not available
Package 10/14HostnameOS / ArchINSTALLBUILDCHECKBUILD BIN
OUTRIDER 1.29.0  (landing page)
Christian Mertes
git_last_commit: 8caa8cb
git_last_commit_date: 2025-10-29 10:46:21 -0400
nebbiolo1Linux (Ubuntu 24.04.3 LTS) / x86_64  OK    OK    ERROR  
Package 11/14HostnameOS / ArchINSTALLBUILDCHECKBUILD BIN
PhosR 1.21.0  (landing page)
Di Xiao
git_last_commit: 244f040
git_last_commit_date: 2025-10-29 11:02:33 -0400
nebbiolo1Linux (Ubuntu 24.04.3 LTS) / x86_64  OK    ERROR  skipped
Package 12/14HostnameOS / ArchINSTALLBUILDCHECKBUILD BIN
pmp 1.23.0  (landing page)
Gavin Rhys Lloyd
git_last_commit: 2ea8aee
git_last_commit_date: 2025-10-29 10:56:24 -0400
nebbiolo1Linux (Ubuntu 24.04.3 LTS) / x86_64  OK    OK    ERROR  
Package 13/14HostnameOS / ArchINSTALLBUILDCHECKBUILD BIN
scde 2.39.0  (landing page)
Evan Biederstedt
git_last_commit: 013e4aa
git_last_commit_date: 2025-10-29 10:28:40 -0400
nebbiolo1Linux (Ubuntu 24.04.3 LTS) / x86_64  OK    OK    WARNINGS  YES
Package 14/14HostnameOS / ArchINSTALLBUILDCHECKBUILD BIN
SomaticSignatures 2.47.0  (landing page)
Julian Gehring
git_last_commit: 97b6de8
git_last_commit_date: 2025-10-29 10:17:57 -0400
nebbiolo1Linux (Ubuntu 24.04.3 LTS) / x86_64  ERROR    ERROR  skipped