Back to Multiple platform build/check report for BioC 3.22:   simplified   long
AB[C]DEFGHIJKLMNOPQRSTUVWXYZ

This page was generated on 2025-10-24 12:07 -0400 (Fri, 24 Oct 2025).

HostnameOSArch (*)R versionInstalled pkgs
nebbiolo2Linux (Ubuntu 24.04.3 LTS)x86_644.5.1 Patched (2025-08-23 r88802) -- "Great Square Root" 4898
lconwaymacOS 12.7.6 Montereyx86_644.5.1 Patched (2025-09-10 r88807) -- "Great Square Root" 4688
kjohnson3macOS 13.7.7 Venturaarm644.5.1 Patched (2025-09-10 r88807) -- "Great Square Root" 4634
taishanLinux (openEuler 24.03 LTS)aarch644.5.0 (2025-04-11) -- "How About a Twenty-Six" 4658
Click on any hostname to see more info about the system (e.g. compilers)      (*) as reported by 'uname -p', except on Windows and Mac OS X

Package 313/2359HostnameOS / ArchINSTALLBUILDCHECKBUILD BIN
cellmigRation 1.17.0  (landing page)
Waldir Leoncio
Snapshot Date: 2025-10-23 14:17 -0400 (Thu, 23 Oct 2025)
git_url: https://git.bioconductor.org/packages/cellmigRation
git_branch: devel
git_last_commit: 2938d5a
git_last_commit_date: 2025-04-15 12:26:19 -0400 (Tue, 15 Apr 2025)
nebbiolo2Linux (Ubuntu 24.04.3 LTS) / x86_64  OK    OK    OK  UNNEEDED, same version is already published
lconwaymacOS 12.7.6 Monterey / x86_64  OK    OK    OK    OK  UNNEEDED, same version is already published
kjohnson3macOS 13.7.7 Ventura / arm64  OK    OK    OK    OK  UNNEEDED, same version is already published
taishanLinux (openEuler 24.03 LTS) / aarch64  OK    OK    OK  


CHECK results for cellmigRation on taishan

To the developers/maintainers of the cellmigRation package:
- Allow up to 24 hours (and sometimes 48 hours) for your latest push to git@git.bioconductor.org:packages/cellmigRation.git to reflect on this report. See Troubleshooting Build Report for more information.
- Use the following Renviron settings to reproduce errors and warnings.
- If 'R CMD check' started to fail recently on the Linux builder(s) over a missing dependency, add the missing dependency to 'Suggests:' in your DESCRIPTION file. See Renviron.bioc for more information.
- See Martin Grigorov's blog post for how to debug Linux ARM64 related issues on a x86_64 host.

raw results


Summary

Package: cellmigRation
Version: 1.17.0
Command: /home/biocbuild/R/R/bin/R CMD check --install=check:cellmigRation.install-out.txt --library=/home/biocbuild/R/R/site-library --no-vignettes --timings cellmigRation_1.17.0.tar.gz
StartedAt: 2025-10-21 06:19:54 -0000 (Tue, 21 Oct 2025)
EndedAt: 2025-10-21 06:22:32 -0000 (Tue, 21 Oct 2025)
EllapsedTime: 158.1 seconds
RetCode: 0
Status:   OK  
CheckDir: cellmigRation.Rcheck
Warnings: 0

Command output

##############################################################################
##############################################################################
###
### Running command:
###
###   /home/biocbuild/R/R/bin/R CMD check --install=check:cellmigRation.install-out.txt --library=/home/biocbuild/R/R/site-library --no-vignettes --timings cellmigRation_1.17.0.tar.gz
###
##############################################################################
##############################################################################


* using log directory ‘/home/biocbuild/bbs-3.22-bioc/meat/cellmigRation.Rcheck’
* using R version 4.5.0 (2025-04-11)
* using platform: aarch64-unknown-linux-gnu
* R was compiled by
    aarch64-unknown-linux-gnu-gcc (GCC) 14.2.0
    GNU Fortran (GCC) 14.2.0
* running under: openEuler 24.03 (LTS)
* using session charset: UTF-8
* using option ‘--no-vignettes’
* checking for file ‘cellmigRation/DESCRIPTION’ ... OK
* checking extension type ... Package
* this is package ‘cellmigRation’ version ‘1.17.0’
* package encoding: UTF-8
* checking package namespace information ... OK
* checking package dependencies ... OK
* checking if this is a source package ... OK
* checking if there is a namespace ... OK
* checking for hidden files and directories ... OK
* checking for portable file names ... OK
* checking for sufficient/correct file permissions ... OK
* checking whether package ‘cellmigRation’ can be installed ... OK
* checking installed package size ... OK
* checking package directory ... OK
* checking ‘build’ directory ... OK
* checking DESCRIPTION meta-information ... OK
* checking top-level files ... OK
* checking for left-over files ... OK
* checking index information ... OK
* checking package subdirectories ... OK
* checking code files for non-ASCII characters ... OK
* checking R files for syntax errors ... OK
* checking whether the package can be loaded ... OK
* checking whether the package can be loaded with stated dependencies ... OK
* checking whether the package can be unloaded cleanly ... OK
* checking whether the namespace can be loaded with stated dependencies ... OK
* checking whether the namespace can be unloaded cleanly ... OK
* checking loading without being on the library search path ... OK
* checking dependencies in R code ... OK
* checking S3 generic/method consistency ... OK
* checking replacement functions ... OK
* checking foreign function calls ... OK
* checking R code for possible problems ... OK
* checking Rd files ... OK
* checking Rd metadata ... OK
* checking Rd cross-references ... OK
* checking for missing documentation entries ... OK
* checking for code/documentation mismatches ... OK
* checking Rd \usage sections ... NOTE
Documented arguments not in \usage in Rd file 'fixDA.Rd':
  ‘object’

Documented arguments not in \usage in Rd file 'fixFM1.Rd':
  ‘object’

Documented arguments not in \usage in Rd file 'fixFM2.Rd':
  ‘object’

Documented arguments not in \usage in Rd file 'fixFM3.Rd':
  ‘object’

Documented arguments not in \usage in Rd file 'fixFM4.Rd':
  ‘object’

Documented arguments not in \usage in Rd file 'fixFM5.Rd':
  ‘object’

Documented arguments not in \usage in Rd file 'fixFM6.Rd':
  ‘object’

Documented arguments not in \usage in Rd file 'fixID2.Rd':
  ‘TimeInterval’

Documented arguments not in \usage in Rd file 'fixID3.Rd':
  ‘TimeInterval’

Documented arguments not in \usage in Rd file 'fixID4.Rd':
  ‘TimeInterval’

Documented arguments not in \usage in Rd file 'fixMSD.Rd':
  ‘object’

Documented arguments not in \usage in Rd file 'fixPER1.Rd':
  ‘x’

Documented arguments not in \usage in Rd file 'fixPER2.Rd':
  ‘x’

Documented arguments not in \usage in Rd file 'innerBondRaster.Rd':
  ‘i’

Functions with \usage entries need to have the appropriate \alias
entries, and all their arguments documented.
The \usage entries must correspond to syntactically valid R code.
See chapter ‘Writing R documentation files’ in the ‘Writing R
Extensions’ manual.
* checking Rd contents ... OK
* checking for unstated dependencies in examples ... OK
* checking contents of ‘data’ directory ... OK
* checking data for non-ASCII characters ... OK
* checking data for ASCII and uncompressed saves ... OK
* checking files in ‘vignettes’ ... OK
* checking examples ... OK
Examples with CPU (user + system) or elapsed time > 5s
             user system elapsed
getMSDtable 5.609  0.012    5.64
* checking for unstated dependencies in ‘tests’ ... OK
* checking tests ...
  Running ‘runTests.R’
 OK
* checking for unstated dependencies in vignettes ... OK
* checking package vignettes ... OK
* checking running R code from vignettes ... SKIPPED
* checking re-building of vignette outputs ... SKIPPED
* checking PDF version of manual ... OK
* DONE

Status: 1 NOTE
See
  ‘/home/biocbuild/bbs-3.22-bioc/meat/cellmigRation.Rcheck/00check.log’
for details.


Installation output

cellmigRation.Rcheck/00install.out

##############################################################################
##############################################################################
###
### Running command:
###
###   /home/biocbuild/R/R/bin/R CMD INSTALL cellmigRation
###
##############################################################################
##############################################################################


* installing to library ‘/home/biocbuild/R/R-4.5.0/site-library’
* installing *source* package ‘cellmigRation’ ...
** this is package ‘cellmigRation’ version ‘1.17.0’
** using staged installation
** R
** data
** inst
** byte-compile and prepare package for lazy loading
** help
*** installing help indices
** building package indices
** installing vignettes
** testing if installed package can be loaded from temporary location
** testing if installed package can be loaded from final location
** testing if installed package keeps a record of temporary installation path
* DONE (cellmigRation)

Tests output

cellmigRation.Rcheck/tests/runTests.Rout


R version 4.5.0 (2025-04-11) -- "How About a Twenty-Six"
Copyright (C) 2025 The R Foundation for Statistical Computing
Platform: aarch64-unknown-linux-gnu

R is free software and comes with ABSOLUTELY NO WARRANTY.
You are welcome to redistribute it under certain conditions.
Type 'license()' or 'licence()' for distribution details.

R is a collaborative project with many contributors.
Type 'contributors()' for more information and
'citation()' on how to cite R or R packages in publications.

Type 'demo()' for some demos, 'help()' for on-line help, or
'help.start()' for an HTML browser interface to help.
Type 'q()' to quit R.

> BiocGenerics:::testPackage("cellmigRation")


RUNIT TEST PROTOCOL -- Tue Oct 21 06:22:26 2025 
*********************************************** 
Number of test functions: 7 
Number of errors: 0 
Number of failures: 0 

 
1 Test Suite : 
cellmigRation RUnit Tests - 7 test functions, 0 errors, 0 failures
Number of test functions: 7 
Number of errors: 0 
Number of failures: 0 
> 
> proc.time()
   user  system elapsed 
  4.068   0.285   4.355 

Example timings

cellmigRation.Rcheck/cellmigRation-Ex.timings

nameusersystemelapsed
AddDimension0.0010.0000.001
CellMig-class0.0240.0000.024
CellMigPCA2.5380.0322.578
CellMigPCAclust0.0070.0000.007
CellMigPCAclustALL0.9950.0441.042
CellTracker0.0170.0000.017
CellTrackerMainLoop0.0060.0020.007
CentroidArray0.0180.0000.017
CentroidValidation0.6990.0080.709
ComputeTracksStats0.0230.0020.026
DetectRadii0.0030.0010.004
DiAutoCor2.1040.1112.225
DiRatio0.0240.0000.024
DiRatioPlot0.0440.0040.056
EstimateDiameterRange0.0210.0000.022
FMI0.7520.0200.775
FianlizeOptiParams0.0000.0010.001
FilterTrackedCells0.0010.0020.004
FinRes0.9880.0401.031
ForwardMigration1.5150.0281.548
GenAllCombos0.0040.0000.004
LinearConv20.0240.0040.028
LoadTiff0.0010.0000.001
MSD2.2800.0752.367
MakeHypercube0.0010.0000.001
MigrationStats0.0010.0000.001
NextOdd0.0000.0000.001
NonParallel4OptimizeParams0.0010.0000.001
NonParallelTrackLoop000
OptimizeParams0.0130.0000.013
OptimizeParamsMainLoop0.0070.0000.006
Parallel4OptimizeParams0.0010.0000.001
ParallelTrackLoop0.0010.0000.001
PerAndSpeed0.4010.0200.425
PlotTracksSeparately0.0090.0000.009
PostProcessTracking0.0000.0000.001
Prep4OptimizeParams0.1180.0040.123
ThreeConditions0.0130.0000.013
TrackCellsDataset0.0110.0040.015
TrajectoryDataset0.0170.0000.017
ValidateTrackingArgs0.0000.0000.001
VeAutoCor1.7350.0241.766
VisualizeCntr0.0030.0000.003
VisualizeImg0.0070.0000.006
VisualizeStackCentroids0.0500.0040.053
WSADataset0.0060.0000.006
aggregateFR1.0050.0281.037
aggregateTrackedCells0.0150.0040.019
bpass0.0890.0000.089
circshift0.0000.0000.001
cntrd1.1180.0121.134
fixDA0.0000.0000.001
fixExpName0.0000.0000.001
fixFM1000
fixFM2000
fixFM3000
fixFM40.0000.0000.001
fixFM5000
fixFM6000
fixID10.0010.0000.000
fixMSD0.0010.0000.000
fixPER10.0000.0000.001
fixPER2000
fixPER3000
getAvailableAggrMetrics1.4810.0401.527
getCellImages0.1670.1680.336
getCellMigSlot0.2210.1070.329
getCellTrackMeta0.0140.0000.014
getCellTrackStats0.0170.0000.018
getCellTracks0.0060.0080.014
getCellsMeta0.0100.0040.013
getCellsStats0.0170.0000.017
getDACtable3.0760.0203.107
getDiRatio0.0240.0000.024
getFMItable0.7580.0360.796
getForMigtable0.8810.0080.891
getImageCentroids0.0160.0040.021
getImageStacks0.0500.0040.054
getMSDtable5.6090.0125.640
getOptimizedParameters0.0120.0000.012
getOptimizedParams0.0140.0000.014
getPerAndSpeed0.4080.0240.433
getPopulationStats0.0080.0060.015
getProcessedImages0.1680.1490.318
getProcessingStatus0.0120.0000.012
getResults1.0020.0241.029
getTracks0.0140.0000.014
getVACtable1.7080.0001.713
initializeTrackParams000
innerBondRaster0.0020.0000.002
internalPermutation0.0010.0000.001
matfix0.0010.0000.002
nontrivialBondTracking0.0010.0000.001
pkfnd1.1280.0161.147
plot3DAllTracks0.1020.0240.126
plot3DTracks0.0080.0000.008
plotAllTracks0.0230.0000.023
plotSampleTracks0.0160.0000.016
preProcCellMig0.0070.0000.007
rmPreProcessing0.1260.0080.134
runTrackingPermutation0.0020.0000.002
setAnalyticParams0.0080.0040.013
setCellMigSlot0.0150.0030.018
setCellTracks0.0130.0000.013
setCellsMeta0.0090.0040.013
setExpName0.0180.0000.018
setOptimizedParams0.0480.0040.053
setProcessedImages0.0130.0000.013
setProcessingStatus0.0090.0040.013
setTrackedCellsMeta0.0090.0040.013
setTrackedCentroids0.0090.0040.013
setTrackedPositions0.0120.0000.013
setTrackingStats0.0090.0040.013
sinkAway0.0010.0000.000
subNetworkTracking0.0010.0000.001
track0.0130.0000.012
trackHypercubeBuild0.0010.0000.001
trackSlideProcessing0.0010.0000.001
trackSlideWrapUp0.0010.0000.000
trivialBondRaster0.0020.0000.002
trivialBondTracking0.0010.0000.000
visualizeCellTracks0.0550.0000.055
visualizeTrcks0.0320.0000.032
warnMessage0.0000.0000.001
wsaPreProcessing0.0750.0000.075