Back to Multiple platform build/check report for BioC 3.22:   simplified   long
AB[C]DEFGHIJKLMNOPQRSTUVWXYZ

This page was generated on 2025-10-13 12:05 -0400 (Mon, 13 Oct 2025).

HostnameOSArch (*)R versionInstalled pkgs
nebbiolo2Linux (Ubuntu 24.04.3 LTS)x86_644.5.1 Patched (2025-08-23 r88802) -- "Great Square Root" 4864
lconwaymacOS 12.7.1 Montereyx86_644.5.1 Patched (2025-09-10 r88807) -- "Great Square Root" 4652
kjohnson3macOS 13.7.7 Venturaarm644.5.1 Patched (2025-09-10 r88807) -- "Great Square Root" 4597
taishanLinux (openEuler 24.03 LTS)aarch644.5.0 (2025-04-11) -- "How About a Twenty-Six" 4586
Click on any hostname to see more info about the system (e.g. compilers)      (*) as reported by 'uname -p', except on Windows and Mac OS X

Package 309/2346HostnameOS / ArchINSTALLBUILDCHECKBUILD BIN
cellmigRation 1.17.0  (landing page)
Waldir Leoncio
Snapshot Date: 2025-10-12 13:45 -0400 (Sun, 12 Oct 2025)
git_url: https://git.bioconductor.org/packages/cellmigRation
git_branch: devel
git_last_commit: 2938d5a
git_last_commit_date: 2025-04-15 12:26:19 -0400 (Tue, 15 Apr 2025)
nebbiolo2Linux (Ubuntu 24.04.3 LTS) / x86_64  OK    OK    OK  UNNEEDED, same version is already published
lconwaymacOS 12.7.1 Monterey / x86_64  OK    OK    OK    OK  UNNEEDED, same version is already published
kjohnson3macOS 13.7.7 Ventura / arm64  OK    OK    OK    OK  UNNEEDED, same version is already published
taishanLinux (openEuler 24.03 LTS) / aarch64  OK    OK    OK  


CHECK results for cellmigRation on kjohnson3

To the developers/maintainers of the cellmigRation package:
- Allow up to 24 hours (and sometimes 48 hours) for your latest push to git@git.bioconductor.org:packages/cellmigRation.git to reflect on this report. See Troubleshooting Build Report for more information.
- Use the following Renviron settings to reproduce errors and warnings.
- If 'R CMD check' started to fail recently on the Linux builder(s) over a missing dependency, add the missing dependency to 'Suggests:' in your DESCRIPTION file. See Renviron.bioc for more information.

raw results


Summary

Package: cellmigRation
Version: 1.17.0
Command: /Library/Frameworks/R.framework/Resources/bin/R CMD check --install=check:cellmigRation.install-out.txt --library=/Library/Frameworks/R.framework/Resources/library --no-vignettes --timings cellmigRation_1.17.0.tar.gz
StartedAt: 2025-10-12 18:34:49 -0400 (Sun, 12 Oct 2025)
EndedAt: 2025-10-12 18:35:37 -0400 (Sun, 12 Oct 2025)
EllapsedTime: 48.6 seconds
RetCode: 0
Status:   OK  
CheckDir: cellmigRation.Rcheck
Warnings: 0

Command output

##############################################################################
##############################################################################
###
### Running command:
###
###   /Library/Frameworks/R.framework/Resources/bin/R CMD check --install=check:cellmigRation.install-out.txt --library=/Library/Frameworks/R.framework/Resources/library --no-vignettes --timings cellmigRation_1.17.0.tar.gz
###
##############################################################################
##############################################################################


* using log directory ‘/Users/biocbuild/bbs-3.22-bioc/meat/cellmigRation.Rcheck’
* using R version 4.5.1 Patched (2025-09-10 r88807)
* using platform: aarch64-apple-darwin20
* R was compiled by
    Apple clang version 16.0.0 (clang-1600.0.26.6)
    GNU Fortran (GCC) 14.2.0
* running under: macOS Ventura 13.7.7
* using session charset: UTF-8
* using option ‘--no-vignettes’
* checking for file ‘cellmigRation/DESCRIPTION’ ... OK
* checking extension type ... Package
* this is package ‘cellmigRation’ version ‘1.17.0’
* package encoding: UTF-8
* checking package namespace information ... OK
* checking package dependencies ... OK
* checking if this is a source package ... OK
* checking if there is a namespace ... OK
* checking for hidden files and directories ... OK
* checking for portable file names ... OK
* checking for sufficient/correct file permissions ... OK
* checking whether package ‘cellmigRation’ can be installed ... OK
* checking installed package size ... OK
* checking package directory ... OK
* checking ‘build’ directory ... OK
* checking DESCRIPTION meta-information ... OK
* checking top-level files ... OK
* checking for left-over files ... OK
* checking index information ... OK
* checking package subdirectories ... OK
* checking code files for non-ASCII characters ... OK
* checking R files for syntax errors ... OK
* checking whether the package can be loaded ... OK
* checking whether the package can be loaded with stated dependencies ... OK
* checking whether the package can be unloaded cleanly ... OK
* checking whether the namespace can be loaded with stated dependencies ... OK
* checking whether the namespace can be unloaded cleanly ... OK
* checking dependencies in R code ... OK
* checking S3 generic/method consistency ... OK
* checking replacement functions ... OK
* checking foreign function calls ... OK
* checking R code for possible problems ... OK
* checking Rd files ... OK
* checking Rd metadata ... OK
* checking Rd cross-references ... OK
* checking for missing documentation entries ... OK
* checking for code/documentation mismatches ... OK
* checking Rd \usage sections ... NOTE
Documented arguments not in \usage in Rd file 'fixDA.Rd':
  ‘object’

Documented arguments not in \usage in Rd file 'fixFM1.Rd':
  ‘object’

Documented arguments not in \usage in Rd file 'fixFM2.Rd':
  ‘object’

Documented arguments not in \usage in Rd file 'fixFM3.Rd':
  ‘object’

Documented arguments not in \usage in Rd file 'fixFM4.Rd':
  ‘object’

Documented arguments not in \usage in Rd file 'fixFM5.Rd':
  ‘object’

Documented arguments not in \usage in Rd file 'fixFM6.Rd':
  ‘object’

Documented arguments not in \usage in Rd file 'fixID2.Rd':
  ‘TimeInterval’

Documented arguments not in \usage in Rd file 'fixID3.Rd':
  ‘TimeInterval’

Documented arguments not in \usage in Rd file 'fixID4.Rd':
  ‘TimeInterval’

Documented arguments not in \usage in Rd file 'fixMSD.Rd':
  ‘object’

Documented arguments not in \usage in Rd file 'fixPER1.Rd':
  ‘x’

Documented arguments not in \usage in Rd file 'fixPER2.Rd':
  ‘x’

Documented arguments not in \usage in Rd file 'innerBondRaster.Rd':
  ‘i’

Functions with \usage entries need to have the appropriate \alias
entries, and all their arguments documented.
The \usage entries must correspond to syntactically valid R code.
See chapter ‘Writing R documentation files’ in the ‘Writing R
Extensions’ manual.
* checking Rd contents ... OK
* checking for unstated dependencies in examples ... OK
* checking contents of ‘data’ directory ... OK
* checking data for non-ASCII characters ... OK
* checking data for ASCII and uncompressed saves ... OK
* checking files in ‘vignettes’ ... OK
* checking examples ... OK
* checking for unstated dependencies in ‘tests’ ... OK
* checking tests ...
  Running ‘runTests.R’
 OK
* checking for unstated dependencies in vignettes ... OK
* checking package vignettes ... OK
* checking running R code from vignettes ... SKIPPED
* checking re-building of vignette outputs ... SKIPPED
* checking PDF version of manual ... OK
* DONE

Status: 1 NOTE
See
  ‘/Users/biocbuild/bbs-3.22-bioc/meat/cellmigRation.Rcheck/00check.log’
for details.


Installation output

cellmigRation.Rcheck/00install.out

##############################################################################
##############################################################################
###
### Running command:
###
###   /Library/Frameworks/R.framework/Resources/bin/R CMD INSTALL cellmigRation
###
##############################################################################
##############################################################################


* installing to library ‘/Library/Frameworks/R.framework/Versions/4.5-arm64/Resources/library’
* installing *source* package ‘cellmigRation’ ...
** this is package ‘cellmigRation’ version ‘1.17.0’
** using staged installation
** R
** data
** inst
** byte-compile and prepare package for lazy loading
** help
*** installing help indices
** building package indices
** installing vignettes
** testing if installed package can be loaded from temporary location
** testing if installed package can be loaded from final location
** testing if installed package keeps a record of temporary installation path
* DONE (cellmigRation)

Tests output

cellmigRation.Rcheck/tests/runTests.Rout


R version 4.5.1 Patched (2025-09-10 r88807) -- "Great Square Root"
Copyright (C) 2025 The R Foundation for Statistical Computing
Platform: aarch64-apple-darwin20

R is free software and comes with ABSOLUTELY NO WARRANTY.
You are welcome to redistribute it under certain conditions.
Type 'license()' or 'licence()' for distribution details.

R is a collaborative project with many contributors.
Type 'contributors()' for more information and
'citation()' on how to cite R or R packages in publications.

Type 'demo()' for some demos, 'help()' for on-line help, or
'help.start()' for an HTML browser interface to help.
Type 'q()' to quit R.

> BiocGenerics:::testPackage("cellmigRation")


RUNIT TEST PROTOCOL -- Sun Oct 12 18:35:33 2025 
*********************************************** 
Number of test functions: 7 
Number of errors: 0 
Number of failures: 0 

 
1 Test Suite : 
cellmigRation RUnit Tests - 7 test functions, 0 errors, 0 failures
Number of test functions: 7 
Number of errors: 0 
Number of failures: 0 
> 
> proc.time()
   user  system elapsed 
  1.220   0.113   1.336 

Example timings

cellmigRation.Rcheck/cellmigRation-Ex.timings

nameusersystemelapsed
AddDimension0.0010.0010.001
CellMig-class0.0130.0010.013
CellMigPCA0.6150.0180.637
CellMigPCAclust0.0030.0000.004
CellMigPCAclustALL0.2090.0030.215
CellTracker0.0080.0010.008
CellTrackerMainLoop0.0030.0060.012
CentroidArray0.0070.0010.008
CentroidValidation0.1570.0050.174
ComputeTracksStats0.0090.0010.010
DetectRadii0.0010.0000.000
DiAutoCor0.4290.0110.448
DiRatio0.0070.0010.007
DiRatioPlot0.0120.0050.017
EstimateDiameterRange0.0050.0010.005
FMI0.1530.0020.158
FianlizeOptiParams0.0010.0000.001
FilterTrackedCells0.0000.0010.001
FinRes0.2030.0050.209
ForwardMigration0.3030.0040.306
GenAllCombos0.0010.0000.001
LinearConv20.0060.0000.007
LoadTiff000
MSD0.4530.0060.463
MakeHypercube0.0010.0010.001
MigrationStats000
NextOdd000
NonParallel4OptimizeParams000
NonParallelTrackLoop0.0000.0010.000
OptimizeParams0.0070.0000.007
OptimizeParamsMainLoop0.0010.0030.006
Parallel4OptimizeParams0.0010.0000.000
ParallelTrackLoop0.0000.0000.001
PerAndSpeed0.0900.0090.104
PlotTracksSeparately0.0040.0010.005
PostProcessTracking000
Prep4OptimizeParams0.0300.0010.034
ThreeConditions0.0040.0010.006
TrackCellsDataset0.0070.0010.008
TrajectoryDataset0.0150.0030.020
ValidateTrackingArgs000
VeAutoCor0.3580.0100.369
VisualizeCntr0.0010.0010.001
VisualizeImg0.0010.0000.001
VisualizeStackCentroids0.0200.0030.022
WSADataset0.0030.0010.004
aggregateFR0.2020.0020.205
aggregateTrackedCells0.0090.0020.010
bpass0.0310.0010.032
circshift0.0010.0000.001
cntrd0.2300.0070.239
fixDA000
fixExpName0.0000.0010.000
fixFM1000
fixFM2000
fixFM30.0000.0000.001
fixFM40.0000.0010.000
fixFM5000
fixFM6000
fixID1000
fixMSD0.0000.0010.000
fixPER1000
fixPER2000
fixPER30.0000.0000.001
getAvailableAggrMetrics0.2970.0040.303
getCellImages0.0800.2380.322
getCellMigSlot0.1220.1660.290
getCellTrackMeta0.0070.0010.008
getCellTrackStats0.0080.0010.009
getCellTracks0.0060.0010.008
getCellsMeta0.0070.0010.008
getCellsStats0.0070.0000.008
getDACtable0.6230.0090.635
getDiRatio0.0060.0010.008
getFMItable0.1530.0020.155
getForMigtable0.1800.0030.182
getImageCentroids0.0080.0010.009
getImageStacks0.0200.0030.022
getMSDtable1.1910.0171.209
getOptimizedParameters0.0070.0010.008
getOptimizedParams0.0070.0020.008
getPerAndSpeed0.0840.0070.091
getPopulationStats0.0060.0010.007
getProcessedImages0.0760.2480.327
getProcessingStatus0.0070.0010.007
getResults0.2010.0060.206
getTracks0.0070.0010.008
getVACtable0.3410.0050.347
initializeTrackParams000
innerBondRaster000
internalPermutation0.0000.0000.001
matfix000
nontrivialBondTracking000
pkfnd0.2220.0070.229
plot3DAllTracks000
plot3DTracks000
plotAllTracks0.0070.0010.008
plotSampleTracks0.0050.0010.007
preProcCellMig0.0030.0010.004
rmPreProcessing0.0360.0010.038
runTrackingPermutation0.0010.0000.001
setAnalyticParams0.0060.0000.007
setCellMigSlot0.0110.0000.011
setCellTracks0.0060.0000.007
setCellsMeta0.0070.0010.008
setExpName0.0110.0000.011
setOptimizedParams0.0060.0010.007
setProcessedImages0.0060.0010.008
setProcessingStatus0.0070.0010.007
setTrackedCellsMeta0.0060.0010.007
setTrackedCentroids0.0060.0010.007
setTrackedPositions0.0070.0010.007
setTrackingStats0.0060.0010.007
sinkAway000
subNetworkTracking0.0000.0000.001
track0.0130.0050.018
trackHypercubeBuild000
trackSlideProcessing0.0010.0000.000
trackSlideWrapUp000
trivialBondRaster0.0000.0000.001
trivialBondTracking000
visualizeCellTracks0.0200.0020.024
visualizeTrcks0.0150.0000.016
warnMessage000
wsaPreProcessing0.0170.0010.018