| Back to Multiple platform build/check report for BioC 3.22: simplified long |
|
This page was generated on 2025-10-28 12:02 -0400 (Tue, 28 Oct 2025).
| Hostname | OS | Arch (*) | R version | Installed pkgs |
|---|---|---|---|---|
| nebbiolo2 | Linux (Ubuntu 24.04.3 LTS) | x86_64 | 4.5.1 Patched (2025-08-23 r88802) -- "Great Square Root" | 4901 |
| lconway | macOS 12.7.6 Monterey | x86_64 | 4.5.1 Patched (2025-09-10 r88807) -- "Great Square Root" | 4691 |
| kjohnson3 | macOS 13.7.7 Ventura | arm64 | 4.5.1 Patched (2025-09-10 r88807) -- "Great Square Root" | 4637 |
| Click on any hostname to see more info about the system (e.g. compilers) (*) as reported by 'uname -p', except on Windows and Mac OS X | ||||
| Package 313/2361 | Hostname | OS / Arch | INSTALL | BUILD | CHECK | BUILD BIN | ||||||||
| cellmigRation 1.17.0 (landing page) Waldir Leoncio
| nebbiolo2 | Linux (Ubuntu 24.04.3 LTS) / x86_64 | OK | OK | OK | |||||||||
| lconway | macOS 12.7.6 Monterey / x86_64 | OK | OK | OK | OK | |||||||||
| kjohnson3 | macOS 13.7.7 Ventura / arm64 | OK | OK | OK | OK | |||||||||
|
To the developers/maintainers of the cellmigRation package: - Allow up to 24 hours (and sometimes 48 hours) for your latest push to git@git.bioconductor.org:packages/cellmigRation.git to reflect on this report. See Troubleshooting Build Report for more information. - Use the following Renviron settings to reproduce errors and warnings. - If 'R CMD check' started to fail recently on the Linux builder(s) over a missing dependency, add the missing dependency to 'Suggests:' in your DESCRIPTION file. See Renviron.bioc for more information. |
| Package: cellmigRation |
| Version: 1.17.0 |
| Command: /home/biocbuild/bbs-3.22-bioc/R/bin/R CMD check --install=check:cellmigRation.install-out.txt --library=/home/biocbuild/bbs-3.22-bioc/R/site-library --timings cellmigRation_1.17.0.tar.gz |
| StartedAt: 2025-10-27 21:52:57 -0400 (Mon, 27 Oct 2025) |
| EndedAt: 2025-10-27 21:56:53 -0400 (Mon, 27 Oct 2025) |
| EllapsedTime: 236.2 seconds |
| RetCode: 0 |
| Status: OK |
| CheckDir: cellmigRation.Rcheck |
| Warnings: 0 |
##############################################################################
##############################################################################
###
### Running command:
###
### /home/biocbuild/bbs-3.22-bioc/R/bin/R CMD check --install=check:cellmigRation.install-out.txt --library=/home/biocbuild/bbs-3.22-bioc/R/site-library --timings cellmigRation_1.17.0.tar.gz
###
##############################################################################
##############################################################################
* using log directory ‘/home/biocbuild/bbs-3.22-bioc/meat/cellmigRation.Rcheck’
* using R version 4.5.1 Patched (2025-08-23 r88802)
* using platform: x86_64-pc-linux-gnu
* R was compiled by
gcc (Ubuntu 13.3.0-6ubuntu2~24.04) 13.3.0
GNU Fortran (Ubuntu 13.3.0-6ubuntu2~24.04) 13.3.0
* running under: Ubuntu 24.04.3 LTS
* using session charset: UTF-8
* checking for file ‘cellmigRation/DESCRIPTION’ ... OK
* checking extension type ... Package
* this is package ‘cellmigRation’ version ‘1.17.0’
* package encoding: UTF-8
* checking package namespace information ... OK
* checking package dependencies ... OK
* checking if this is a source package ... OK
* checking if there is a namespace ... OK
* checking for hidden files and directories ... OK
* checking for portable file names ... OK
* checking for sufficient/correct file permissions ... OK
* checking whether package ‘cellmigRation’ can be installed ... OK
* checking installed package size ... OK
* checking package directory ... OK
* checking ‘build’ directory ... OK
* checking DESCRIPTION meta-information ... OK
* checking top-level files ... OK
* checking for left-over files ... OK
* checking index information ... OK
* checking package subdirectories ... OK
* checking code files for non-ASCII characters ... OK
* checking R files for syntax errors ... OK
* checking whether the package can be loaded ... OK
* checking whether the package can be loaded with stated dependencies ... OK
* checking whether the package can be unloaded cleanly ... OK
* checking whether the namespace can be loaded with stated dependencies ... OK
* checking whether the namespace can be unloaded cleanly ... OK
* checking loading without being on the library search path ... OK
* checking dependencies in R code ... OK
* checking S3 generic/method consistency ... OK
* checking replacement functions ... OK
* checking foreign function calls ... OK
* checking R code for possible problems ... OK
* checking Rd files ... OK
* checking Rd metadata ... OK
* checking Rd cross-references ... OK
* checking for missing documentation entries ... OK
* checking for code/documentation mismatches ... OK
* checking Rd \usage sections ... NOTE
Documented arguments not in \usage in Rd file 'fixDA.Rd':
‘object’
Documented arguments not in \usage in Rd file 'fixFM1.Rd':
‘object’
Documented arguments not in \usage in Rd file 'fixFM2.Rd':
‘object’
Documented arguments not in \usage in Rd file 'fixFM3.Rd':
‘object’
Documented arguments not in \usage in Rd file 'fixFM4.Rd':
‘object’
Documented arguments not in \usage in Rd file 'fixFM5.Rd':
‘object’
Documented arguments not in \usage in Rd file 'fixFM6.Rd':
‘object’
Documented arguments not in \usage in Rd file 'fixID2.Rd':
‘TimeInterval’
Documented arguments not in \usage in Rd file 'fixID3.Rd':
‘TimeInterval’
Documented arguments not in \usage in Rd file 'fixID4.Rd':
‘TimeInterval’
Documented arguments not in \usage in Rd file 'fixMSD.Rd':
‘object’
Documented arguments not in \usage in Rd file 'fixPER1.Rd':
‘x’
Documented arguments not in \usage in Rd file 'fixPER2.Rd':
‘x’
Documented arguments not in \usage in Rd file 'innerBondRaster.Rd':
‘i’
Functions with \usage entries need to have the appropriate \alias
entries, and all their arguments documented.
The \usage entries must correspond to syntactically valid R code.
See chapter ‘Writing R documentation files’ in the ‘Writing R
Extensions’ manual.
* checking Rd contents ... OK
* checking for unstated dependencies in examples ... OK
* checking contents of ‘data’ directory ... OK
* checking data for non-ASCII characters ... OK
* checking data for ASCII and uncompressed saves ... OK
* checking files in ‘vignettes’ ... OK
* checking examples ... OK
* checking for unstated dependencies in ‘tests’ ... OK
* checking tests ...
Running ‘runTests.R’
OK
* checking for unstated dependencies in vignettes ... OK
* checking package vignettes ... OK
* checking re-building of vignette outputs ... OK
* checking PDF version of manual ... OK
* DONE
Status: 1 NOTE
See
‘/home/biocbuild/bbs-3.22-bioc/meat/cellmigRation.Rcheck/00check.log’
for details.
cellmigRation.Rcheck/00install.out
############################################################################## ############################################################################## ### ### Running command: ### ### /home/biocbuild/bbs-3.22-bioc/R/bin/R CMD INSTALL cellmigRation ### ############################################################################## ############################################################################## * installing to library ‘/home/biocbuild/bbs-3.22-bioc/R/site-library’ * installing *source* package ‘cellmigRation’ ... ** this is package ‘cellmigRation’ version ‘1.17.0’ ** using staged installation ** R ** data ** inst ** byte-compile and prepare package for lazy loading ** help *** installing help indices ** building package indices ** installing vignettes ** testing if installed package can be loaded from temporary location ** testing if installed package can be loaded from final location ** testing if installed package keeps a record of temporary installation path * DONE (cellmigRation)
cellmigRation.Rcheck/tests/runTests.Rout
R version 4.5.1 Patched (2025-08-23 r88802) -- "Great Square Root"
Copyright (C) 2025 The R Foundation for Statistical Computing
Platform: x86_64-pc-linux-gnu
R is free software and comes with ABSOLUTELY NO WARRANTY.
You are welcome to redistribute it under certain conditions.
Type 'license()' or 'licence()' for distribution details.
R is a collaborative project with many contributors.
Type 'contributors()' for more information and
'citation()' on how to cite R or R packages in publications.
Type 'demo()' for some demos, 'help()' for on-line help, or
'help.start()' for an HTML browser interface to help.
Type 'q()' to quit R.
> BiocGenerics:::testPackage("cellmigRation")
RUNIT TEST PROTOCOL -- Mon Oct 27 21:54:48 2025
***********************************************
Number of test functions: 7
Number of errors: 0
Number of failures: 0
1 Test Suite :
cellmigRation RUnit Tests - 7 test functions, 0 errors, 0 failures
Number of test functions: 7
Number of errors: 0
Number of failures: 0
>
> proc.time()
user system elapsed
3.064 0.246 3.299
cellmigRation.Rcheck/cellmigRation-Ex.timings
| name | user | system | elapsed | |
| AddDimension | 0.001 | 0.000 | 0.002 | |
| CellMig-class | 0.027 | 0.000 | 0.027 | |
| CellMigPCA | 1.758 | 0.003 | 1.761 | |
| CellMigPCAclust | 0.007 | 0.000 | 0.008 | |
| CellMigPCAclustALL | 0.595 | 0.049 | 0.645 | |
| CellTracker | 0.016 | 0.003 | 0.020 | |
| CellTrackerMainLoop | 0.004 | 0.006 | 0.007 | |
| CentroidArray | 0.019 | 0.001 | 0.020 | |
| CentroidValidation | 0.438 | 0.010 | 0.447 | |
| ComputeTracksStats | 0.024 | 0.002 | 0.025 | |
| DetectRadii | 0.002 | 0.000 | 0.002 | |
| DiAutoCor | 1.225 | 0.038 | 1.262 | |
| DiRatio | 0.016 | 0.001 | 0.016 | |
| DiRatioPlot | 0.036 | 0.000 | 0.037 | |
| EstimateDiameterRange | 0.016 | 0.000 | 0.016 | |
| FMI | 0.456 | 0.002 | 0.458 | |
| FianlizeOptiParams | 0 | 0 | 0 | |
| FilterTrackedCells | 0.002 | 0.000 | 0.002 | |
| FinRes | 0.648 | 0.033 | 0.682 | |
| ForwardMigration | 0.926 | 0.266 | 1.194 | |
| GenAllCombos | 0.003 | 0.001 | 0.003 | |
| LinearConv2 | 0.019 | 0.004 | 0.022 | |
| LoadTiff | 0.001 | 0.000 | 0.001 | |
| MSD | 1.494 | 0.061 | 1.557 | |
| MakeHypercube | 0.002 | 0.000 | 0.001 | |
| MigrationStats | 0.001 | 0.000 | 0.001 | |
| NextOdd | 0.001 | 0.000 | 0.000 | |
| NonParallel4OptimizeParams | 0.001 | 0.000 | 0.001 | |
| NonParallelTrackLoop | 0 | 0 | 0 | |
| OptimizeParams | 0.015 | 0.002 | 0.017 | |
| OptimizeParamsMainLoop | 0.002 | 0.007 | 0.007 | |
| Parallel4OptimizeParams | 0.001 | 0.000 | 0.001 | |
| ParallelTrackLoop | 0.001 | 0.000 | 0.001 | |
| PerAndSpeed | 0.296 | 0.117 | 0.414 | |
| PlotTracksSeparately | 0.009 | 0.002 | 0.012 | |
| PostProcessTracking | 0 | 0 | 0 | |
| Prep4OptimizeParams | 0.085 | 0.043 | 0.128 | |
| ThreeConditions | 0.008 | 0.005 | 0.014 | |
| TrackCellsDataset | 0.015 | 0.002 | 0.017 | |
| TrajectoryDataset | 0.020 | 0.002 | 0.022 | |
| ValidateTrackingArgs | 0.000 | 0.001 | 0.000 | |
| VeAutoCor | 1.049 | 0.163 | 1.212 | |
| VisualizeCntr | 0.001 | 0.001 | 0.002 | |
| VisualizeImg | 0.002 | 0.003 | 0.005 | |
| VisualizeStackCentroids | 0.049 | 0.012 | 0.062 | |
| WSADataset | 0.006 | 0.001 | 0.007 | |
| aggregateFR | 0.586 | 0.003 | 0.590 | |
| aggregateTrackedCells | 0.017 | 0.004 | 0.021 | |
| bpass | 0.058 | 0.001 | 0.059 | |
| circshift | 0 | 0 | 0 | |
| cntrd | 0.692 | 0.032 | 0.724 | |
| fixDA | 0 | 0 | 0 | |
| fixExpName | 0.000 | 0.000 | 0.001 | |
| fixFM1 | 0 | 0 | 0 | |
| fixFM2 | 0 | 0 | 0 | |
| fixFM3 | 0 | 0 | 0 | |
| fixFM4 | 0.001 | 0.000 | 0.000 | |
| fixFM5 | 0 | 0 | 0 | |
| fixFM6 | 0.001 | 0.000 | 0.000 | |
| fixID1 | 0.000 | 0.000 | 0.001 | |
| fixMSD | 0 | 0 | 0 | |
| fixPER1 | 0.001 | 0.000 | 0.000 | |
| fixPER2 | 0 | 0 | 0 | |
| fixPER3 | 0.000 | 0.001 | 0.000 | |
| getAvailableAggrMetrics | 0.884 | 0.029 | 0.912 | |
| getCellImages | 0.148 | 0.116 | 0.264 | |
| getCellMigSlot | 0.218 | 0.073 | 0.293 | |
| getCellTrackMeta | 0.014 | 0.004 | 0.017 | |
| getCellTrackStats | 0.018 | 0.003 | 0.021 | |
| getCellTracks | 0.014 | 0.004 | 0.018 | |
| getCellsMeta | 0.013 | 0.005 | 0.018 | |
| getCellsStats | 0.015 | 0.005 | 0.019 | |
| getDACtable | 1.797 | 0.022 | 1.819 | |
| getDiRatio | 0.018 | 0.000 | 0.018 | |
| getFMItable | 0.454 | 0.059 | 0.513 | |
| getForMigtable | 0.525 | 0.001 | 0.526 | |
| getImageCentroids | 0.020 | 0.002 | 0.022 | |
| getImageStacks | 0.054 | 0.004 | 0.058 | |
| getMSDtable | 3.407 | 0.024 | 3.432 | |
| getOptimizedParameters | 0.016 | 0.001 | 0.017 | |
| getOptimizedParams | 0.017 | 0.000 | 0.018 | |
| getPerAndSpeed | 0.269 | 0.030 | 0.300 | |
| getPopulationStats | 0.016 | 0.002 | 0.018 | |
| getProcessedImages | 0.130 | 0.108 | 0.239 | |
| getProcessingStatus | 0.014 | 0.003 | 0.017 | |
| getResults | 0.601 | 0.007 | 0.608 | |
| getTracks | 0.015 | 0.002 | 0.018 | |
| getVACtable | 1.019 | 0.023 | 1.043 | |
| initializeTrackParams | 0 | 0 | 0 | |
| innerBondRaster | 0.002 | 0.000 | 0.001 | |
| internalPermutation | 0.001 | 0.000 | 0.001 | |
| matfix | 0.001 | 0.000 | 0.001 | |
| nontrivialBondTracking | 0.000 | 0.000 | 0.001 | |
| pkfnd | 0.667 | 0.005 | 0.672 | |
| plot3DAllTracks | 0.071 | 0.030 | 0.101 | |
| plot3DTracks | 0.009 | 0.000 | 0.008 | |
| plotAllTracks | 0.018 | 0.000 | 0.018 | |
| plotSampleTracks | 0.014 | 0.001 | 0.015 | |
| preProcCellMig | 0.008 | 0.000 | 0.007 | |
| rmPreProcessing | 0.085 | 0.000 | 0.085 | |
| runTrackingPermutation | 0.002 | 0.000 | 0.001 | |
| setAnalyticParams | 0.014 | 0.003 | 0.017 | |
| setCellMigSlot | 0.019 | 0.004 | 0.023 | |
| setCellTracks | 0.016 | 0.002 | 0.018 | |
| setCellsMeta | 0.015 | 0.003 | 0.018 | |
| setExpName | 0.023 | 0.000 | 0.023 | |
| setOptimizedParams | 0.047 | 0.002 | 0.050 | |
| setProcessedImages | 0.017 | 0.000 | 0.017 | |
| setProcessingStatus | 0.014 | 0.003 | 0.016 | |
| setTrackedCellsMeta | 0.014 | 0.003 | 0.017 | |
| setTrackedCentroids | 0.015 | 0.002 | 0.017 | |
| setTrackedPositions | 0.014 | 0.003 | 0.016 | |
| setTrackingStats | 0.016 | 0.001 | 0.017 | |
| sinkAway | 0.001 | 0.000 | 0.001 | |
| subNetworkTracking | 0.001 | 0.000 | 0.001 | |
| track | 0.009 | 0.000 | 0.009 | |
| trackHypercubeBuild | 0.001 | 0.000 | 0.001 | |
| trackSlideProcessing | 0.001 | 0.000 | 0.001 | |
| trackSlideWrapUp | 0.001 | 0.000 | 0.000 | |
| trivialBondRaster | 0.002 | 0.000 | 0.001 | |
| trivialBondTracking | 0 | 0 | 0 | |
| visualizeCellTracks | 0.06 | 0.00 | 0.06 | |
| visualizeTrcks | 0.025 | 0.000 | 0.025 | |
| warnMessage | 0 | 0 | 0 | |
| wsaPreProcessing | 0.048 | 0.001 | 0.049 | |