Back to Multiple platform build/check report for BioC 3.22:   simplified   long
A[B]CDEFGHIJKLMNOPQRSTUVWXYZ

This page was generated on 2025-10-13 12:04 -0400 (Mon, 13 Oct 2025).

HostnameOSArch (*)R versionInstalled pkgs
nebbiolo2Linux (Ubuntu 24.04.3 LTS)x86_644.5.1 Patched (2025-08-23 r88802) -- "Great Square Root" 4864
lconwaymacOS 12.7.1 Montereyx86_644.5.1 Patched (2025-09-10 r88807) -- "Great Square Root" 4652
kjohnson3macOS 13.7.7 Venturaarm644.5.1 Patched (2025-09-10 r88807) -- "Great Square Root" 4597
taishanLinux (openEuler 24.03 LTS)aarch644.5.0 (2025-04-11) -- "How About a Twenty-Six" 4586
Click on any hostname to see more info about the system (e.g. compilers)      (*) as reported by 'uname -p', except on Windows and Mac OS X

Package 163/2346HostnameOS / ArchINSTALLBUILDCHECKBUILD BIN
benchdamic 1.15.4  (landing page)
Matteo Calgaro
Snapshot Date: 2025-10-12 13:45 -0400 (Sun, 12 Oct 2025)
git_url: https://git.bioconductor.org/packages/benchdamic
git_branch: devel
git_last_commit: 7c5727b
git_last_commit_date: 2025-10-09 09:40:05 -0400 (Thu, 09 Oct 2025)
nebbiolo2Linux (Ubuntu 24.04.3 LTS) / x86_64  OK    OK    TIMEOUT  
lconwaymacOS 12.7.1 Monterey / x86_64  OK    OK    OK    OK  NO, package depends on 'MAST' which is not available
kjohnson3macOS 13.7.7 Ventura / arm64  OK    OK    OK    OK  NO, package depends on 'MAST' which is not available
taishanLinux (openEuler 24.03 LTS) / aarch64  OK    OK    TIMEOUT  


CHECK results for benchdamic on lconway

To the developers/maintainers of the benchdamic package:
- Allow up to 24 hours (and sometimes 48 hours) for your latest push to git@git.bioconductor.org:packages/benchdamic.git to reflect on this report. See Troubleshooting Build Report for more information.
- Use the following Renviron settings to reproduce errors and warnings.
- If 'R CMD check' started to fail recently on the Linux builder(s) over a missing dependency, add the missing dependency to 'Suggests:' in your DESCRIPTION file. See Renviron.bioc for more information.

raw results


Summary

Package: benchdamic
Version: 1.15.4
Command: /Library/Frameworks/R.framework/Resources/bin/R CMD check --install=check:benchdamic.install-out.txt --library=/Library/Frameworks/R.framework/Resources/library --no-vignettes --timings benchdamic_1.15.4.tar.gz
StartedAt: 2025-10-12 20:10:26 -0400 (Sun, 12 Oct 2025)
EndedAt: 2025-10-12 20:26:01 -0400 (Sun, 12 Oct 2025)
EllapsedTime: 935.1 seconds
RetCode: 0
Status:   OK  
CheckDir: benchdamic.Rcheck
Warnings: 0

Command output

##############################################################################
##############################################################################
###
### Running command:
###
###   /Library/Frameworks/R.framework/Resources/bin/R CMD check --install=check:benchdamic.install-out.txt --library=/Library/Frameworks/R.framework/Resources/library --no-vignettes --timings benchdamic_1.15.4.tar.gz
###
##############################################################################
##############################################################################


* using log directory ‘/Users/biocbuild/bbs-3.22-bioc/meat/benchdamic.Rcheck’
* using R version 4.5.1 Patched (2025-09-10 r88807)
* using platform: x86_64-apple-darwin20
* R was compiled by
    Apple clang version 14.0.0 (clang-1400.0.29.202)
    GNU Fortran (GCC) 14.2.0
* running under: macOS Monterey 12.7.6
* using session charset: UTF-8
* using option ‘--no-vignettes’
* checking for file ‘benchdamic/DESCRIPTION’ ... OK
* checking extension type ... Package
* this is package ‘benchdamic’ version ‘1.15.4’
* package encoding: UTF-8
* checking package namespace information ... OK
* checking package dependencies ... INFO
Imports includes 32 non-default packages.
Importing from so many packages makes the package vulnerable to any of
them becoming unavailable.  Move as many as possible to Suggests and
use conditionally.
* checking if this is a source package ... OK
* checking if there is a namespace ... OK
* checking for hidden files and directories ... OK
* checking for portable file names ... OK
* checking for sufficient/correct file permissions ... OK
* checking whether package ‘benchdamic’ can be installed ... OK
* checking installed package size ... OK
* checking package directory ... OK
* checking ‘build’ directory ... OK
* checking DESCRIPTION meta-information ... OK
* checking top-level files ... OK
* checking for left-over files ... OK
* checking index information ... OK
* checking package subdirectories ... OK
* checking code files for non-ASCII characters ... OK
* checking R files for syntax errors ... OK
* checking whether the package can be loaded ... OK
* checking whether the package can be loaded with stated dependencies ... OK
* checking whether the package can be unloaded cleanly ... OK
* checking whether the namespace can be loaded with stated dependencies ... OK
* checking whether the namespace can be unloaded cleanly ... OK
* checking dependencies in R code ... NOTE
Namespace in Imports field not imported from: ‘microbiome’
  All declared Imports should be used.
* checking S3 generic/method consistency ... OK
* checking replacement functions ... OK
* checking foreign function calls ... OK
* checking R code for possible problems ... OK
* checking Rd files ... OK
* checking Rd metadata ... OK
* checking Rd cross-references ... NOTE
Non-topic package-anchored link(s) in Rd file 'norm_DESeq2.Rd':
  ‘[DESeq2]{estimateSizeFactors}’

See section 'Cross-references' in the 'Writing R Extensions' manual.
* checking for missing documentation entries ... OK
* checking for code/documentation mismatches ... OK
* checking Rd \usage sections ... OK
* checking Rd contents ... OK
* checking for unstated dependencies in examples ... OK
* checking contents of ‘data’ directory ... OK
* checking data for non-ASCII characters ... OK
* checking LazyData ... OK
* checking data for ASCII and uncompressed saves ... OK
* checking files in ‘vignettes’ ... OK
* checking examples ... OK
Examples with CPU (user + system) or elapsed time > 5s
                   user system elapsed
DA_ALDEx2         5.398  1.071   6.543
createConcordance 6.124  0.114   6.319
plotConcordance   5.769  0.141  12.244
areaCAT           5.204  0.120   5.581
runSplits         4.132  0.681  11.172
createTIEC        4.592  0.073   6.779
plotMD            3.226  0.385  17.006
plotQQ            2.594  0.082   5.604
plotRMSE          2.258  0.099   7.294
* checking for unstated dependencies in ‘tests’ ... OK
* checking tests ...
  Running ‘testthat.R’
 OK
* checking for unstated dependencies in vignettes ... OK
* checking package vignettes ... OK
* checking running R code from vignettes ... SKIPPED
* checking re-building of vignette outputs ... SKIPPED
* checking PDF version of manual ... OK
* DONE

Status: 2 NOTEs
See
  ‘/Users/biocbuild/bbs-3.22-bioc/meat/benchdamic.Rcheck/00check.log’
for details.


Installation output

benchdamic.Rcheck/00install.out

##############################################################################
##############################################################################
###
### Running command:
###
###   /Library/Frameworks/R.framework/Resources/bin/R CMD INSTALL benchdamic
###
##############################################################################
##############################################################################


* installing to library ‘/Library/Frameworks/R.framework/Versions/4.5-x86_64/Resources/library’
* installing *source* package ‘benchdamic’ ...
** this is package ‘benchdamic’ version ‘1.15.4’
** using staged installation
** R
** data
*** moving datasets to lazyload DB
** inst
** byte-compile and prepare package for lazy loading
Found more than one class "dist" in cache; using the first, from namespace 'BiocGenerics'
Also defined by ‘spam’
** help
*** installing help indices
** building package indices
** installing vignettes
** testing if installed package can be loaded from temporary location
Found more than one class "dist" in cache; using the first, from namespace 'BiocGenerics'
Also defined by ‘spam’
** testing if installed package can be loaded from final location
Found more than one class "dist" in cache; using the first, from namespace 'BiocGenerics'
Also defined by ‘spam’
** testing if installed package keeps a record of temporary installation path
* DONE (benchdamic)

Tests output

benchdamic.Rcheck/tests/testthat.Rout


R version 4.5.1 Patched (2025-09-10 r88807) -- "Great Square Root"
Copyright (C) 2025 The R Foundation for Statistical Computing
Platform: x86_64-apple-darwin20

R is free software and comes with ABSOLUTELY NO WARRANTY.
You are welcome to redistribute it under certain conditions.
Type 'license()' or 'licence()' for distribution details.

R is a collaborative project with many contributors.
Type 'contributors()' for more information and
'citation()' on how to cite R or R packages in publications.

Type 'demo()' for some demos, 'help()' for on-line help, or
'help.start()' for an HTML browser interface to help.
Type 'q()' to quit R.

> library(testthat)
> library(benchdamic)
Found more than one class "dist" in cache; using the first, from namespace 'BiocGenerics'
Also defined by 'spam'
> 
> test_check("benchdamic")
|------------(25%)----------(50%)----------(75%)----------|
|------------(25%)----------(50%)----------(75%)----------|
|------------(25%)----------(50%)----------(75%)----------|
|------------(25%)----------(50%)----------(75%)----------|
|------------(25%)----------(50%)----------(75%)----------|
[ FAIL 0 | WARN 2 | SKIP 0 | PASS 334 ]

[ FAIL 0 | WARN 2 | SKIP 0 | PASS 334 ]
> 
> proc.time()
   user  system elapsed 
 76.726  11.925 252.897 

Example timings

benchdamic.Rcheck/benchdamic-Ex.timings

nameusersystemelapsed
CAT0.0050.0010.005
DA_ALDEx25.3981.0716.543
DA_ANCOM0.9630.0220.996
DA_DESeq23.6640.0403.737
DA_MAST1.6400.0411.699
DA_Maaslin20.3430.0620.466
DA_NOISeq1.4870.0171.522
DA_Seurat2.2720.0472.356
DA_ZicoSeq0.7950.0960.903
DA_basic0.0390.0070.047
DA_corncob0.8170.1371.012
DA_dearseq0.0720.0040.079
DA_edgeR0.2190.0100.232
DA_limma0.0930.0050.104
DA_linda0.0580.0040.065
DA_maaslin30.6240.0250.672
DA_metagenomeSeq0.3170.0130.343
DA_mixMC0.8300.0240.880
RMSE0.0000.0000.002
addKnowledge0.2240.0130.243
areaCAT5.2040.1205.581
checkNormalization000
createColors0.0040.0000.005
createConcordance6.1240.1146.319
createEnrichment0.2930.0070.303
createMocks0.0030.0010.005
createPositives1.1750.0201.247
createSplits0.0380.0020.041
createTIEC4.5920.0736.779
enrichmentTest0.1710.0060.354
extractDA0.2700.0050.549
extractStatistics0.2770.0050.508
fitDM0.0440.0020.081
fitHURDLE1.1200.0081.876
fitModels2.2880.0594.358
fitNB0.0390.0010.051
fitZIG0.0400.0010.040
fitZINB0.3510.0040.369
getDA0.1010.0110.154
getPositives0.1150.0060.225
getStatistics0.1070.0070.224
get_counts_metadata0.1790.0050.326
iterative_ordering0.0120.0010.022
meanDifferences0.0020.0000.003
norm_CSS0.1120.0020.182
norm_DESeq20.6670.0051.129
norm_TSS0.0570.0010.100
norm_edgeR0.0670.0020.117
plotConcordance 5.769 0.14112.244
plotContingency1.9000.1024.272
plotEnrichment1.5640.0411.655
plotFDR2.2690.0694.083
plotFPR2.8250.0684.309
plotKS2.4740.0594.222
plotLogP1.9720.0352.596
plotMD 3.226 0.38517.006
plotMutualFindings1.2630.0222.200
plotPositives0.7090.0121.011
plotQQ2.5940.0825.604
plotRMSE2.2580.0997.294
prepareObserved0.0010.0000.002
runDA0.4620.0471.684
runMocks1.1220.0411.818
runNormalizations0.4870.0090.584
runSplits 4.132 0.68111.172
setNormalizations0.0000.0000.001
set_ALDEx20.0070.0010.009
set_ANCOM0.0090.0030.020
set_DESeq20.0100.0010.011
set_MAST0.0040.0010.004
set_Maaslin20.0060.0010.007
set_NOISeq0.0030.0010.004
set_Seurat0.0080.0000.009
set_ZicoSeq0.010.000.01
set_basic0.0020.0000.002
set_corncob0.0030.0000.004
set_dearseq0.0020.0010.003
set_edgeR0.0090.0010.011
set_limma0.0070.0000.008
set_linda0.0050.0010.006
set_maaslin30.0060.0020.012
set_metagenomeSeq0.0040.0000.005
set_mixMC0.0020.0000.004
weights_ZINB0.4360.0090.472