| Back to Build/check report for BioC 3.23: simplified long |
|
This page was generated on 2025-10-31 08:34 -0400 (Fri, 31 Oct 2025).
| Hostname | OS | Arch (*) | R version | Installed pkgs |
|---|---|---|---|---|
| nebbiolo1 | Linux (Ubuntu 24.04.3 LTS) | x86_64 | R Under development (unstable) (2025-10-20 r88955) -- "Unsuffered Consequences" | 4428 |
| Click on any hostname to see more info about the system (e.g. compilers) (*) as reported by 'uname -p', except on Windows and Mac OS X | ||||
| Package 165/2321 | Hostname | OS / Arch | INSTALL | BUILD | CHECK | BUILD BIN | ||||||||
| benchdamic 1.17.0 (landing page) Matteo Calgaro
| nebbiolo1 | Linux (Ubuntu 24.04.3 LTS) / x86_64 | OK | OK | OK | |||||||||
|
To the developers/maintainers of the benchdamic package: - Allow up to 24 hours (and sometimes 48 hours) for your latest push to git@git.bioconductor.org:packages/benchdamic.git to reflect on this report. See Troubleshooting Build Report for more information. - Use the following Renviron settings to reproduce errors and warnings. - If 'R CMD check' started to fail recently on the Linux builder(s) over a missing dependency, add the missing dependency to 'Suggests:' in your DESCRIPTION file. See Renviron.bioc for more information. |
| Package: benchdamic |
| Version: 1.17.0 |
| Command: /home/biocbuild/bbs-3.23-bioc/R/bin/R CMD check --install=check:benchdamic.install-out.txt --library=/home/biocbuild/bbs-3.23-bioc/R/site-library --timings benchdamic_1.17.0.tar.gz |
| StartedAt: 2025-10-30 20:01:51 -0400 (Thu, 30 Oct 2025) |
| EndedAt: 2025-10-30 20:35:05 -0400 (Thu, 30 Oct 2025) |
| EllapsedTime: 1994.1 seconds |
| RetCode: 0 |
| Status: OK |
| CheckDir: benchdamic.Rcheck |
| Warnings: 0 |
##############################################################################
##############################################################################
###
### Running command:
###
### /home/biocbuild/bbs-3.23-bioc/R/bin/R CMD check --install=check:benchdamic.install-out.txt --library=/home/biocbuild/bbs-3.23-bioc/R/site-library --timings benchdamic_1.17.0.tar.gz
###
##############################################################################
##############################################################################
* using log directory ‘/home/biocbuild/bbs-3.23-bioc/meat/benchdamic.Rcheck’
* using R Under development (unstable) (2025-10-20 r88955)
* using platform: x86_64-pc-linux-gnu
* R was compiled by
gcc (Ubuntu 13.3.0-6ubuntu2~24.04) 13.3.0
GNU Fortran (Ubuntu 13.3.0-6ubuntu2~24.04) 13.3.0
* running under: Ubuntu 24.04.3 LTS
* using session charset: UTF-8
* checking for file ‘benchdamic/DESCRIPTION’ ... OK
* checking extension type ... Package
* this is package ‘benchdamic’ version ‘1.17.0’
* package encoding: UTF-8
* checking package namespace information ... OK
* checking package dependencies ... INFO
Imports includes 32 non-default packages.
Importing from so many packages makes the package vulnerable to any of
them becoming unavailable. Move as many as possible to Suggests and
use conditionally.
* checking if this is a source package ... OK
* checking if there is a namespace ... OK
* checking for hidden files and directories ... OK
* checking for portable file names ... OK
* checking for sufficient/correct file permissions ... OK
* checking whether package ‘benchdamic’ can be installed ... OK
* checking installed package size ... OK
* checking package directory ... OK
* checking ‘build’ directory ... OK
* checking DESCRIPTION meta-information ... OK
* checking top-level files ... OK
* checking for left-over files ... OK
* checking index information ... OK
* checking package subdirectories ... OK
* checking code files for non-ASCII characters ... OK
* checking R files for syntax errors ... OK
* checking whether the package can be loaded ... OK
* checking whether the package can be loaded with stated dependencies ... OK
* checking whether the package can be unloaded cleanly ... OK
* checking whether the namespace can be loaded with stated dependencies ... OK
* checking whether the namespace can be unloaded cleanly ... OK
* checking loading without being on the library search path ... OK
* checking dependencies in R code ... NOTE
Namespace in Imports field not imported from: ‘microbiome’
All declared Imports should be used.
* checking S3 generic/method consistency ... OK
* checking replacement functions ... OK
* checking foreign function calls ... OK
* checking R code for possible problems ... OK
* checking Rd files ... OK
* checking Rd metadata ... OK
* checking Rd cross-references ... NOTE
Non-topic package-anchored link(s) in Rd file 'norm_DESeq2.Rd':
‘[DESeq2]{estimateSizeFactors}’
See section 'Cross-references' in the 'Writing R Extensions' manual.
* checking for missing documentation entries ... OK
* checking for code/documentation mismatches ... OK
* checking Rd \usage sections ... OK
* checking Rd contents ... OK
* checking for unstated dependencies in examples ... OK
* checking contents of ‘data’ directory ... OK
* checking data for non-ASCII characters ... OK
* checking LazyData ... OK
* checking data for ASCII and uncompressed saves ... OK
* checking files in ‘vignettes’ ... OK
* checking examples ... OK
Examples with CPU (user + system) or elapsed time > 5s
user system elapsed
createConcordance 10.006 0.268 11.841
areaCAT 9.052 0.246 12.535
DA_ALDEx2 5.136 0.352 5.488
* checking for unstated dependencies in ‘tests’ ... OK
* checking tests ...
Running ‘testthat.R’
OK
* checking for unstated dependencies in vignettes ... OK
* checking package vignettes ... OK
* checking re-building of vignette outputs ... OK
* checking PDF version of manual ... OK
* DONE
Status: 2 NOTEs
See
‘/home/biocbuild/bbs-3.23-bioc/meat/benchdamic.Rcheck/00check.log’
for details.
benchdamic.Rcheck/00install.out
############################################################################## ############################################################################## ### ### Running command: ### ### /home/biocbuild/bbs-3.23-bioc/R/bin/R CMD INSTALL benchdamic ### ############################################################################## ############################################################################## * installing to library ‘/home/biocbuild/bbs-3.23-bioc/R/site-library’ * installing *source* package ‘benchdamic’ ... ** this is package ‘benchdamic’ version ‘1.17.0’ ** using staged installation ** R ** data *** moving datasets to lazyload DB ** inst ** byte-compile and prepare package for lazy loading Found more than one class "dist" in cache; using the first, from namespace 'BiocGenerics' Also defined by ‘spam’ ** help *** installing help indices ** building package indices ** installing vignettes ** testing if installed package can be loaded from temporary location Found more than one class "dist" in cache; using the first, from namespace 'BiocGenerics' Also defined by ‘spam’ ** testing if installed package can be loaded from final location Found more than one class "dist" in cache; using the first, from namespace 'BiocGenerics' Also defined by ‘spam’ ** testing if installed package keeps a record of temporary installation path * DONE (benchdamic)
benchdamic.Rcheck/tests/testthat.Rout
R Under development (unstable) (2025-10-20 r88955) -- "Unsuffered Consequences"
Copyright (C) 2025 The R Foundation for Statistical Computing
Platform: x86_64-pc-linux-gnu
R is free software and comes with ABSOLUTELY NO WARRANTY.
You are welcome to redistribute it under certain conditions.
Type 'license()' or 'licence()' for distribution details.
R is a collaborative project with many contributors.
Type 'contributors()' for more information and
'citation()' on how to cite R or R packages in publications.
Type 'demo()' for some demos, 'help()' for on-line help, or
'help.start()' for an HTML browser interface to help.
Type 'q()' to quit R.
> library(testthat)
> library(benchdamic)
Found more than one class "dist" in cache; using the first, from namespace 'BiocGenerics'
Also defined by 'spam'
>
> test_check("benchdamic")
|------------(25%)----------(50%)----------(75%)----------|
|------------(25%)----------(50%)----------(75%)----------|
|------------(25%)----------(50%)----------(75%)----------|
|------------(25%)----------(50%)----------(75%)----------|
|------------(25%)----------(50%)----------(75%)----------|
[ FAIL 0 | WARN 0 | SKIP 0 | PASS 334 ]
>
> proc.time()
user system elapsed
67.254 3.683 78.402
benchdamic.Rcheck/benchdamic-Ex.timings
| name | user | system | elapsed | |
| CAT | 0.004 | 0.000 | 0.003 | |
| DA_ALDEx2 | 5.136 | 0.352 | 5.488 | |
| DA_ANCOM | 0.735 | 0.036 | 0.770 | |
| DA_DESeq2 | 2.692 | 0.100 | 2.793 | |
| DA_MAST | 1.153 | 0.011 | 1.140 | |
| DA_Maaslin2 | 0.220 | 0.016 | 0.237 | |
| DA_NOISeq | 1.546 | 0.058 | 1.603 | |
| DA_Seurat | 2.144 | 0.011 | 2.154 | |
| DA_ZicoSeq | 0.621 | 0.008 | 0.630 | |
| DA_basic | 0.03 | 0.00 | 0.03 | |
| DA_corncob | 0.633 | 0.020 | 0.658 | |
| DA_dearseq | 0.060 | 0.001 | 0.061 | |
| DA_edgeR | 0.175 | 0.005 | 0.180 | |
| DA_limma | 0.067 | 0.001 | 0.067 | |
| DA_linda | 0.043 | 0.001 | 0.044 | |
| DA_maaslin3 | 0.470 | 0.007 | 0.477 | |
| DA_metagenomeSeq | 0.230 | 0.004 | 0.234 | |
| DA_mixMC | 0.820 | 0.001 | 0.823 | |
| RMSE | 0.002 | 0.000 | 0.002 | |
| addKnowledge | 0.335 | 0.005 | 0.343 | |
| areaCAT | 9.052 | 0.246 | 12.535 | |
| checkNormalization | 0.000 | 0.000 | 0.001 | |
| createColors | 0.008 | 0.001 | 0.010 | |
| createConcordance | 10.006 | 0.268 | 11.841 | |
| createEnrichment | 0.439 | 0.002 | 0.441 | |
| createMocks | 0.003 | 0.002 | 0.005 | |
| createPositives | 1.300 | 0.009 | 1.309 | |
| createSplits | 0.029 | 0.000 | 0.029 | |
| createTIEC | 3.406 | 0.035 | 3.440 | |
| enrichmentTest | 0.189 | 0.002 | 0.193 | |
| extractDA | 0.241 | 0.001 | 0.242 | |
| extractStatistics | 0.176 | 0.000 | 0.176 | |
| fitDM | 0.031 | 0.001 | 0.032 | |
| fitHURDLE | 0.624 | 0.005 | 0.629 | |
| fitModels | 2.716 | 0.035 | 2.795 | |
| fitNB | 0.038 | 0.001 | 0.039 | |
| fitZIG | 0.049 | 0.000 | 0.048 | |
| fitZINB | 0.425 | 0.003 | 0.428 | |
| getDA | 0.069 | 0.008 | 0.077 | |
| getPositives | 0.076 | 0.000 | 0.076 | |
| getStatistics | 0.066 | 0.003 | 0.068 | |
| get_counts_metadata | 0.102 | 0.002 | 0.105 | |
| iterative_ordering | 0.009 | 0.000 | 0.009 | |
| meanDifferences | 0.002 | 0.000 | 0.001 | |
| norm_CSS | 0.063 | 0.000 | 0.063 | |
| norm_DESeq2 | 0.408 | 0.000 | 0.408 | |
| norm_TSS | 0.031 | 0.000 | 0.031 | |
| norm_edgeR | 0.035 | 0.000 | 0.036 | |
| plotConcordance | 4.780 | 0.062 | 4.842 | |
| plotContingency | 1.421 | 0.008 | 1.429 | |
| plotEnrichment | 1.358 | 0.002 | 1.360 | |
| plotFDR | 2.725 | 0.032 | 2.757 | |
| plotFPR | 2.512 | 0.030 | 2.542 | |
| plotKS | 2.510 | 0.052 | 2.562 | |
| plotLogP | 2.425 | 0.009 | 2.434 | |
| plotMD | 3.460 | 0.076 | 3.536 | |
| plotMutualFindings | 1.327 | 0.004 | 1.331 | |
| plotPositives | 0.843 | 0.043 | 0.886 | |
| plotQQ | 2.415 | 0.018 | 2.434 | |
| plotRMSE | 2.692 | 0.016 | 2.709 | |
| prepareObserved | 0.000 | 0.001 | 0.002 | |
| runDA | 0.463 | 0.003 | 0.466 | |
| runMocks | 0.680 | 0.007 | 0.686 | |
| runNormalizations | 0.459 | 0.002 | 0.462 | |
| runSplits | 3.360 | 0.027 | 3.388 | |
| setNormalizations | 0.000 | 0.000 | 0.001 | |
| set_ALDEx2 | 0.006 | 0.000 | 0.006 | |
| set_ANCOM | 0.007 | 0.000 | 0.007 | |
| set_DESeq2 | 0.007 | 0.000 | 0.006 | |
| set_MAST | 0.003 | 0.000 | 0.003 | |
| set_Maaslin2 | 0.005 | 0.000 | 0.004 | |
| set_NOISeq | 0.002 | 0.000 | 0.004 | |
| set_Seurat | 0.006 | 0.000 | 0.006 | |
| set_ZicoSeq | 0.005 | 0.000 | 0.007 | |
| set_basic | 0.002 | 0.000 | 0.002 | |
| set_corncob | 0.004 | 0.000 | 0.003 | |
| set_dearseq | 0.002 | 0.000 | 0.002 | |
| set_edgeR | 0.010 | 0.000 | 0.011 | |
| set_limma | 0.007 | 0.000 | 0.007 | |
| set_linda | 0.006 | 0.000 | 0.005 | |
| set_maaslin3 | 0.006 | 0.000 | 0.007 | |
| set_metagenomeSeq | 0.004 | 0.001 | 0.005 | |
| set_mixMC | 0.003 | 0.000 | 0.002 | |
| weights_ZINB | 0.394 | 0.000 | 0.394 | |