| Back to Build/check report for BioC 3.22: simplified long |
|
This page was generated on 2025-10-27 12:45 -0400 (Mon, 27 Oct 2025).
| Hostname | OS | Arch (*) | R version | Installed pkgs |
|---|---|---|---|---|
| kjohnson3 | macOS 13.7.7 Ventura | arm64 | 4.5.1 Patched (2025-09-10 r88807) -- "Great Square Root" | 4637 |
| Click on any hostname to see more info about the system (e.g. compilers) (*) as reported by 'uname -p', except on Windows and Mac OS X | ||||
| Package 165/2361 | Hostname | OS / Arch | INSTALL | BUILD | CHECK | BUILD BIN | ||||||||
| benchdamic 1.15.4 (landing page) Matteo Calgaro
| kjohnson3 | macOS 13.7.7 Ventura / arm64 | OK | OK | OK | OK | ||||||||
|
To the developers/maintainers of the benchdamic package: - Allow up to 24 hours (and sometimes 48 hours) for your latest push to git@git.bioconductor.org:packages/benchdamic.git to reflect on this report. See Troubleshooting Build Report for more information. - Use the following Renviron settings to reproduce errors and warnings. - If 'R CMD check' started to fail recently on the Linux builder(s) over a missing dependency, add the missing dependency to 'Suggests:' in your DESCRIPTION file. See Renviron.bioc for more information. |
| Package: benchdamic |
| Version: 1.15.4 |
| Command: /Library/Frameworks/R.framework/Resources/bin/R CMD check --install=check:benchdamic.install-out.txt --library=/Library/Frameworks/R.framework/Resources/library --no-vignettes --timings benchdamic_1.15.4.tar.gz |
| StartedAt: 2025-10-26 18:49:43 -0400 (Sun, 26 Oct 2025) |
| EndedAt: 2025-10-26 18:53:28 -0400 (Sun, 26 Oct 2025) |
| EllapsedTime: 224.3 seconds |
| RetCode: 0 |
| Status: OK |
| CheckDir: benchdamic.Rcheck |
| Warnings: 0 |
##############################################################################
##############################################################################
###
### Running command:
###
### /Library/Frameworks/R.framework/Resources/bin/R CMD check --install=check:benchdamic.install-out.txt --library=/Library/Frameworks/R.framework/Resources/library --no-vignettes --timings benchdamic_1.15.4.tar.gz
###
##############################################################################
##############################################################################
* using log directory ‘/Users/biocbuild/bbs-3.22-bioc/meat/benchdamic.Rcheck’
* using R version 4.5.1 Patched (2025-09-10 r88807)
* using platform: aarch64-apple-darwin20
* R was compiled by
Apple clang version 16.0.0 (clang-1600.0.26.6)
GNU Fortran (GCC) 14.2.0
* running under: macOS Ventura 13.7.7
* using session charset: UTF-8
* using option ‘--no-vignettes’
* checking for file ‘benchdamic/DESCRIPTION’ ... OK
* checking extension type ... Package
* this is package ‘benchdamic’ version ‘1.15.4’
* package encoding: UTF-8
* checking package namespace information ... OK
* checking package dependencies ... INFO
Imports includes 32 non-default packages.
Importing from so many packages makes the package vulnerable to any of
them becoming unavailable. Move as many as possible to Suggests and
use conditionally.
* checking if this is a source package ... OK
* checking if there is a namespace ... OK
* checking for hidden files and directories ... OK
* checking for portable file names ... OK
* checking for sufficient/correct file permissions ... OK
* checking whether package ‘benchdamic’ can be installed ... OK
* checking installed package size ... OK
* checking package directory ... OK
* checking ‘build’ directory ... OK
* checking DESCRIPTION meta-information ... OK
* checking top-level files ... OK
* checking for left-over files ... OK
* checking index information ... OK
* checking package subdirectories ... OK
* checking code files for non-ASCII characters ... OK
* checking R files for syntax errors ... OK
* checking whether the package can be loaded ... OK
* checking whether the package can be loaded with stated dependencies ... OK
* checking whether the package can be unloaded cleanly ... OK
* checking whether the namespace can be loaded with stated dependencies ... OK
* checking whether the namespace can be unloaded cleanly ... OK
* checking dependencies in R code ... NOTE
Namespace in Imports field not imported from: ‘microbiome’
All declared Imports should be used.
* checking S3 generic/method consistency ... OK
* checking replacement functions ... OK
* checking foreign function calls ... OK
* checking R code for possible problems ... OK
* checking Rd files ... OK
* checking Rd metadata ... OK
* checking Rd cross-references ... NOTE
Non-topic package-anchored link(s) in Rd file 'norm_DESeq2.Rd':
‘[DESeq2]{estimateSizeFactors}’
See section 'Cross-references' in the 'Writing R Extensions' manual.
* checking for missing documentation entries ... OK
* checking for code/documentation mismatches ... OK
* checking Rd \usage sections ... OK
* checking Rd contents ... OK
* checking for unstated dependencies in examples ... OK
* checking contents of ‘data’ directory ... OK
* checking data for non-ASCII characters ... OK
* checking LazyData ... OK
* checking data for ASCII and uncompressed saves ... OK
* checking files in ‘vignettes’ ... OK
* checking examples ... OK
* checking for unstated dependencies in ‘tests’ ... OK
* checking tests ...
Running ‘testthat.R’
OK
* checking for unstated dependencies in vignettes ... OK
* checking package vignettes ... OK
* checking running R code from vignettes ... SKIPPED
* checking re-building of vignette outputs ... SKIPPED
* checking PDF version of manual ... OK
* DONE
Status: 2 NOTEs
See
‘/Users/biocbuild/bbs-3.22-bioc/meat/benchdamic.Rcheck/00check.log’
for details.
benchdamic.Rcheck/00install.out
############################################################################## ############################################################################## ### ### Running command: ### ### /Library/Frameworks/R.framework/Resources/bin/R CMD INSTALL benchdamic ### ############################################################################## ############################################################################## * installing to library ‘/Library/Frameworks/R.framework/Versions/4.5-arm64/Resources/library’ * installing *source* package ‘benchdamic’ ... ** this is package ‘benchdamic’ version ‘1.15.4’ ** using staged installation ** R ** data *** moving datasets to lazyload DB ** inst ** byte-compile and prepare package for lazy loading Found more than one class "dist" in cache; using the first, from namespace 'BiocGenerics' Also defined by ‘spam’ ** help *** installing help indices ** building package indices ** installing vignettes ** testing if installed package can be loaded from temporary location Found more than one class "dist" in cache; using the first, from namespace 'BiocGenerics' Also defined by ‘spam’ ** testing if installed package can be loaded from final location Found more than one class "dist" in cache; using the first, from namespace 'BiocGenerics' Also defined by ‘spam’ ** testing if installed package keeps a record of temporary installation path * DONE (benchdamic)
benchdamic.Rcheck/tests/testthat.Rout
R version 4.5.1 Patched (2025-09-10 r88807) -- "Great Square Root"
Copyright (C) 2025 The R Foundation for Statistical Computing
Platform: aarch64-apple-darwin20
R is free software and comes with ABSOLUTELY NO WARRANTY.
You are welcome to redistribute it under certain conditions.
Type 'license()' or 'licence()' for distribution details.
R is a collaborative project with many contributors.
Type 'contributors()' for more information and
'citation()' on how to cite R or R packages in publications.
Type 'demo()' for some demos, 'help()' for on-line help, or
'help.start()' for an HTML browser interface to help.
Type 'q()' to quit R.
> library(testthat)
> library(benchdamic)
Found more than one class "dist" in cache; using the first, from namespace 'BiocGenerics'
Also defined by 'spam'
>
> test_check("benchdamic")
|------------(25%)----------(50%)----------(75%)----------|
|------------(25%)----------(50%)----------(75%)----------|
|------------(25%)----------(50%)----------(75%)----------|
|------------(25%)----------(50%)----------(75%)----------|
|------------(25%)----------(50%)----------(75%)----------|
[ FAIL 0 | WARN 2 | SKIP 0 | PASS 334 ]
[ FAIL 0 | WARN 2 | SKIP 0 | PASS 334 ]
>
> proc.time()
user system elapsed
26.197 1.329 36.516
benchdamic.Rcheck/benchdamic-Ex.timings
| name | user | system | elapsed | |
| CAT | 0.001 | 0.000 | 0.001 | |
| DA_ALDEx2 | 1.338 | 0.214 | 1.563 | |
| DA_ANCOM | 0.206 | 0.009 | 0.215 | |
| DA_DESeq2 | 0.795 | 0.015 | 0.810 | |
| DA_MAST | 0.378 | 0.008 | 0.387 | |
| DA_Maaslin2 | 0.081 | 0.011 | 0.105 | |
| DA_NOISeq | 0.633 | 0.003 | 0.637 | |
| DA_Seurat | 0.894 | 0.016 | 0.913 | |
| DA_ZicoSeq | 0.214 | 0.016 | 0.230 | |
| DA_basic | 0.009 | 0.003 | 0.011 | |
| DA_corncob | 0.200 | 0.011 | 0.227 | |
| DA_dearseq | 0.019 | 0.000 | 0.021 | |
| DA_edgeR | 0.063 | 0.002 | 0.065 | |
| DA_limma | 0.027 | 0.001 | 0.028 | |
| DA_linda | 0.014 | 0.001 | 0.016 | |
| DA_maaslin3 | 0.190 | 0.008 | 0.202 | |
| DA_metagenomeSeq | 0.075 | 0.001 | 0.076 | |
| DA_mixMC | 0.183 | 0.002 | 0.188 | |
| RMSE | 0 | 0 | 0 | |
| addKnowledge | 0.059 | 0.003 | 0.063 | |
| areaCAT | 1.201 | 0.029 | 1.248 | |
| checkNormalization | 0 | 0 | 0 | |
| createColors | 0.002 | 0.000 | 0.002 | |
| createConcordance | 1.309 | 0.036 | 1.345 | |
| createEnrichment | 0.098 | 0.009 | 0.107 | |
| createMocks | 0.001 | 0.000 | 0.001 | |
| createPositives | 0.281 | 0.006 | 0.287 | |
| createSplits | 0.012 | 0.001 | 0.013 | |
| createTIEC | 0.849 | 0.015 | 0.865 | |
| enrichmentTest | 0.048 | 0.002 | 0.050 | |
| extractDA | 0.049 | 0.001 | 0.050 | |
| extractStatistics | 0.050 | 0.001 | 0.052 | |
| fitDM | 0.009 | 0.000 | 0.010 | |
| fitHURDLE | 0.186 | 0.002 | 0.188 | |
| fitModels | 0.600 | 0.010 | 0.613 | |
| fitNB | 0.011 | 0.000 | 0.011 | |
| fitZIG | 0.013 | 0.001 | 0.013 | |
| fitZINB | 0.108 | 0.000 | 0.109 | |
| getDA | 0.022 | 0.003 | 0.025 | |
| getPositives | 0.021 | 0.002 | 0.022 | |
| getStatistics | 0.102 | 0.009 | 0.114 | |
| get_counts_metadata | 0.031 | 0.001 | 0.032 | |
| iterative_ordering | 0.003 | 0.000 | 0.003 | |
| meanDifferences | 0.000 | 0.000 | 0.001 | |
| norm_CSS | 0.018 | 0.001 | 0.018 | |
| norm_DESeq2 | 0.110 | 0.000 | 0.111 | |
| norm_TSS | 0.007 | 0.000 | 0.008 | |
| norm_edgeR | 0.009 | 0.001 | 0.010 | |
| plotConcordance | 1.376 | 0.021 | 1.397 | |
| plotContingency | 0.403 | 0.005 | 0.410 | |
| plotEnrichment | 0.361 | 0.003 | 0.365 | |
| plotFDR | 0.696 | 0.006 | 0.703 | |
| plotFPR | 0.699 | 0.007 | 0.706 | |
| plotKS | 0.717 | 0.008 | 0.730 | |
| plotLogP | 0.869 | 0.013 | 1.262 | |
| plotMD | 1.433 | 0.015 | 2.116 | |
| plotMutualFindings | 0.575 | 0.008 | 0.851 | |
| plotPositives | 0.313 | 0.005 | 0.459 | |
| plotQQ | 0.975 | 0.013 | 1.294 | |
| plotRMSE | 0.961 | 0.022 | 1.326 | |
| prepareObserved | 0.001 | 0.000 | 0.001 | |
| runDA | 0.158 | 0.000 | 0.254 | |
| runMocks | 0.257 | 0.005 | 0.381 | |
| runNormalizations | 0.193 | 0.002 | 0.303 | |
| runSplits | 1.443 | 0.023 | 2.149 | |
| setNormalizations | 0 | 0 | 0 | |
| set_ALDEx2 | 0.002 | 0.000 | 0.003 | |
| set_ANCOM | 0.005 | 0.001 | 0.012 | |
| set_DESeq2 | 0.003 | 0.000 | 0.003 | |
| set_MAST | 0.001 | 0.000 | 0.001 | |
| set_Maaslin2 | 0.002 | 0.001 | 0.008 | |
| set_NOISeq | 0.001 | 0.000 | 0.001 | |
| set_Seurat | 0.002 | 0.000 | 0.002 | |
| set_ZicoSeq | 0.003 | 0.000 | 0.003 | |
| set_basic | 0.000 | 0.000 | 0.001 | |
| set_corncob | 0.002 | 0.000 | 0.001 | |
| set_dearseq | 0 | 0 | 0 | |
| set_edgeR | 0.008 | 0.000 | 0.024 | |
| set_limma | 0.003 | 0.000 | 0.003 | |
| set_linda | 0.003 | 0.001 | 0.005 | |
| set_maaslin3 | 0.005 | 0.000 | 0.008 | |
| set_metagenomeSeq | 0.005 | 0.000 | 0.008 | |
| set_mixMC | 0.001 | 0.000 | 0.002 | |
| weights_ZINB | 0.200 | 0.003 | 0.271 | |