Back to Build/check report for BioC 3.23:   simplified   long
A[B]CDEFGHIJKLMNOPQRSTUVWXYZ

This page was generated on 2025-11-03 11:33 -0500 (Mon, 03 Nov 2025).

HostnameOSArch (*)R versionInstalled pkgs
nebbiolo1Linux (Ubuntu 24.04.3 LTS)x86_64R Under development (unstable) (2025-10-20 r88955) -- "Unsuffered Consequences" 4775
Click on any hostname to see more info about the system (e.g. compilers)      (*) as reported by 'uname -p', except on Windows and Mac OS X

Package 163/2321HostnameOS / ArchINSTALLBUILDCHECKBUILD BIN
bedbaser 1.3.0  (landing page)
Andres Wokaty
Snapshot Date: 2025-11-02 13:40 -0500 (Sun, 02 Nov 2025)
git_url: https://git.bioconductor.org/packages/bedbaser
git_branch: devel
git_last_commit: c5c189a
git_last_commit_date: 2025-10-29 11:34:32 -0500 (Wed, 29 Oct 2025)
nebbiolo1Linux (Ubuntu 24.04.3 LTS) / x86_64  OK    OK    OK  NO, package depends on 'rtracklayer' which is not available


CHECK results for bedbaser on nebbiolo1

To the developers/maintainers of the bedbaser package:
- Allow up to 24 hours (and sometimes 48 hours) for your latest push to git@git.bioconductor.org:packages/bedbaser.git to reflect on this report. See Troubleshooting Build Report for more information.
- Use the following Renviron settings to reproduce errors and warnings.
- If 'R CMD check' started to fail recently on the Linux builder(s) over a missing dependency, add the missing dependency to 'Suggests:' in your DESCRIPTION file. See Renviron.bioc for more information.

raw results


Summary

Package: bedbaser
Version: 1.3.0
Command: /home/biocbuild/bbs-3.23-bioc/R/bin/R CMD check --install=check:bedbaser.install-out.txt --library=/home/biocbuild/bbs-3.23-bioc/R/site-library --timings bedbaser_1.3.0.tar.gz
StartedAt: 2025-11-02 21:13:28 -0500 (Sun, 02 Nov 2025)
EndedAt: 2025-11-02 21:17:26 -0500 (Sun, 02 Nov 2025)
EllapsedTime: 237.4 seconds
RetCode: 0
Status:   OK  
CheckDir: bedbaser.Rcheck
Warnings: 0

Command output

##############################################################################
##############################################################################
###
### Running command:
###
###   /home/biocbuild/bbs-3.23-bioc/R/bin/R CMD check --install=check:bedbaser.install-out.txt --library=/home/biocbuild/bbs-3.23-bioc/R/site-library --timings bedbaser_1.3.0.tar.gz
###
##############################################################################
##############################################################################


* using log directory ‘/home/biocbuild/bbs-3.23-bioc/meat/bedbaser.Rcheck’
* using R Under development (unstable) (2025-10-20 r88955)
* using platform: x86_64-pc-linux-gnu
* R was compiled by
    gcc (Ubuntu 13.3.0-6ubuntu2~24.04) 13.3.0
    GNU Fortran (Ubuntu 13.3.0-6ubuntu2~24.04) 13.3.0
* running under: Ubuntu 24.04.3 LTS
* using session charset: UTF-8
* checking for file ‘bedbaser/DESCRIPTION’ ... OK
* this is package ‘bedbaser’ version ‘1.3.0’
* package encoding: UTF-8
* checking package namespace information ... OK
* checking package dependencies ... OK
* checking if this is a source package ... OK
* checking if there is a namespace ... OK
* checking for hidden files and directories ... OK
* checking for portable file names ... OK
* checking for sufficient/correct file permissions ... OK
* checking whether package ‘bedbaser’ can be installed ... OK
* checking installed package size ... OK
* checking package directory ... OK
* checking ‘build’ directory ... OK
* checking DESCRIPTION meta-information ... OK
* checking top-level files ... OK
* checking for left-over files ... OK
* checking index information ... OK
* checking package subdirectories ... OK
* checking code files for non-ASCII characters ... OK
* checking R files for syntax errors ... OK
* checking whether the package can be loaded ... OK
* checking whether the package can be loaded with stated dependencies ... OK
* checking whether the package can be unloaded cleanly ... OK
* checking whether the namespace can be loaded with stated dependencies ... OK
* checking whether the namespace can be unloaded cleanly ... OK
* checking loading without being on the library search path ... OK
* checking dependencies in R code ... OK
* checking S3 generic/method consistency ... OK
* checking replacement functions ... OK
* checking foreign function calls ... OK
* checking R code for possible problems ... NOTE
.get_url: no visible binding for global variable ‘access_methods’
.get_url: no visible binding for global variable ‘access_url’
.get_url: no visible binding for global variable ‘name’
.get_url: no visible binding for global variable ‘access_id’
bb_list_bedsets: no visible binding for global variable ‘bed_ids’
bb_list_bedsets: no visible binding for global variable ‘id’
bb_list_bedsets: no visible binding for global variable ‘name’
bb_list_bedsets: no visible binding for global variable ‘md5sum’
bb_list_bedsets: no visible binding for global variable
  ‘submission_date’
bb_list_bedsets: no visible binding for global variable
  ‘last_update_date’
bb_list_bedsets: no visible binding for global variable ‘description’
bb_list_bedsets: no visible binding for global variable ‘author’
Undefined global functions or variables:
  access_id access_methods access_url author bed_ids description id
  last_update_date md5sum name submission_date
* checking Rd files ... OK
* checking Rd metadata ... OK
* checking Rd cross-references ... OK
* checking for missing documentation entries ... OK
* checking for code/documentation mismatches ... OK
* checking Rd \usage sections ... OK
* checking Rd contents ... OK
* checking for unstated dependencies in examples ... OK
* checking files in ‘vignettes’ ... OK
* checking examples ... OK
Examples with CPU (user + system) or elapsed time > 5s
                    user system elapsed
bb_to_grangeslist 13.757  0.544  19.985
bb_to_granges     12.222  0.648  14.085
* checking for unstated dependencies in ‘tests’ ... OK
* checking tests ...
  Running ‘testthat.R’
 OK
* checking for unstated dependencies in vignettes ... OK
* checking package vignettes ... OK
* checking re-building of vignette outputs ... OK
* checking PDF version of manual ... OK
* DONE

Status: 1 NOTE
See
  ‘/home/biocbuild/bbs-3.23-bioc/meat/bedbaser.Rcheck/00check.log’
for details.


Installation output

bedbaser.Rcheck/00install.out

##############################################################################
##############################################################################
###
### Running command:
###
###   /home/biocbuild/bbs-3.23-bioc/R/bin/R CMD INSTALL bedbaser
###
##############################################################################
##############################################################################


* installing to library ‘/home/biocbuild/bbs-3.23-bioc/R/site-library’
* installing *source* package ‘bedbaser’ ...
** this is package ‘bedbaser’ version ‘1.3.0’
** using staged installation
** R
** inst
** byte-compile and prepare package for lazy loading
Creating a generic function for ‘tags’ from package ‘AnVIL’ in package ‘bedbaser’
** help
*** installing help indices
** building package indices
** installing vignettes
** testing if installed package can be loaded from temporary location
** testing if installed package can be loaded from final location
** testing if installed package keeps a record of temporary installation path
* DONE (bedbaser)

Tests output

bedbaser.Rcheck/tests/testthat.Rout


R Under development (unstable) (2025-10-20 r88955) -- "Unsuffered Consequences"
Copyright (C) 2025 The R Foundation for Statistical Computing
Platform: x86_64-pc-linux-gnu

R is free software and comes with ABSOLUTELY NO WARRANTY.
You are welcome to redistribute it under certain conditions.
Type 'license()' or 'licence()' for distribution details.

R is a collaborative project with many contributors.
Type 'contributors()' for more information and
'citation()' on how to cite R or R packages in publications.

Type 'demo()' for some demos, 'help()' for on-line help, or
'help.start()' for an HTML browser interface to help.
Type 'q()' to quit R.

> # This file is part of the standard setup for testthat.
> # It is recommended that you do not modify it.
> #
> # Where should you do additional test configuration?
> # Learn more about the roles of various files in:
> # * https://r-pkgs.org/testing-design.html#sec-tests-files-overview
> # * https://testthat.r-lib.org/articles/special-files.html
> 
> library(testthat)
> library(bedbaser)
> 
> test_check("bedbaser")
trying URL 'https://api.bedbase.org/v1/files/files/d/7/d762c5df0ea9f216c9bc221a302ad06d.bed.gz'
Content type 'binary/octet-stream' length 482674 bytes (471 KB)
==================================================
downloaded 471 KB

trying URL 'https://api.bedbase.org/v1/files/files/f/4/f495dfb19281f541dc3fb24b353eb5d6.bed.gz'
Content type 'binary/octet-stream' length 938648 bytes (916 KB)
==================================================
downloaded 916 KB

trying URL 'https://api.bedbase.org/v1/files/files/e/6/e67f6834f42e26fcc2a1c95014a51aa3.bed.gz'
Content type 'binary/octet-stream' length 5224770 bytes (5.0 MB)
==================================================
downloaded 5.0 MB

trying URL 'https://api.bedbase.org/v1/files/files/a/a/aa62664a60dc6f38c1b1639f85128ba9.bed.gz'
Content type 'binary/octet-stream' length 394867 bytes (385 KB)
==================================================
downloaded 385 KB

trying URL 'https://api.bedbase.org/v1/files/files/b/b/bbad85f21962bb8d972444f7f9a3a932.bed.gz'
Content type 'binary/octet-stream' length 641053 bytes (626 KB)
==================================================
downloaded 626 KB

trying URL 'https://api.bedbase.org/v1/files/files/0/d/0db2c9cae7c6e1b1b3cb0dcf8a51428a.bed.gz'
Content type 'binary/octet-stream' length 96339 bytes (94 KB)
==================================================
downloaded 94 KB

trying URL 'https://api.bedbase.org/v1/files/files/0/6/0692dfe199d26353af23dcbf354a6548.bed.gz'
Content type 'binary/octet-stream' length 478938 bytes (467 KB)
==================================================
downloaded 467 KB

[ FAIL 0 | WARN 0 | SKIP 0 | PASS 51 ]
> 
> proc.time()
   user  system elapsed 
 41.381   2.223  76.112 

Example timings

bedbaser.Rcheck/bedbaser-Ex.timings

nameusersystemelapsed
BEDbase0.8580.0201.345
bb_bed_text_search0.1820.1070.781
bb_beds_in_bedset0.1620.0110.392
bb_example0.1570.0100.427
bb_list_beds0.3130.0170.690
bb_list_bedsets0.4110.0114.979
bb_metadata0.2350.0080.563
bb_save0.2880.0191.676
bb_stats0.0950.0050.401
bb_to_granges12.222 0.64814.085
bb_to_grangeslist13.757 0.54419.985
getCache-BEDbase-method0.1380.0030.304
operations-BEDbase-method0.0890.0070.253
schemas-BEDbase-method0.0830.0030.238
setCache-BEDbase-method0.1120.0050.273
tags-BEDbase-method0.1190.0010.273