| Back to Multiple platform build/check report for BioC 3.23: simplified long |
|
This page was generated on 2025-11-21 11:39 -0500 (Fri, 21 Nov 2025).
| Hostname | OS | Arch (*) | R version | Installed pkgs |
|---|---|---|---|---|
| nebbiolo1 | Linux (Ubuntu 24.04.3 LTS) | x86_64 | R Under development (unstable) (2025-10-20 r88955) -- "Unsuffered Consequences" | 4829 |
| lconway | macOS 12.7.6 Monterey | x86_64 | R Under development (unstable) (2025-10-21 r88958) -- "Unsuffered Consequences" | 4602 |
| kjohnson3 | macOS 13.7.7 Ventura | arm64 | R Under development (unstable) (2025-11-04 r88984) -- "Unsuffered Consequences" | 4566 |
| Click on any hostname to see more info about the system (e.g. compilers) (*) as reported by 'uname -p', except on Windows and Mac OS X | ||||
| Package 164/2327 | Hostname | OS / Arch | INSTALL | BUILD | CHECK | BUILD BIN | ||||||||
| bedbaser 1.3.0 (landing page) Andres Wokaty
| nebbiolo1 | Linux (Ubuntu 24.04.3 LTS) / x86_64 | OK | OK | OK | |||||||||
| lconway | macOS 12.7.6 Monterey / x86_64 | OK | OK | OK | OK | |||||||||
| kjohnson3 | macOS 13.7.7 Ventura / arm64 | OK | OK | OK | OK | |||||||||
|
To the developers/maintainers of the bedbaser package: - Allow up to 24 hours (and sometimes 48 hours) for your latest push to git@git.bioconductor.org:packages/bedbaser.git to reflect on this report. See Troubleshooting Build Report for more information. - Use the following Renviron settings to reproduce errors and warnings. - If 'R CMD check' started to fail recently on the Linux builder(s) over a missing dependency, add the missing dependency to 'Suggests:' in your DESCRIPTION file. See Renviron.bioc for more information. |
| Package: bedbaser |
| Version: 1.3.0 |
| Command: /Library/Frameworks/R.framework/Resources/bin/R CMD check --install=check:bedbaser.install-out.txt --library=/Library/Frameworks/R.framework/Resources/library --no-vignettes --timings bedbaser_1.3.0.tar.gz |
| StartedAt: 2025-11-20 18:39:52 -0500 (Thu, 20 Nov 2025) |
| EndedAt: 2025-11-20 18:41:28 -0500 (Thu, 20 Nov 2025) |
| EllapsedTime: 95.3 seconds |
| RetCode: 0 |
| Status: OK |
| CheckDir: bedbaser.Rcheck |
| Warnings: 0 |
##############################################################################
##############################################################################
###
### Running command:
###
### /Library/Frameworks/R.framework/Resources/bin/R CMD check --install=check:bedbaser.install-out.txt --library=/Library/Frameworks/R.framework/Resources/library --no-vignettes --timings bedbaser_1.3.0.tar.gz
###
##############################################################################
##############################################################################
* using log directory ‘/Users/biocbuild/bbs-3.23-bioc/meat/bedbaser.Rcheck’
* using R Under development (unstable) (2025-11-04 r88984)
* using platform: aarch64-apple-darwin20
* R was compiled by
Apple clang version 16.0.0 (clang-1600.0.26.6)
GNU Fortran (GCC) 14.2.0
* running under: macOS Ventura 13.7.8
* using session charset: UTF-8
* using option ‘--no-vignettes’
* checking for file ‘bedbaser/DESCRIPTION’ ... OK
* this is package ‘bedbaser’ version ‘1.3.0’
* package encoding: UTF-8
* checking package namespace information ... OK
* checking package dependencies ... OK
* checking if this is a source package ... OK
* checking if there is a namespace ... OK
* checking for hidden files and directories ... OK
* checking for portable file names ... OK
* checking for sufficient/correct file permissions ... OK
* checking whether package ‘bedbaser’ can be installed ... OK
* checking installed package size ... OK
* checking package directory ... OK
* checking ‘build’ directory ... OK
* checking DESCRIPTION meta-information ... OK
* checking top-level files ... OK
* checking for left-over files ... OK
* checking index information ... OK
* checking package subdirectories ... OK
* checking code files for non-ASCII characters ... OK
* checking R files for syntax errors ... OK
* checking whether the package can be loaded ... OK
* checking whether the package can be loaded with stated dependencies ... OK
* checking whether the package can be unloaded cleanly ... OK
* checking whether the namespace can be loaded with stated dependencies ... OK
* checking whether the namespace can be unloaded cleanly ... OK
* checking dependencies in R code ... OK
* checking S3 generic/method consistency ... OK
* checking replacement functions ... OK
* checking foreign function calls ... OK
* checking R code for possible problems ... NOTE
.get_url: no visible binding for global variable ‘access_methods’
.get_url: no visible binding for global variable ‘access_url’
.get_url: no visible binding for global variable ‘name’
.get_url: no visible binding for global variable ‘access_id’
bb_list_bedsets: no visible binding for global variable ‘bed_ids’
bb_list_bedsets: no visible binding for global variable ‘id’
bb_list_bedsets: no visible binding for global variable ‘name’
bb_list_bedsets: no visible binding for global variable ‘md5sum’
bb_list_bedsets: no visible binding for global variable
‘submission_date’
bb_list_bedsets: no visible binding for global variable
‘last_update_date’
bb_list_bedsets: no visible binding for global variable ‘description’
bb_list_bedsets: no visible binding for global variable ‘author’
Undefined global functions or variables:
access_id access_methods access_url author bed_ids description id
last_update_date md5sum name submission_date
* checking Rd files ... OK
* checking Rd metadata ... OK
* checking Rd cross-references ... OK
* checking for missing documentation entries ... OK
* checking for code/documentation mismatches ... OK
* checking Rd \usage sections ... OK
* checking Rd contents ... OK
* checking for unstated dependencies in examples ... OK
* checking files in ‘vignettes’ ... OK
* checking examples ... OK
Examples with CPU (user + system) or elapsed time > 5s
user system elapsed
bb_to_granges 5.971 0.414 7.554
bb_to_grangeslist 5.244 0.180 6.659
bb_list_bedsets 0.120 0.008 5.118
* checking for unstated dependencies in ‘tests’ ... OK
* checking tests ...
Running ‘testthat.R’
OK
* checking for unstated dependencies in vignettes ... OK
* checking package vignettes ... OK
* checking running R code from vignettes ... SKIPPED
* checking re-building of vignette outputs ... SKIPPED
* checking PDF version of manual ... OK
* DONE
Status: 1 NOTE
See
‘/Users/biocbuild/bbs-3.23-bioc/meat/bedbaser.Rcheck/00check.log’
for details.
bedbaser.Rcheck/00install.out
############################################################################## ############################################################################## ### ### Running command: ### ### /Library/Frameworks/R.framework/Resources/bin/R CMD INSTALL bedbaser ### ############################################################################## ############################################################################## * installing to library ‘/Library/Frameworks/R.framework/Versions/4.6-arm64/Resources/library’ * installing *source* package ‘bedbaser’ ... ** this is package ‘bedbaser’ version ‘1.3.0’ ** using staged installation ** R ** inst ** byte-compile and prepare package for lazy loading Creating a generic function for ‘tags’ from package ‘AnVIL’ in package ‘bedbaser’ ** help *** installing help indices ** building package indices ** installing vignettes ** testing if installed package can be loaded from temporary location ** testing if installed package can be loaded from final location ** testing if installed package keeps a record of temporary installation path * DONE (bedbaser)
bedbaser.Rcheck/tests/testthat.Rout
R Under development (unstable) (2025-11-04 r88984) -- "Unsuffered Consequences"
Copyright (C) 2025 The R Foundation for Statistical Computing
Platform: aarch64-apple-darwin20
R is free software and comes with ABSOLUTELY NO WARRANTY.
You are welcome to redistribute it under certain conditions.
Type 'license()' or 'licence()' for distribution details.
R is a collaborative project with many contributors.
Type 'contributors()' for more information and
'citation()' on how to cite R or R packages in publications.
Type 'demo()' for some demos, 'help()' for on-line help, or
'help.start()' for an HTML browser interface to help.
Type 'q()' to quit R.
> # This file is part of the standard setup for testthat.
> # It is recommended that you do not modify it.
> #
> # Where should you do additional test configuration?
> # Learn more about the roles of various files in:
> # * https://r-pkgs.org/testing-design.html#sec-tests-files-overview
> # * https://testthat.r-lib.org/articles/special-files.html
>
> library(testthat)
> library(bedbaser)
>
> test_check("bedbaser")
trying URL 'https://api.bedbase.org/v1/files/files/d/8/d8fa654829761577c382194c0653cc85.bed.gz'
Content type 'binary/octet-stream' length 46267 bytes (45 KB)
==================================================
downloaded 45 KB
Attaching package: 'generics'
The following objects are masked from 'package:base':
as.difftime, as.factor, as.ordered, intersect, is.element, setdiff,
setequal, union
Attaching package: 'BiocGenerics'
The following objects are masked from 'package:stats':
IQR, mad, sd, var, xtabs
The following objects are masked from 'package:base':
Filter, Find, Map, Position, Reduce, anyDuplicated, aperm, append,
as.data.frame, basename, cbind, colnames, dirname, do.call,
duplicated, eval, evalq, get, grep, grepl, is.unsorted, lapply,
mapply, match, mget, order, paste, pmax, pmax.int, pmin, pmin.int,
rank, rbind, rownames, sapply, saveRDS, table, tapply, unique,
unsplit, which.max, which.min
Attaching package: 'S4Vectors'
The following object is masked from 'package:utils':
findMatches
The following objects are masked from 'package:base':
I, expand.grid, unname
Attaching package: 'Biostrings'
The following object is masked from 'package:base':
strsplit
trying URL 'https://api.bedbase.org/v1/files/files/5/4/54ab66a6739bbc7138dbf3ffb45268bb.bed.gz'
Content type 'binary/octet-stream' length 8995 bytes
==================================================
downloaded 8995 bytes
trying URL 'https://api.bedbase.org/v1/files/files/f/a/fa8ceb44d9b85ad42ecf831afe5865fe.bed.gz'
Content type 'binary/octet-stream' length 177765 bytes (173 KB)
==================================================
downloaded 173 KB
Attaching package: 'BSgenome.Mmusculus.UCSC.mm9'
The following object is masked from 'package:BSgenome.Mmusculus.UCSC.mm10':
Mmusculus
trying URL 'https://api.bedbase.org/v1/files/files/2/9/293feb0b5e271c1a25d53a7b8472b14d.bed.gz'
Content type 'binary/octet-stream' length 266040 bytes (259 KB)
==================================================
downloaded 259 KB
trying URL 'https://api.bedbase.org/v1/files/files/b/b/bbad85f21962bb8d972444f7f9a3a932.bed.gz'
Content type 'binary/octet-stream' length 641053 bytes (626 KB)
==================================================
downloaded 626 KB
trying URL 'https://api.bedbase.org/v1/files/files/b/9/b950298d78c106335b53aba2be889b28.bed.gz'
Content type 'binary/octet-stream' length 346351 bytes (338 KB)
==================================================
downloaded 338 KB
trying URL 'https://api.bedbase.org/v1/files/files/0/6/0692dfe199d26353af23dcbf354a6548.bed.gz'
Content type 'binary/octet-stream' length 478938 bytes (467 KB)
==================================================
downloaded 467 KB
[ FAIL 0 | WARN 0 | SKIP 0 | PASS 51 ]
>
> proc.time()
user system elapsed
14.412 1.193 42.359
bedbaser.Rcheck/bedbaser-Ex.timings
| name | user | system | elapsed | |
| BEDbase | 0.356 | 0.020 | 0.731 | |
| bb_bed_text_search | 0.061 | 0.006 | 0.597 | |
| bb_beds_in_bedset | 0.049 | 0.003 | 0.292 | |
| bb_example | 0.051 | 0.005 | 0.383 | |
| bb_list_beds | 0.107 | 0.011 | 0.768 | |
| bb_list_bedsets | 0.120 | 0.008 | 5.118 | |
| bb_metadata | 0.051 | 0.003 | 0.430 | |
| bb_save | 0.070 | 0.012 | 1.511 | |
| bb_stats | 0.033 | 0.002 | 0.349 | |
| bb_to_granges | 5.971 | 0.414 | 7.554 | |
| bb_to_grangeslist | 5.244 | 0.180 | 6.659 | |
| getCache-BEDbase-method | 0.048 | 0.005 | 0.226 | |
| operations-BEDbase-method | 0.031 | 0.003 | 0.195 | |
| schemas-BEDbase-method | 0.032 | 0.002 | 0.203 | |
| setCache-BEDbase-method | 0.041 | 0.003 | 0.238 | |
| tags-BEDbase-method | 0.040 | 0.002 | 0.211 | |