Back to Multiple platform build/check report for BioC 3.23:   simplified   long
[A]BCDEFGHIJKLMNOPQRSTUVWXYZ

This page was generated on 2025-11-21 11:37 -0500 (Fri, 21 Nov 2025).

HostnameOSArch (*)R versionInstalled pkgs
nebbiolo1Linux (Ubuntu 24.04.3 LTS)x86_64R Under development (unstable) (2025-10-20 r88955) -- "Unsuffered Consequences" 4829
lconwaymacOS 12.7.6 Montereyx86_64R Under development (unstable) (2025-10-21 r88958) -- "Unsuffered Consequences" 4602
kjohnson3macOS 13.7.7 Venturaarm64R Under development (unstable) (2025-11-04 r88984) -- "Unsuffered Consequences" 4566
Click on any hostname to see more info about the system (e.g. compilers)      (*) as reported by 'uname -p', except on Windows and Mac OS X

Package 113/2327HostnameOS / ArchINSTALLBUILDCHECKBUILD BIN
asuri 0.99.18  (landing page)
Alberto Berral-Gonzalez
Snapshot Date: 2025-11-20 13:40 -0500 (Thu, 20 Nov 2025)
git_url: https://git.bioconductor.org/packages/asuri
git_branch: devel
git_last_commit: 4be3e09
git_last_commit_date: 2025-10-28 05:46:33 -0500 (Tue, 28 Oct 2025)
nebbiolo1Linux (Ubuntu 24.04.3 LTS) / x86_64  OK    OK    OK  YES
lconwaymacOS 12.7.6 Monterey / x86_64  OK    OK    OK    OK  YES
kjohnson3macOS 13.7.7 Ventura / arm64  OK    OK    OK    OK  YES


CHECK results for asuri on nebbiolo1

To the developers/maintainers of the asuri package:
- Allow up to 24 hours (and sometimes 48 hours) for your latest push to git@git.bioconductor.org:packages/asuri.git to reflect on this report. See Troubleshooting Build Report for more information.
- Use the following Renviron settings to reproduce errors and warnings.
- If 'R CMD check' started to fail recently on the Linux builder(s) over a missing dependency, add the missing dependency to 'Suggests:' in your DESCRIPTION file. See Renviron.bioc for more information.

raw results


Summary

Package: asuri
Version: 0.99.18
Command: /home/biocbuild/bbs-3.23-bioc/R/bin/R CMD check --install=check:asuri.install-out.txt --library=/home/biocbuild/bbs-3.23-bioc/R/site-library --timings asuri_0.99.18.tar.gz
StartedAt: 2025-11-20 21:08:00 -0500 (Thu, 20 Nov 2025)
EndedAt: 2025-11-20 21:18:32 -0500 (Thu, 20 Nov 2025)
EllapsedTime: 631.6 seconds
RetCode: 0
Status:   OK  
CheckDir: asuri.Rcheck
Warnings: 0

Command output

##############################################################################
##############################################################################
###
### Running command:
###
###   /home/biocbuild/bbs-3.23-bioc/R/bin/R CMD check --install=check:asuri.install-out.txt --library=/home/biocbuild/bbs-3.23-bioc/R/site-library --timings asuri_0.99.18.tar.gz
###
##############################################################################
##############################################################################


* using log directory ‘/home/biocbuild/bbs-3.23-bioc/meat/asuri.Rcheck’
* using R Under development (unstable) (2025-10-20 r88955)
* using platform: x86_64-pc-linux-gnu
* R was compiled by
    gcc (Ubuntu 13.3.0-6ubuntu2~24.04) 13.3.0
    GNU Fortran (Ubuntu 13.3.0-6ubuntu2~24.04) 13.3.0
* running under: Ubuntu 24.04.3 LTS
* using session charset: UTF-8
* checking for file ‘asuri/DESCRIPTION’ ... OK
* checking extension type ... Package
* this is package ‘asuri’ version ‘0.99.18’
* package encoding: UTF-8
* checking package namespace information ... OK
* checking package dependencies ... OK
* checking if this is a source package ... OK
* checking if there is a namespace ... OK
* checking for hidden files and directories ... OK
* checking for portable file names ... OK
* checking for sufficient/correct file permissions ... OK
* checking whether package ‘asuri’ can be installed ... OK
* checking installed package size ... OK
* checking package directory ... OK
* checking ‘build’ directory ... OK
* checking DESCRIPTION meta-information ... OK
* checking top-level files ... OK
* checking for left-over files ... OK
* checking index information ... OK
* checking package subdirectories ... OK
* checking code files for non-ASCII characters ... OK
* checking R files for syntax errors ... OK
* checking whether the package can be loaded ... OK
* checking whether the package can be loaded with stated dependencies ... OK
* checking whether the package can be unloaded cleanly ... OK
* checking whether the namespace can be loaded with stated dependencies ... OK
* checking whether the namespace can be unloaded cleanly ... OK
* checking loading without being on the library search path ... OK
* checking dependencies in R code ... OK
* checking S3 generic/method consistency ... OK
* checking replacement functions ... OK
* checking foreign function calls ... OK
* checking R code for possible problems ... OK
* checking Rd files ... OK
* checking Rd metadata ... OK
* checking Rd cross-references ... OK
* checking for missing documentation entries ... OK
* checking for code/documentation mismatches ... OK
* checking Rd \usage sections ... OK
* checking Rd contents ... OK
* checking for unstated dependencies in examples ... OK
* checking contents of ‘data’ directory ... OK
* checking data for non-ASCII characters ... OK
* checking data for ASCII and uncompressed saves ... OK
* checking files in ‘vignettes’ ... OK
* checking examples ... OK
Examples with CPU (user + system) or elapsed time > 5s
                user system elapsed
plotKM        36.093  0.207  36.301
genePheno     25.726  0.346  26.074
plotBoxplot   20.753  0.077  20.831
geneSurv      20.521  0.093  20.617
plotProbClass 20.500  0.087  20.588
plotBetas     16.065  0.163  16.229
patientRisk   15.650  0.146  15.796
plotLogRank   15.487  0.068  15.559
plotSigmoid   15.333  0.099  15.432
plotLambda    15.136  0.020  15.157
prefilterSAM  14.651  0.210  14.861
* checking for unstated dependencies in vignettes ... OK
* checking package vignettes ... OK
* checking re-building of vignette outputs ... OK
* checking PDF version of manual ... OK
* DONE

Status: OK


Installation output

asuri.Rcheck/00install.out

##############################################################################
##############################################################################
###
### Running command:
###
###   /home/biocbuild/bbs-3.23-bioc/R/bin/R CMD INSTALL asuri
###
##############################################################################
##############################################################################


* installing to library ‘/home/biocbuild/bbs-3.23-bioc/R/site-library’
* installing *source* package ‘asuri’ ...
** this is package ‘asuri’ version ‘0.99.18’
** using staged installation
** R
** data
** inst
** byte-compile and prepare package for lazy loading
** help
Loading required namespace: asuri
*** installing help indices
** building package indices
** installing vignettes
** testing if installed package can be loaded from temporary location
** testing if installed package can be loaded from final location
** testing if installed package keeps a record of temporary installation path
* DONE (asuri)

Tests output


Example timings

asuri.Rcheck/asuri-Ex.timings

nameusersystemelapsed
genePheno25.726 0.34626.074
geneSurv20.521 0.09320.617
patientRisk15.650 0.14615.796
plotBetas16.065 0.16316.229
plotBoxplot20.753 0.07720.831
plotKM36.093 0.20736.301
plotLambda15.136 0.02015.157
plotLogRank15.487 0.06815.559
plotProbClass20.500 0.08720.588
plotSigmoid15.333 0.09915.432
predict_PatientRisk0.0450.0040.049
predict_SurvCurve0.1030.0070.110
prefilterSAM14.651 0.21014.861