Back to Multiple platform build/check report for BioC 3.23:   simplified   long
[A]BCDEFGHIJKLMNOPQRSTUVWXYZ

This page was generated on 2025-11-21 11:39 -0500 (Fri, 21 Nov 2025).

HostnameOSArch (*)R versionInstalled pkgs
nebbiolo1Linux (Ubuntu 24.04.3 LTS)x86_64R Under development (unstable) (2025-10-20 r88955) -- "Unsuffered Consequences" 4829
lconwaymacOS 12.7.6 Montereyx86_64R Under development (unstable) (2025-10-21 r88958) -- "Unsuffered Consequences" 4602
kjohnson3macOS 13.7.7 Venturaarm64R Under development (unstable) (2025-11-04 r88984) -- "Unsuffered Consequences" 4566
Click on any hostname to see more info about the system (e.g. compilers)      (*) as reported by 'uname -p', except on Windows and Mac OS X

Package 113/2327HostnameOS / ArchINSTALLBUILDCHECKBUILD BIN
asuri 0.99.18  (landing page)
Alberto Berral-Gonzalez
Snapshot Date: 2025-11-20 13:40 -0500 (Thu, 20 Nov 2025)
git_url: https://git.bioconductor.org/packages/asuri
git_branch: devel
git_last_commit: 4be3e09
git_last_commit_date: 2025-10-28 05:46:33 -0500 (Tue, 28 Oct 2025)
nebbiolo1Linux (Ubuntu 24.04.3 LTS) / x86_64  OK    OK    OK  YES
lconwaymacOS 12.7.6 Monterey / x86_64  OK    OK    OK    OK  YES
kjohnson3macOS 13.7.7 Ventura / arm64  OK    OK    OK    OK  YES


BUILD BIN results for asuri on kjohnson3

To the developers/maintainers of the asuri package:
- Allow up to 24 hours (and sometimes 48 hours) for your latest push to git@git.bioconductor.org:packages/asuri.git to reflect on this report. See Troubleshooting Build Report for more information.
- Use the following Renviron settings to reproduce errors and warnings.
- If 'R CMD check' started to fail recently on the Linux builder(s) over a missing dependency, add the missing dependency to 'Suggests:' in your DESCRIPTION file. See Renviron.bioc for more information.

raw results


Summary

Package: asuri
Version: 0.99.18
Command: rm -rf asuri.buildbin-libdir && mkdir asuri.buildbin-libdir && /Users/biocbuild/BBS/utils/build-universal.sh asuri_0.99.18.tar.gz /Library/Frameworks/R.framework/Resources/bin/R asuri.buildbin-libdir
StartedAt: 2025-11-20 23:23:41 -0500 (Thu, 20 Nov 2025)
EndedAt: 2025-11-20 23:23:55 -0500 (Thu, 20 Nov 2025)
EllapsedTime: 14.3 seconds
RetCode: 0
Status:   OK  
PackageFile: asuri_0.99.18.tgz
PackageFileSize: 3.421 MiB

Command output

##############################################################################
##############################################################################
###
### Running command:
###
###   rm -rf asuri.buildbin-libdir && mkdir asuri.buildbin-libdir && /Users/biocbuild/BBS/utils/build-universal.sh asuri_0.99.18.tar.gz /Library/Frameworks/R.framework/Resources/bin/R asuri.buildbin-libdir
###
##############################################################################
##############################################################################


>>>>>>> 
>>>>>>> INSTALLATION WITH 'R CMD INSTALL --preclean --no-multiarch --library=asuri.buildbin-libdir asuri_0.99.18.tar.gz'
>>>>>>> 

* installing *source* package ‘asuri’ ...
** this is package ‘asuri’ version ‘0.99.18’
** using staged installation
** R
** data
** inst
** byte-compile and prepare package for lazy loading
** help
*** installing help indices
** building package indices
** installing vignettes
** testing if installed package can be loaded from temporary location
** testing if installed package can be loaded from final location
** testing if installed package keeps a record of temporary installation path
* DONE (asuri)