Back to Build/check report for BioC 3.23:   simplified   long
ABCDEFGHIJKLMNOPQ[R]STUVWXYZ

This page was generated on 2025-11-05 11:32 -0500 (Wed, 05 Nov 2025).

HostnameOSArch (*)R versionInstalled pkgs
nebbiolo1Linux (Ubuntu 24.04.3 LTS)x86_64R Under development (unstable) (2025-10-20 r88955) -- "Unsuffered Consequences" 4818
Click on any hostname to see more info about the system (e.g. compilers)      (*) as reported by 'uname -p', except on Windows and Mac OS X

All results for package Rsamtools


To the developers/maintainers of the Rsamtools package:
- Allow up to 24 hours (and sometimes 48 hours) for your latest push to git@git.bioconductor.org:packages/Rsamtools.git to reflect on this report. See Troubleshooting Build Report for more information.
- Use the following Renviron settings to reproduce errors and warnings.
- If 'R CMD check' started to fail recently on the Linux builder(s) over a missing dependency, add the missing dependency to 'Suggests:' in your DESCRIPTION file. See Renviron.bioc for more information.

raw results

Package 1820/2323HostnameOS / ArchINSTALLBUILDCHECKBUILD BIN
Rsamtools 2.27.0  (landing page)
Bioconductor Package Maintainer
Snapshot Date: 2025-11-04 13:40 -0500 (Tue, 04 Nov 2025)
git_url: https://git.bioconductor.org/packages/Rsamtools
git_branch: devel
git_last_commit: a2c9284
git_last_commit_date: 2025-10-29 10:04:41 -0500 (Wed, 29 Oct 2025)
nebbiolo1Linux (Ubuntu 24.04.3 LTS) / x86_64  OK    OK    WARNINGS  UNNEEDED, same version is already published



Results for Bioconductor software packages that depend directly on package Rsamtools

QUICK STATSOS / ArchINSTALLBUILDCHECKBUILD BIN
nebbiolo1Linux (Ubuntu 24.04.3 LTS) / x86_64
012163
021154
0731116
Package 1/175HostnameOS / ArchINSTALLBUILDCHECKBUILD BIN
alabaster.files 1.9.0  (landing page)
Aaron Lun
git_last_commit: 32a02ee
git_last_commit_date: 2025-10-29 11:24:01 -0500
nebbiolo1Linux (Ubuntu 24.04.3 LTS) / x86_64  OK    OK    OK  UNNEEDED, same version is already published
Package 2/175HostnameOS / ArchINSTALLBUILDCHECKBUILD BIN
alabaster.vcf 1.11.0  (landing page)
Aaron Lun
git_last_commit: 53827bc
git_last_commit_date: 2025-10-29 11:21:32 -0500
nebbiolo1Linux (Ubuntu 24.04.3 LTS) / x86_64  OK    OK    OK  YES
Package 3/175HostnameOS / ArchINSTALLBUILDCHECKBUILD BIN
AllelicImbalance 1.49.0  (landing page)
Jesper R Gadin
git_last_commit: d78bb64
git_last_commit_date: 2025-10-29 10:16:36 -0500
nebbiolo1Linux (Ubuntu 24.04.3 LTS) / x86_64  OK    OK    OK  YES
Package 4/175HostnameOS / ArchINSTALLBUILDCHECKBUILD BIN
annmap 1.53.0  (landing page)
Chris Wirth
git_last_commit: d64521e
git_last_commit_date: 2025-10-29 10:11:14 -0500
nebbiolo1Linux (Ubuntu 24.04.3 LTS) / x86_64  OK    OK    WARNINGS  UNNEEDED, same version is already published
Package 5/175HostnameOS / ArchINSTALLBUILDCHECKBUILD BIN
AnnotationHubData 1.41.0  (landing page)
Bioconductor Package Maintainer
git_last_commit: 932837e
git_last_commit_date: 2025-10-29 10:27:35 -0500
nebbiolo1Linux (Ubuntu 24.04.3 LTS) / x86_64  OK    OK    WARNINGS  NO, package depends on 'BiocCheck' which is not available
Package 6/175HostnameOS / ArchINSTALLBUILDCHECKBUILD BIN
APAlyzer 1.25.0  (landing page)
Ruijia Wang
git_last_commit: 5b343c9
git_last_commit_date: 2025-10-29 10:53:34 -0500
nebbiolo1Linux (Ubuntu 24.04.3 LTS) / x86_64  OK    OK    ERROR  
Package 7/175HostnameOS / ArchINSTALLBUILDCHECKBUILD BIN
appreci8R 1.29.0  (landing page)
Sarah Sandmann
git_last_commit: bb148fd
git_last_commit_date: 2025-10-29 10:46:18 -0500
nebbiolo1Linux (Ubuntu 24.04.3 LTS) / x86_64  OK    OK    OK  YES
Package 8/175HostnameOS / ArchINSTALLBUILDCHECKBUILD BIN
ASpli 2.21.0  (landing page)
Ariel Chernomoretz
git_last_commit: 6fd6add
git_last_commit_date: 2025-10-29 10:33:32 -0500
nebbiolo1Linux (Ubuntu 24.04.3 LTS) / x86_64  OK    OK    WARNINGS  YES
Package 9/175HostnameOS / ArchINSTALLBUILDCHECKBUILD BIN
ATACseqQC 1.35.0  (landing page)
Jianhong Ou
git_last_commit: 938226b
git_last_commit_date: 2025-10-29 10:38:34 -0500
nebbiolo1Linux (Ubuntu 24.04.3 LTS) / x86_64  ERROR    ERROR  skipped
Package 10/175HostnameOS / ArchINSTALLBUILDCHECKBUILD BIN
ATACseqTFEA 1.13.0  (landing page)
Jianhong Ou
git_last_commit: e0054ea
git_last_commit_date: 2025-10-29 11:18:13 -0500
nebbiolo1Linux (Ubuntu 24.04.3 LTS) / x86_64  OK    ERROR  skipped
Package 11/175HostnameOS / ArchINSTALLBUILDCHECKBUILD BIN
atena 1.17.0  (landing page)
Robert Castelo
git_last_commit: 2209be2
git_last_commit_date: 2025-10-29 11:12:14 -0500
nebbiolo1Linux (Ubuntu 24.04.3 LTS) / x86_64  OK    OK    OK  YES
Package 12/175HostnameOS / ArchINSTALLBUILDCHECKBUILD BIN
BaalChIP 1.37.0  (landing page)
Ines de Santiago
git_last_commit: fd6bc03
git_last_commit_date: 2025-10-29 10:34:21 -0500
nebbiolo1Linux (Ubuntu 24.04.3 LTS) / x86_64  OK    OK    WARNINGS  UNNEEDED, same version is already published
Package 13/175HostnameOS / ArchINSTALLBUILDCHECKBUILD BIN
BadRegionFinder 1.39.0  (landing page)
Sarah Sandmann
git_last_commit: d483500
git_last_commit_date: 2025-10-29 10:31:21 -0500
nebbiolo1Linux (Ubuntu 24.04.3 LTS) / x86_64  OK    OK    OK  YES
Package 14/175HostnameOS / ArchINSTALLBUILDCHECKBUILD BIN
bambu 3.13.0  (landing page)
Ying Chen
git_last_commit: a438673
git_last_commit_date: 2025-10-29 11:03:46 -0500
nebbiolo1Linux (Ubuntu 24.04.3 LTS) / x86_64  OK    OK    OK  YES
Package 15/175HostnameOS / ArchINSTALLBUILDCHECKBUILD BIN
BBCAnalyzer 1.41.0  (landing page)
Sarah Sandmann
git_last_commit: 7637b40
git_last_commit_date: 2025-10-29 10:27:19 -0500
nebbiolo1Linux (Ubuntu 24.04.3 LTS) / x86_64  OK    OK    OK  YES
Package 16/175HostnameOS / ArchINSTALLBUILDCHECKBUILD BIN
Bioc.gff 1.1.0  (landing page)
Bioconductor Package Maintainer
git_last_commit: a3d3863
git_last_commit_date: 2025-10-29 11:37:35 -0500
nebbiolo1Linux (Ubuntu 24.04.3 LTS) / x86_64  OK    OK    OK  UNNEEDED, same version is already published
Package 17/175HostnameOS / ArchINSTALLBUILDCHECKBUILD BIN
biovizBase 1.59.0  (landing page)
Michael Lawrence
git_last_commit: 7895cbf
git_last_commit_date: 2025-10-29 10:09:04 -0500
nebbiolo1Linux (Ubuntu 24.04.3 LTS) / x86_64  OK    OK    WARNINGS  YES
Package 18/175HostnameOS / ArchINSTALLBUILDCHECKBUILD BIN
biscuiteer 1.25.0  (landing page)
Jacob Morrison
git_last_commit: c74f865
git_last_commit_date: 2025-10-29 10:55:16 -0500
nebbiolo1Linux (Ubuntu 24.04.3 LTS) / x86_64  OK    OK    WARNINGS  NO, package depends on 'dmrseq' which is not available
Package 19/175HostnameOS / ArchINSTALLBUILDCHECKBUILD BIN
breakpointR 1.29.0  (landing page)
David Porubsky
git_last_commit: 5469268
git_last_commit_date: 2025-10-29 10:47:40 -0500
nebbiolo1Linux (Ubuntu 24.04.3 LTS) / x86_64  OK    OK    OK  UNNEEDED, same version is already published
Package 20/175HostnameOS / ArchINSTALLBUILDCHECKBUILD BIN
BSgenome 1.79.1  (landing page)
Hervé Pagès
git_last_commit: c2fc0db
git_last_commit_date: 2025-11-03 17:15:06 -0500
nebbiolo1Linux (Ubuntu 24.04.3 LTS) / x86_64  OK    OK    WARNINGS  YES
Package 21/175HostnameOS / ArchINSTALLBUILDCHECKBUILD BIN
CAGEr 2.17.0  (landing page)
Charles Plessy
git_last_commit: 0a93a41
git_last_commit_date: 2025-10-29 10:13:45 -0500
nebbiolo1Linux (Ubuntu 24.04.3 LTS) / x86_64  OK    OK    OK  YES
Package 22/175HostnameOS / ArchINSTALLBUILDCHECKBUILD BIN
casper 2.45.0  (landing page)
David Rossell
git_last_commit: 8f208d9
git_last_commit_date: 2025-10-29 10:13:21 -0500
nebbiolo1Linux (Ubuntu 24.04.3 LTS) / x86_64  ERROR    ERROR  skipped
Package 23/175HostnameOS / ArchINSTALLBUILDCHECKBUILD BIN
CellBarcode 1.17.0  (landing page)
Wenjie Sun
git_last_commit: bc09e4a
git_last_commit_date: 2025-10-29 11:13:43 -0500
nebbiolo1Linux (Ubuntu 24.04.3 LTS) / x86_64  OK    OK    OK  UNNEEDED, same version is already published
Package 24/175HostnameOS / ArchINSTALLBUILDCHECKBUILD BIN
cellbaseR 1.35.0  (landing page)
Mohammed OE Abdallah
git_last_commit: 6f10847
git_last_commit_date: 2025-10-29 10:38:23 -0500
nebbiolo1Linux (Ubuntu 24.04.3 LTS) / x86_64  OK    OK    OK  UNNEEDED, same version is already published
Package 25/175HostnameOS / ArchINSTALLBUILDCHECKBUILD BIN
CexoR 1.49.0  (landing page)
Pedro Madrigal
git_last_commit: e9655e9
git_last_commit_date: 2025-10-29 11:12:38 -0500
nebbiolo1Linux (Ubuntu 24.04.3 LTS) / x86_64  OK    OK    OK  YES
Package 26/175HostnameOS / ArchINSTALLBUILDCHECKBUILD BIN
cfdnakit 1.9.0  (landing page)
Pitithat Puranachot
git_last_commit: 17e7520
git_last_commit_date: 2025-10-29 11:23:56 -0500
nebbiolo1Linux (Ubuntu 24.04.3 LTS) / x86_64  OK    OK    OK  UNNEEDED, same version is already published
Package 27/175HostnameOS / ArchINSTALLBUILDCHECKBUILD BIN
cfDNAPro 1.17.0  (landing page)
Haichao Wang
git_last_commit: fef4aa4
git_last_commit_date: 2025-10-29 11:11:06 -0500
nebbiolo1Linux (Ubuntu 24.04.3 LTS) / x86_64  OK    OK    WARNINGS  YES
Package 28/175HostnameOS / ArchINSTALLBUILDCHECKBUILD BIN
chimeraviz 1.37.0  (landing page)
Stian Lågstad
git_last_commit: 3490116
git_last_commit_date: 2025-10-29 10:35:50 -0500
nebbiolo1Linux (Ubuntu 24.04.3 LTS) / x86_64  OK    OK    OK  YES
Package 29/175HostnameOS / ArchINSTALLBUILDCHECKBUILD BIN
ChIPComp 1.41.0  (landing page)
Li Chen
git_last_commit: 6f90f75
git_last_commit_date: 2025-10-29 10:27:22 -0500
nebbiolo1Linux (Ubuntu 24.04.3 LTS) / x86_64  OK    OK    OK  YES
Package 30/175HostnameOS / ArchINSTALLBUILDCHECKBUILD BIN
ChIPexoQual 1.35.0  (landing page)
Rene Welch
git_last_commit: c1a42ad
git_last_commit_date: 2025-10-29 10:36:27 -0500
nebbiolo1Linux (Ubuntu 24.04.3 LTS) / x86_64  OK    OK    OK  YES
Package 31/175HostnameOS / ArchINSTALLBUILDCHECKBUILD BIN
ChIPpeakAnno 3.45.0  (landing page)
Jianhong Ou
git_last_commit: 2e00e23
git_last_commit_date: 2025-10-29 10:03:18 -0500
nebbiolo1Linux (Ubuntu 24.04.3 LTS) / x86_64  ERROR    ERROR  skipped
Package 32/175HostnameOS / ArchINSTALLBUILDCHECKBUILD BIN
ChIPQC 1.47.0  (landing page)
Tom Carroll , Rory Stark
git_last_commit: 8be4dc7
git_last_commit_date: 2025-10-29 10:18:53 -0500
nebbiolo1Linux (Ubuntu 24.04.3 LTS) / x86_64  ERROR    ERROR  skipped
Package 33/175HostnameOS / ArchINSTALLBUILDCHECKBUILD BIN
ChromSCape 1.21.0  (landing page)
Pacome Prompsy
git_last_commit: 47d0ff7
git_last_commit_date: 2025-10-29 11:02:56 -0500
nebbiolo1Linux (Ubuntu 24.04.3 LTS) / x86_64  OK    OK    WARNINGS  YES
Package 34/175HostnameOS / ArchINSTALLBUILDCHECKBUILD BIN
chromVAR 1.33.0  (landing page)
Alicia Schep
git_last_commit: 1730858
git_last_commit_date: 2025-10-29 10:41:16 -0500
nebbiolo1Linux (Ubuntu 24.04.3 LTS) / x86_64  ERROR    ERROR  skipped
Package 35/175HostnameOS / ArchINSTALLBUILDCHECKBUILD BIN
CircSeqAlignTk 1.13.0  (landing page)
Jianqiang Sun
git_last_commit: 4415fca
git_last_commit_date: 2025-10-29 11:19:05 -0500
nebbiolo1Linux (Ubuntu 24.04.3 LTS) / x86_64  OK    OK    OK  YES
Package 36/175HostnameOS / ArchINSTALLBUILDCHECKBUILD BIN
CleanUpRNAseq 1.5.0  (landing page)
Haibo Liu
git_last_commit: 4f653f6
git_last_commit_date: 2025-10-29 11:31:19 -0500
nebbiolo1Linux (Ubuntu 24.04.3 LTS) / x86_64  OK    OK    OK  YES
Package 37/175HostnameOS / ArchINSTALLBUILDCHECKBUILD BIN
cn.mops 1.57.0  (landing page)
Gundula Povysil
git_last_commit: 79a0901
git_last_commit_date: 2025-10-29 10:09:41 -0500
nebbiolo1Linux (Ubuntu 24.04.3 LTS) / x86_64  OK    OK    OK  UNNEEDED, same version is already published
Package 38/175HostnameOS / ArchINSTALLBUILDCHECKBUILD BIN
CNVfilteR 1.25.0  (landing page)
Jose Marcos Moreno-Cabrera
git_last_commit: e65bd7a
git_last_commit_date: 2025-10-29 10:54:50 -0500
nebbiolo1Linux (Ubuntu 24.04.3 LTS) / x86_64  OK    OK    OK  YES
Package 39/175HostnameOS / ArchINSTALLBUILDCHECKBUILD BIN
CNVPanelizer 1.43.0  (landing page)
Thomas Wolf
git_last_commit: 6ed963e
git_last_commit_date: 2025-10-29 10:26:34 -0500
nebbiolo1Linux (Ubuntu 24.04.3 LTS) / x86_64  OK    OK    OK  UNNEEDED, same version is already published
Package 40/175HostnameOS / ArchINSTALLBUILDCHECKBUILD BIN
CNVrd2 1.49.0  (landing page)
Hoang Tan Nguyen
git_last_commit: 1ed26d8
git_last_commit_date: 2025-10-29 10:17:16 -0500
nebbiolo1Linux (Ubuntu 24.04.3 LTS) / x86_64  OK    OK    OK  YES
Package 41/175HostnameOS / ArchINSTALLBUILDCHECKBUILD BIN
CODEX 1.43.0  (landing page)
Yuchao Jiang
git_last_commit: 6fce599
git_last_commit_date: 2025-10-29 10:23:27 -0500
nebbiolo1Linux (Ubuntu 24.04.3 LTS) / x86_64  OK    OK    OK  UNNEEDED, same version is already published
Package 42/175HostnameOS / ArchINSTALLBUILDCHECKBUILD BIN
compEpiTools 1.45.0  (landing page)
Mattia Furlan
git_last_commit: 949eb04
git_last_commit_date: 2025-10-29 10:20:59 -0500
nebbiolo1Linux (Ubuntu 24.04.3 LTS) / x86_64  OK    OK    OK  YES
Package 43/175HostnameOS / ArchINSTALLBUILDCHECKBUILD BIN
consensusDE 1.29.0  (landing page)
Ashley J. Waardenberg
git_last_commit: e69df52
git_last_commit_date: 2025-10-29 10:48:35 -0500
nebbiolo1Linux (Ubuntu 24.04.3 LTS) / x86_64  ERROR    ERROR  skipped
Package 44/175HostnameOS / ArchINSTALLBUILDCHECKBUILD BIN
CopyNumberPlots 1.27.0  (landing page)
Bernat Gel
git_last_commit: d68d13f
git_last_commit_date: 2025-10-29 10:51:43 -0500
nebbiolo1Linux (Ubuntu 24.04.3 LTS) / x86_64  OK    OK    OK  YES
Package 45/175HostnameOS / ArchINSTALLBUILDCHECKBUILD BIN
CoverageView 1.49.0  (landing page)
Ernesto Lowy
git_last_commit: b07c17a
git_last_commit_date: 2025-10-29 10:19:06 -0500
nebbiolo1Linux (Ubuntu 24.04.3 LTS) / x86_64  OK    OK    WARNINGS  YES
Package 46/175HostnameOS / ArchINSTALLBUILDCHECKBUILD BIN
CrispRVariants 1.39.0  (landing page)
Helen Lindsay
git_last_commit: 4dcc360
git_last_commit_date: 2025-10-29 10:29:17 -0500
nebbiolo1Linux (Ubuntu 24.04.3 LTS) / x86_64  OK    OK    WARNINGS  UNNEEDED, same version is already published
Package 47/175HostnameOS / ArchINSTALLBUILDCHECKBUILD BIN
crupR 1.3.0  (landing page)
Persia Akbari Omgba
git_last_commit: f02dafa
git_last_commit_date: 2025-10-29 11:36:29 -0500
nebbiolo1Linux (Ubuntu 24.04.3 LTS) / x86_64  OK    OK    OK  YES
Package 48/175HostnameOS / ArchINSTALLBUILDCHECKBUILD BIN
csaw 1.45.0  (landing page)
Aaron Lun
git_last_commit: 39b0f81
git_last_commit_date: 2025-10-29 10:22:22 -0500
nebbiolo1Linux (Ubuntu 24.04.3 LTS) / x86_64  OK    OK    OK  UNNEEDED, same version is already published
Package 49/175HostnameOS / ArchINSTALLBUILDCHECKBUILD BIN
CSSQ 1.23.0  (landing page)
Fan Lab at Georgia Institute of Technology
git_last_commit: b5e08ec
git_last_commit_date: 2025-10-29 10:56:02 -0500
nebbiolo1Linux (Ubuntu 24.04.3 LTS) / x86_64  OK    OK    OK  YES
Package 50/175HostnameOS / ArchINSTALLBUILDCHECKBUILD BIN
customProDB 1.51.0  (landing page)
Xiaojing Wang
git_last_commit: 8317345
git_last_commit_date: 2025-10-29 10:15:09 -0500
nebbiolo1Linux (Ubuntu 24.04.3 LTS) / x86_64  OK    OK    ERROR  
Package 51/175HostnameOS / ArchINSTALLBUILDCHECKBUILD BIN
DAMEfinder 1.23.0  (landing page)
Stephany Orjuela
git_last_commit: cb8c833
git_last_commit_date: 2025-10-29 10:56:31 -0500
nebbiolo1Linux (Ubuntu 24.04.3 LTS) / x86_64  OK    OK    OK  YES
Package 52/175HostnameOS / ArchINSTALLBUILDCHECKBUILD BIN
Damsel 1.7.0  (landing page)
Caitlin Page
git_last_commit: 4c35e04
git_last_commit_date: 2025-10-29 11:29:38 -0500
nebbiolo1Linux (Ubuntu 24.04.3 LTS) / x86_64  OK    OK    WARNINGS  YES
Package 53/175HostnameOS / ArchINSTALLBUILDCHECKBUILD BIN
DegNorm 1.21.0  (landing page)
Ji-Ping Wang
git_last_commit: caacfac
git_last_commit_date: 2025-10-29 10:59:52 -0500
nebbiolo1Linux (Ubuntu 24.04.3 LTS) / x86_64  OK    OK    OK  YES
Package 54/175HostnameOS / ArchINSTALLBUILDCHECKBUILD BIN
derfinder 1.45.0  (landing page)
Leonardo Collado-Torres
git_last_commit: 946e0b8
git_last_commit_date: 2025-10-29 10:21:48 -0500
nebbiolo1Linux (Ubuntu 24.04.3 LTS) / x86_64  OK    OK    OK  YES
Package 55/175HostnameOS / ArchINSTALLBUILDCHECKBUILD BIN
DEXSeq 1.57.0  (landing page)
Alejandro Reyes
git_last_commit: db6ed7c
git_last_commit_date: 2025-10-29 10:07:54 -0500
nebbiolo1Linux (Ubuntu 24.04.3 LTS) / x86_64  OK    OK    OK  UNNEEDED, same version is already published
Package 56/175HostnameOS / ArchINSTALLBUILDCHECKBUILD BIN
DiffBind 3.21.0  (landing page)
Rory Stark
git_last_commit: f329968
git_last_commit_date: 2025-10-29 10:08:58 -0500
nebbiolo1Linux (Ubuntu 24.04.3 LTS) / x86_64  OK    OK    ERROR  
Package 57/175HostnameOS / ArchINSTALLBUILDCHECKBUILD BIN
diffHic 1.43.0  (landing page)
Aaron Lun , Gordon Smyth , Hannah Coughlin
git_last_commit: c909cdb
git_last_commit_date: 2025-10-29 10:25:47 -0500
nebbiolo1Linux (Ubuntu 24.04.3 LTS) / x86_64  OK    OK    OK  YES
Package 58/175HostnameOS / ArchINSTALLBUILDCHECKBUILD BIN
DMRcaller 1.43.1  (landing page)
Nicolae Radu Zabet
git_last_commit: 5ec5d13
git_last_commit_date: 2025-11-04 13:15:34 -0500
nebbiolo1Linux (Ubuntu 24.04.3 LTS) / x86_64  OK    OK    OK  YES
Package 59/175HostnameOS / ArchINSTALLBUILDCHECKBUILD BIN
DNAfusion 1.13.0  (landing page)
Christoffer Trier Maansson
git_last_commit: a0e0c9e
git_last_commit_date: 2025-10-29 11:19:47 -0500
nebbiolo1Linux (Ubuntu 24.04.3 LTS) / x86_64  OK    OK    OK  YES
Package 60/175HostnameOS / ArchINSTALLBUILDCHECKBUILD BIN
easyRNASeq 2.47.0  (landing page)
Nicolas Delhomme
git_last_commit: 1cb9a73
git_last_commit_date: 2025-10-29 10:10:00 -0500
nebbiolo1Linux (Ubuntu 24.04.3 LTS) / x86_64  OK    OK    WARNINGS  UNNEEDED, same version is already published
Package 61/175HostnameOS / ArchINSTALLBUILDCHECKBUILD BIN
EDASeq 2.45.0  (landing page)
Davide Risso
git_last_commit: 1f147bc
git_last_commit_date: 2025-10-29 10:08:53 -0500
nebbiolo1Linux (Ubuntu 24.04.3 LTS) / x86_64  OK    OK    OK  YES
Package 62/175HostnameOS / ArchINSTALLBUILDCHECKBUILD BIN
ensembldb 2.35.0  (landing page)
Johannes Rainer
git_last_commit: a74ca18
git_last_commit_date: 2025-10-29 10:24:50 -0500
nebbiolo1Linux (Ubuntu 24.04.3 LTS) / x86_64  OK    OK    OK  YES
Package 63/175HostnameOS / ArchINSTALLBUILDCHECKBUILD BIN
epigenomix 1.51.0  (landing page)
Hans-Ulrich Klein
git_last_commit: 5563ca4
git_last_commit_date: 2025-10-29 10:13:59 -0500
nebbiolo1Linux (Ubuntu 24.04.3 LTS) / x86_64  OK    OK    OK  NO, package depends on 'beadarray' which is not available
Package 64/175HostnameOS / ArchINSTALLBUILDCHECKBUILD BIN
epigraHMM 1.19.0  (landing page)
Pedro Baldoni
git_last_commit: af5be02
git_last_commit_date: 2025-10-29 11:09:46 -0500
nebbiolo1Linux (Ubuntu 24.04.3 LTS) / x86_64  OK    OK    WARNINGS  YES
Package 65/175HostnameOS / ArchINSTALLBUILDCHECKBUILD BIN
esATAC 1.33.0  (landing page)
Zheng Wei
git_last_commit: 90d779d
git_last_commit_date: 2025-10-29 10:42:12 -0500
nebbiolo1Linux (Ubuntu 24.04.3 LTS) / x86_64  ERROR    ERROR  skipped
Package 66/175HostnameOS / ArchINSTALLBUILDCHECKBUILD BIN
eudysbiome 1.41.0  (landing page)
Xiaoyuan Zhou
git_last_commit: 112407c
git_last_commit_date: 2025-10-29 10:27:08 -0500
nebbiolo1Linux (Ubuntu 24.04.3 LTS) / x86_64  OK    OK    OK  UNNEEDED, same version is already published
Package 67/175HostnameOS / ArchINSTALLBUILDCHECKBUILD BIN
extraChIPs 1.15.0  (landing page)
Stevie Pederson
git_last_commit: 9ceda11
git_last_commit_date: 2025-10-29 11:16:32 -0500
nebbiolo1Linux (Ubuntu 24.04.3 LTS) / x86_64  OK    OK    OK  YES
Package 68/175HostnameOS / ArchINSTALLBUILDCHECKBUILD BIN
FilterFFPE 1.21.0  (landing page)
Lanying Wei
git_last_commit: 8eee577
git_last_commit_date: 2025-10-29 11:02:12 -0500
nebbiolo1Linux (Ubuntu 24.04.3 LTS) / x86_64  OK    OK    OK  UNNEEDED, same version is already published
Package 69/175HostnameOS / ArchINSTALLBUILDCHECKBUILD BIN
FLAMES 2.5.1  (landing page)
Changqing Wang
git_last_commit: 7887658
git_last_commit_date: 2025-10-31 02:11:54 -0500
nebbiolo1Linux (Ubuntu 24.04.3 LTS) / x86_64  OK    OK    OK  YES
Package 70/175HostnameOS / ArchINSTALLBUILDCHECKBUILD BIN
FRASER 2.7.0  (landing page)
Christian Mertes
git_last_commit: ecd421c
git_last_commit_date: 2025-10-29 10:58:54 -0500
nebbiolo1Linux (Ubuntu 24.04.3 LTS) / x86_64  ERROR    ERROR  skipped
Package 71/175HostnameOS / ArchINSTALLBUILDCHECKBUILD BIN
gcapc 1.35.0  (landing page)
Mingxiang Teng
git_last_commit: ffa3e8b
git_last_commit_date: 2025-10-29 10:35:52 -0500
nebbiolo1Linux (Ubuntu 24.04.3 LTS) / x86_64  OK    OK    OK  YES
Package 72/175HostnameOS / ArchINSTALLBUILDCHECKBUILD BIN
gDNAx 1.9.0  (landing page)
Robert Castelo
git_last_commit: 64d243e
git_last_commit_date: 2025-10-29 11:24:57 -0500
nebbiolo1Linux (Ubuntu 24.04.3 LTS) / x86_64  OK    OK    OK  YES
Package 73/175HostnameOS / ArchINSTALLBUILDCHECKBUILD BIN
genomation 1.43.0  (landing page)
Altuna Akalin , Vedran Franke
git_last_commit: c618839
git_last_commit_date: 2025-10-29 10:23:07 -0500
nebbiolo1Linux (Ubuntu 24.04.3 LTS) / x86_64  OK    OK    OK  YES
Package 74/175HostnameOS / ArchINSTALLBUILDCHECKBUILD BIN
GenomicAlignments 1.47.0  (landing page)
Hervé Pagès
git_last_commit: 085e9df
git_last_commit_date: 2025-10-29 14:50:25 -0500
nebbiolo1Linux (Ubuntu 24.04.3 LTS) / x86_64  OK    OK    OK  UNNEEDED, same version is already published
Package 75/175HostnameOS / ArchINSTALLBUILDCHECKBUILD BIN
GenomicFiles 1.47.0  (landing page)
Bioconductor Package Maintainer
git_last_commit: 76a7462
git_last_commit_date: 2025-10-29 10:19:18 -0500
nebbiolo1Linux (Ubuntu 24.04.3 LTS) / x86_64  OK    OK    OK  YES
Package 76/175HostnameOS / ArchINSTALLBUILDCHECKBUILD BIN
GenomicInteractions 1.45.0  (landing page)
Liz Ing-Simmons
git_last_commit: c3eb720
git_last_commit_date: 2025-10-29 10:21:43 -0500
nebbiolo1Linux (Ubuntu 24.04.3 LTS) / x86_64  OK    OK    OK  YES
Package 77/175HostnameOS / ArchINSTALLBUILDCHECKBUILD BIN
GenomicPlot 1.9.0  (landing page)
Shuye Pu
git_last_commit: 6794637
git_last_commit_date: 2025-10-29 11:24:51 -0500
nebbiolo1Linux (Ubuntu 24.04.3 LTS) / x86_64  OK    OK    OK  YES
Package 78/175HostnameOS / ArchINSTALLBUILDCHECKBUILD BIN
GenVisR 1.43.0  (landing page)
Zachary Skidmore
git_last_commit: e398c9b
git_last_commit_date: 2025-10-29 10:29:36 -0500
nebbiolo1Linux (Ubuntu 24.04.3 LTS) / x86_64  OK    OK    ERROR  
Package 79/175HostnameOS / ArchINSTALLBUILDCHECKBUILD BIN
ggbio 1.59.0  (landing page)
Michael Lawrence
git_last_commit: 6c3efb9
git_last_commit_date: 2025-10-29 10:09:27 -0500
nebbiolo1Linux (Ubuntu 24.04.3 LTS) / x86_64  OK    OK    WARNINGS  YES
Package 80/175HostnameOS / ArchINSTALLBUILDCHECKBUILD BIN
gmapR 1.53.0  (landing page)
Michael Lawrence
git_last_commit: f0b8dac
git_last_commit_date: 2025-10-29 10:11:34 -0500
nebbiolo1Linux (Ubuntu 24.04.3 LTS) / x86_64  OK    ERROR  skipped
Package 81/175HostnameOS / ArchINSTALLBUILDCHECKBUILD BIN
gmoviz 1.23.0  (landing page)
Kathleen Zeglinski
git_last_commit: 13acb8f
git_last_commit_date: 2025-10-29 10:57:48 -0500
nebbiolo1Linux (Ubuntu 24.04.3 LTS) / x86_64  OK    OK    OK  YES
Package 82/175HostnameOS / ArchINSTALLBUILDCHECKBUILD BIN
GOTHiC 1.47.0  (landing page)
Borbala Mifsud
git_last_commit: 7af2557
git_last_commit_date: 2025-10-29 10:52:56 -0500
nebbiolo1Linux (Ubuntu 24.04.3 LTS) / x86_64  OK    OK    OK  YES
Package 83/175HostnameOS / ArchINSTALLBUILDCHECKBUILD BIN
GreyListChIP 1.43.0  (landing page)
Matt Eldridge
git_last_commit: 8633e38
git_last_commit_date: 2025-10-29 10:23:48 -0500
nebbiolo1Linux (Ubuntu 24.04.3 LTS) / x86_64  OK    OK    OK  YES
Package 84/175HostnameOS / ArchINSTALLBUILDCHECKBUILD BIN
GUIDEseq 1.41.0  (landing page)
Lihua Julie Zhu
git_last_commit: 4a812cc
git_last_commit_date: 2025-10-29 10:28:16 -0500
nebbiolo1Linux (Ubuntu 24.04.3 LTS) / x86_64  ERROR    ERROR  skipped
Package 85/175HostnameOS / ArchINSTALLBUILDCHECKBUILD BIN
Gviz 1.55.0  (landing page)
Robert Ivanek
git_last_commit: 6339846
git_last_commit_date: 2025-10-29 10:10:17 -0500
nebbiolo1Linux (Ubuntu 24.04.3 LTS) / x86_64  OK    OK    OK  YES
Package 86/175HostnameOS / ArchINSTALLBUILDCHECKBUILD BIN
h5vc 2.45.0  (landing page)
Paul Theodor Pyl
git_last_commit: 39f8a8c
git_last_commit_date: 2025-10-29 10:17:13 -0500
nebbiolo1Linux (Ubuntu 24.04.3 LTS) / x86_64  OK    OK    OK  UNNEEDED, same version is already published
Package 87/175HostnameOS / ArchINSTALLBUILDCHECKBUILD BIN
HelloRanges 1.37.0  (landing page)
Michael Lawrence
git_last_commit: 38fc888
git_last_commit_date: 2025-10-29 10:35:10 -0500
nebbiolo1Linux (Ubuntu 24.04.3 LTS) / x86_64  OK    OK    OK  YES
Package 88/175HostnameOS / ArchINSTALLBUILDCHECKBUILD BIN
icetea 1.29.0  (landing page)
Vivek Bhardwaj
git_last_commit: 2bfbdfd
git_last_commit_date: 2025-10-29 10:45:57 -0500
nebbiolo1Linux (Ubuntu 24.04.3 LTS) / x86_64  OK    OK    WARNINGS  YES
Package 89/175HostnameOS / ArchINSTALLBUILDCHECKBUILD BIN
IMAS 1.35.0  (landing page)
Seonggyun Han
git_last_commit: 8fb5523
git_last_commit_date: 2025-10-29 10:38:10 -0500
nebbiolo1Linux (Ubuntu 24.04.3 LTS) / x86_64  OK    ERROR  skipped
Package 90/175HostnameOS / ArchINSTALLBUILDCHECKBUILD BIN
INSPEcT 1.41.0  (landing page)
Stefano de Pretis
git_last_commit: 54a4fbd
git_last_commit_date: 2025-10-29 10:26:37 -0500
nebbiolo1Linux (Ubuntu 24.04.3 LTS) / x86_64  OK    OK    OK  YES
Package 91/175HostnameOS / ArchINSTALLBUILDCHECKBUILD BIN
IntEREst 1.35.0  (landing page)
Ali Oghabian
git_last_commit: 0e454ed
git_last_commit_date: 2025-10-29 10:37:18 -0500
nebbiolo1Linux (Ubuntu 24.04.3 LTS) / x86_64  OK    ERROR  skipped
Package 92/175HostnameOS / ArchINSTALLBUILDCHECKBUILD BIN
karyoploteR 1.37.0  (landing page)
Bernat Gel
git_last_commit: fd32b1e
git_last_commit_date: 2025-10-29 10:36:38 -0500
nebbiolo1Linux (Ubuntu 24.04.3 LTS) / x86_64  OK    OK    OK  YES
Package 93/175HostnameOS / ArchINSTALLBUILDCHECKBUILD BIN
magpie 1.11.0  (landing page)
Daoyu Duan
git_last_commit: 48f31cd
git_last_commit_date: 2025-10-29 11:21:48 -0500
nebbiolo1Linux (Ubuntu 24.04.3 LTS) / x86_64  OK    OK    WARNINGS  YES
Package 94/175HostnameOS / ArchINSTALLBUILDCHECKBUILD BIN
MDTS 1.31.0  (landing page)
Jack M.. Fu
git_last_commit: c8a8ac4
git_last_commit_date: 2025-10-29 10:43:45 -0500
nebbiolo1Linux (Ubuntu 24.04.3 LTS) / x86_64  OK    OK    OK  UNNEEDED, same version is already published
Package 95/175HostnameOS / ArchINSTALLBUILDCHECKBUILD BIN
MEDIPS 1.63.0  (landing page)
Lukas Chavez
git_last_commit: b8a28dc
git_last_commit_date: 2025-10-29 10:06:09 -0500
nebbiolo1Linux (Ubuntu 24.04.3 LTS) / x86_64  OK    OK    OK  YES
Package 96/175HostnameOS / ArchINSTALLBUILDCHECKBUILD BIN
metagene2 1.27.0  (landing page)
Eric Fournier
git_last_commit: a49814f
git_last_commit_date: 2025-10-29 10:52:02 -0500
nebbiolo1Linux (Ubuntu 24.04.3 LTS) / x86_64  OK    OK    WARNINGS  YES
Package 97/175HostnameOS / ArchINSTALLBUILDCHECKBUILD BIN
metaseqR2 1.23.0  (landing page)
Panagiotis Moulos
git_last_commit: 25b9df1
git_last_commit_date: 2025-10-29 10:59:18 -0500
nebbiolo1Linux (Ubuntu 24.04.3 LTS) / x86_64  OK    OK    OK  YES
Package 98/175HostnameOS / ArchINSTALLBUILDCHECKBUILD BIN
methylKit 1.37.0  (landing page)
Altuna Akalin , Alexander Blume
git_last_commit: 1192e2b
git_last_commit_date: 2025-10-29 10:33:14 -0500
nebbiolo1Linux (Ubuntu 24.04.3 LTS) / x86_64  OK    OK    OK  YES
Package 99/175HostnameOS / ArchINSTALLBUILDCHECKBUILD BIN
methylPipe 1.45.0  (landing page)
Mattia Furlan
git_last_commit: 1246c88
git_last_commit_date: 2025-10-29 10:21:09 -0500
nebbiolo1Linux (Ubuntu 24.04.3 LTS) / x86_64  OK    OK    WARNINGS  YES
Package 100/175HostnameOS / ArchINSTALLBUILDCHECKBUILD BIN
MMDiff2 1.39.0  (landing page)
Gabriele Schweikert
git_last_commit: d528d04
git_last_commit_date: 2025-10-29 10:32:14 -0500
nebbiolo1Linux (Ubuntu 24.04.3 LTS) / x86_64  OK    OK    OK  YES
Package 101/175HostnameOS / ArchINSTALLBUILDCHECKBUILD BIN
mosaics 2.49.0  (landing page)
Dongjun Chung
git_last_commit: f190ca7
git_last_commit_date: 2025-10-29 10:06:36 -0500
nebbiolo1Linux (Ubuntu 24.04.3 LTS) / x86_64  OK    OK    OK  UNNEEDED, same version is already published
Package 102/175HostnameOS / ArchINSTALLBUILDCHECKBUILD BIN
motifmatchr 1.33.0  (landing page)
Alicia Schep
git_last_commit: c2e55a2
git_last_commit_date: 2025-10-29 10:38:55 -0500
nebbiolo1Linux (Ubuntu 24.04.3 LTS) / x86_64  OK    OK    OK  YES
Package 103/175HostnameOS / ArchINSTALLBUILDCHECKBUILD BIN
MotifPeeker 1.3.0  (landing page)
Hiranyamaya Dash
git_last_commit: fc93dac
git_last_commit_date: 2025-10-29 11:33:15 -0500
nebbiolo1Linux (Ubuntu 24.04.3 LTS) / x86_64  OK    OK    OK  YES
Package 104/175HostnameOS / ArchINSTALLBUILDCHECKBUILD BIN
msgbsR 1.35.0  (landing page)
Benjamin Mayne
git_last_commit: 77cc103
git_last_commit_date: 2025-10-29 10:38:42 -0500
nebbiolo1Linux (Ubuntu 24.04.3 LTS) / x86_64  OK    OK    OK  YES
Package 105/175HostnameOS / ArchINSTALLBUILDCHECKBUILD BIN
NADfinder 1.35.0  (landing page)
Jianhong Ou
git_last_commit: 7e7a887
git_last_commit_date: 2025-10-29 10:37:48 -0500
nebbiolo1Linux (Ubuntu 24.04.3 LTS) / x86_64  ERROR    ERROR  skipped
Package 106/175HostnameOS / ArchINSTALLBUILDCHECKBUILD BIN
NanoMethViz 3.7.0  (landing page)
Shian Su
git_last_commit: 4349b36
git_last_commit_date: 2025-10-29 11:04:08 -0500
nebbiolo1Linux (Ubuntu 24.04.3 LTS) / x86_64  OK    OK    OK  YES
Package 107/175HostnameOS / ArchINSTALLBUILDCHECKBUILD BIN
nearBynding 1.21.0  (landing page)
Veronica Busa
git_last_commit: b814dff
git_last_commit_date: 2025-10-29 11:02:17 -0500
nebbiolo1Linux (Ubuntu 24.04.3 LTS) / x86_64  OK    OK    OK  YES
Package 108/175HostnameOS / ArchINSTALLBUILDCHECKBUILD BIN
nucleR 2.43.0  (landing page)
Alba Sala
git_last_commit: 3db28f8
git_last_commit_date: 2025-10-29 10:08:16 -0500
nebbiolo1Linux (Ubuntu 24.04.3 LTS) / x86_64  OK    OK    WARNINGS  UNNEEDED, same version is already published
Package 109/175HostnameOS / ArchINSTALLBUILDCHECKBUILD BIN
ORFik 1.31.0  (landing page)
Haakon Tjeldnes
git_last_commit: 1c0375d
git_last_commit_date: 2025-10-29 10:45:22 -0500
nebbiolo1Linux (Ubuntu 24.04.3 LTS) / x86_64  OK    OK    OK  YES
Package 110/175HostnameOS / ArchINSTALLBUILDCHECKBUILD BIN
panelcn.mops 1.33.0  (landing page)
Gundula Povysil
git_last_commit: 5e38d91
git_last_commit_date: 2025-10-29 10:40:57 -0500
nebbiolo1Linux (Ubuntu 24.04.3 LTS) / x86_64  OK    OK    OK  UNNEEDED, same version is already published
Package 111/175HostnameOS / ArchINSTALLBUILDCHECKBUILD BIN
PICB 1.3.0  (landing page)
Franziska Ahrend
git_last_commit: d455820
git_last_commit_date: 2025-10-29 11:34:05 -0500
nebbiolo1Linux (Ubuntu 24.04.3 LTS) / x86_64  OK    OK    OK  UNNEEDED, same version is already published
Package 112/175HostnameOS / ArchINSTALLBUILDCHECKBUILD BIN
plyranges 1.31.0  (landing page)
Michael Love
git_last_commit: f6aa1f9
git_last_commit_date: 2025-10-29 10:44:22 -0500
nebbiolo1Linux (Ubuntu 24.04.3 LTS) / x86_64  OK    OK    OK  YES
Package 113/175HostnameOS / ArchINSTALLBUILDCHECKBUILD BIN
podkat 1.43.0  (landing page)
Ulrich Bodenhofer
git_last_commit: d216a17
git_last_commit_date: 2025-10-29 10:24:59 -0500
nebbiolo1Linux (Ubuntu 24.04.3 LTS) / x86_64  OK    OK    OK  YES
Package 114/175HostnameOS / ArchINSTALLBUILDCHECKBUILD BIN
pram 1.27.0  (landing page)
Peng Liu
git_last_commit: e034cdc
git_last_commit_date: 2025-10-29 10:50:34 -0500
nebbiolo1Linux (Ubuntu 24.04.3 LTS) / x86_64  OK    OK    OK  YES
Package 115/175HostnameOS / ArchINSTALLBUILDCHECKBUILD BIN
profileplyr 1.27.0  (landing page)
Tom Carroll , Doug Barrows
git_last_commit: c441d3c
git_last_commit_date: 2025-10-29 10:51:25 -0500
nebbiolo1Linux (Ubuntu 24.04.3 LTS) / x86_64  ERROR    ERROR  skipped
Package 116/175HostnameOS / ArchINSTALLBUILDCHECKBUILD BIN
PureCN 2.17.0  (landing page)
Markus Riester
git_last_commit: 3330cff
git_last_commit_date: 2025-10-29 10:31:57 -0500
nebbiolo1Linux (Ubuntu 24.04.3 LTS) / x86_64  OK    OK    OK  YES
Package 117/175HostnameOS / ArchINSTALLBUILDCHECKBUILD BIN
QDNAseq 1.47.0  (landing page)
Daoud Sie
git_last_commit: 2bb3c9e
git_last_commit_date: 2025-10-29 10:18:34 -0500
nebbiolo1Linux (Ubuntu 24.04.3 LTS) / x86_64  OK    OK    OK  UNNEEDED, same version is already published
Package 118/175HostnameOS / ArchINSTALLBUILDCHECKBUILD BIN
qsea 1.37.0  (landing page)
Matthias Lienhard
git_last_commit: ef750af
git_last_commit_date: 2025-10-29 10:32:56 -0500
nebbiolo1Linux (Ubuntu 24.04.3 LTS) / x86_64  OK    OK    WARNINGS  YES
Package 119/175HostnameOS / ArchINSTALLBUILDCHECKBUILD BIN
QuasR 1.51.0  (landing page)
Michael Stadler
git_last_commit: 331f3b2
git_last_commit_date: 2025-10-29 10:13:16 -0500
nebbiolo1Linux (Ubuntu 24.04.3 LTS) / x86_64  OK    OK    WARNINGS  YES
Package 120/175HostnameOS / ArchINSTALLBUILDCHECKBUILD BIN
r3Cseq 1.57.0  (landing page)
Supat Thongjuea or
git_last_commit: b35813f
git_last_commit_date: 2025-10-29 10:09:24 -0500
nebbiolo1Linux (Ubuntu 24.04.3 LTS) / x86_64  OK    OK    OK  YES
Package 121/175HostnameOS / ArchINSTALLBUILDCHECKBUILD BIN
R453Plus1Toolbox 1.61.0  (landing page)
Hans-Ulrich Klein
git_last_commit: b396ba9
git_last_commit_date: 2025-10-29 10:06:02 -0500
nebbiolo1Linux (Ubuntu 24.04.3 LTS) / x86_64  OK    ERROR  skipped
Package 122/175HostnameOS / ArchINSTALLBUILDCHECKBUILD BIN
raer 1.9.0  (landing page)
Kent Riemondy
git_last_commit: 94ed43d
git_last_commit_date: 2025-10-29 11:26:05 -0500
nebbiolo1Linux (Ubuntu 24.04.3 LTS) / x86_64  OK    OK    OK  YES
Package 123/175HostnameOS / ArchINSTALLBUILDCHECKBUILD BIN
RAIDS 1.9.0  (landing page)
Pascal Belleau
git_last_commit: 27cee94
git_last_commit_date: 2025-10-29 11:25:36 -0500
nebbiolo1Linux (Ubuntu 24.04.3 LTS) / x86_64  OK    OK    OK  NO, package depends on 'GENESIS' which is not available
Package 124/175HostnameOS / ArchINSTALLBUILDCHECKBUILD BIN
ramwas 1.35.0  (landing page)
Andrey A Shabalin
git_last_commit: 4c78862
git_last_commit_date: 2025-10-29 10:36:00 -0500
nebbiolo1Linux (Ubuntu 24.04.3 LTS) / x86_64  OK    OK    OK  UNNEEDED, same version is already published
Package 125/175HostnameOS / ArchINSTALLBUILDCHECKBUILD BIN
Rbowtie2 2.17.0  (landing page)
Zheng Wei
git_last_commit: 037bb32
git_last_commit_date: 2025-10-29 10:40:31 -0500
nebbiolo1Linux (Ubuntu 24.04.3 LTS) / x86_64  OK    OK    OK  UNNEEDED, same version is already published
Package 126/175HostnameOS / ArchINSTALLBUILDCHECKBUILD BIN
recoup 1.39.0  (landing page)
Panagiotis Moulos
git_last_commit: 66d3f66
git_last_commit_date: 2025-10-29 10:31:02 -0500
nebbiolo1Linux (Ubuntu 24.04.3 LTS) / x86_64  OK    OK    OK  YES
Package 127/175HostnameOS / ArchINSTALLBUILDCHECKBUILD BIN
RepViz 1.27.0  (landing page)
Thomas Faux, Asta Laiho
git_last_commit: ca319c2
git_last_commit_date: 2025-10-29 10:51:36 -0500
nebbiolo1Linux (Ubuntu 24.04.3 LTS) / x86_64  OK    ERROR  skipped
Package 128/175HostnameOS / ArchINSTALLBUILDCHECKBUILD BIN
rfPred 1.49.0  (landing page)
Hugo Varet
git_last_commit: 553494c
git_last_commit_date: 2025-10-29 10:15:50 -0500
nebbiolo1Linux (Ubuntu 24.04.3 LTS) / x86_64  OK    OK    OK  UNNEEDED, same version is already published
Package 129/175HostnameOS / ArchINSTALLBUILDCHECKBUILD BIN
RiboDiPA 1.19.0  (landing page)
Ji-Ping Wang
git_last_commit: 2487cc4
git_last_commit_date: 2025-10-29 11:05:49 -0500
nebbiolo1Linux (Ubuntu 24.04.3 LTS) / x86_64  OK    OK    OK  YES
Package 130/175HostnameOS / ArchINSTALLBUILDCHECKBUILD BIN
RiboProfiling 1.41.0  (landing page)
A. Popa
git_last_commit: db90a52
git_last_commit_date: 2025-10-29 10:28:21 -0500
nebbiolo1Linux (Ubuntu 24.04.3 LTS) / x86_64  OK    ERROR  skipped
Package 131/175HostnameOS / ArchINSTALLBUILDCHECKBUILD BIN
riboSeqR 1.45.0  (landing page)
Samuel Granjeaud
git_last_commit: 77f80b5
git_last_commit_date: 2025-10-29 10:20:05 -0500
nebbiolo1Linux (Ubuntu 24.04.3 LTS) / x86_64  OK    OK    OK  UNNEEDED, same version is already published
Package 132/175HostnameOS / ArchINSTALLBUILDCHECKBUILD BIN
ribosomeProfilingQC 1.23.0  (landing page)
Jianhong Ou
git_last_commit: bad02b9
git_last_commit_date: 2025-10-29 10:57:03 -0500
nebbiolo1Linux (Ubuntu 24.04.3 LTS) / x86_64  OK    OK    OK  YES
Package 133/175HostnameOS / ArchINSTALLBUILDCHECKBUILD BIN
RNAmodR 1.25.0  (landing page)
Felix G.M. Ernst
git_last_commit: 7e3ea7f
git_last_commit_date: 2025-10-29 10:52:38 -0500
nebbiolo1Linux (Ubuntu 24.04.3 LTS) / x86_64  OK    OK    OK  YES
Package 134/175HostnameOS / ArchINSTALLBUILDCHECKBUILD BIN
Rqc 1.45.0  (landing page)
Welliton Souza
git_last_commit: 81cf3fd
git_last_commit_date: 2025-10-29 10:22:46 -0500
nebbiolo1Linux (Ubuntu 24.04.3 LTS) / x86_64  OK    OK    OK  YES
Package 135/175HostnameOS / ArchINSTALLBUILDCHECKBUILD BIN
rtracklayer 1.71.0  (landing page)
Michael Lawrence
git_last_commit: 65cde22
git_last_commit_date: 2025-10-29 10:00:29 -0500
nebbiolo1Linux (Ubuntu 24.04.3 LTS) / x86_64  OK    OK    WARNINGS  YES
Package 136/175HostnameOS / ArchINSTALLBUILDCHECKBUILD BIN
scDblFinder 1.25.0  (landing page)
Pierre-Luc Germain
git_last_commit: dffe1fe
git_last_commit_date: 2025-10-29 10:55:23 -0500
nebbiolo1Linux (Ubuntu 24.04.3 LTS) / x86_64  OK    OK    OK  YES
Package 137/175HostnameOS / ArchINSTALLBUILDCHECKBUILD BIN
SCOPE 1.23.0  (landing page)
Rujin Wang
git_last_commit: ba69d58
git_last_commit_date: 2025-10-29 10:56:53 -0500
nebbiolo1Linux (Ubuntu 24.04.3 LTS) / x86_64  OK    OK    OK  YES
Package 138/175HostnameOS / ArchINSTALLBUILDCHECKBUILD BIN
scPipe 2.11.0  (landing page)
Shian Su
git_last_commit: fbfb464
git_last_commit_date: 2025-10-29 10:41:32 -0500
nebbiolo1Linux (Ubuntu 24.04.3 LTS) / x86_64  OK    OK    OK  YES
Package 139/175HostnameOS / ArchINSTALLBUILDCHECKBUILD BIN
scRNAseqApp 1.11.0  (landing page)
Jianhong Ou
git_last_commit: 781d06f
git_last_commit_date: 2025-10-29 11:20:39 -0500
nebbiolo1Linux (Ubuntu 24.04.3 LTS) / x86_64  OK    OK    OK  YES
Package 140/175HostnameOS / ArchINSTALLBUILDCHECKBUILD BIN
scruff 1.29.0  (landing page)
Zhe Wang
git_last_commit: e5f29bf
git_last_commit_date: 2025-10-29 10:46:27 -0500
nebbiolo1Linux (Ubuntu 24.04.3 LTS) / x86_64  OK    OK    OK  YES
Package 141/175HostnameOS / ArchINSTALLBUILDCHECKBUILD BIN
segmentSeq 2.45.0  (landing page)
Samuel Granjeaud
git_last_commit: a33a34a
git_last_commit_date: 2025-10-29 10:04:32 -0500
nebbiolo1Linux (Ubuntu 24.04.3 LTS) / x86_64  OK    OK    OK  UNNEEDED, same version is already published
Package 142/175HostnameOS / ArchINSTALLBUILDCHECKBUILD BIN
seqsetvis 1.31.0  (landing page)
Joseph R Boyd
git_last_commit: 1aad17d
git_last_commit_date: 2025-10-29 10:44:19 -0500
nebbiolo1Linux (Ubuntu 24.04.3 LTS) / x86_64  OK    ERROR  skipped
Package 143/175HostnameOS / ArchINSTALLBUILDCHECKBUILD BIN
SGSeq 1.45.0  (landing page)
Leonard Goldstein
git_last_commit: fef2917
git_last_commit_date: 2025-10-29 10:22:27 -0500
nebbiolo1Linux (Ubuntu 24.04.3 LTS) / x86_64  OK    OK    OK  YES
Package 144/175HostnameOS / ArchINSTALLBUILDCHECKBUILD BIN
ShortRead 1.69.1  (landing page)
Bioconductor Package Maintainer
git_last_commit: c488f29
git_last_commit_date: 2025-10-31 12:50:57 -0500
nebbiolo1Linux (Ubuntu 24.04.3 LTS) / x86_64  OK    OK    WARNINGS  UNNEEDED, same version is already published
Package 145/175HostnameOS / ArchINSTALLBUILDCHECKBUILD BIN
SICtools 1.41.0  (landing page)
Xiaobin Xing
git_last_commit: d34246d
git_last_commit_date: 2025-10-29 10:28:10 -0500
nebbiolo1Linux (Ubuntu 24.04.3 LTS) / x86_64  OK    OK    WARNINGS  UNNEEDED, same version is already published
Package 146/175HostnameOS / ArchINSTALLBUILDCHECKBUILD BIN
SimFFPE 1.23.0  (landing page)
Lanying Wei
git_last_commit: daeddda
git_last_commit_date: 2025-10-29 10:56:29 -0500
nebbiolo1Linux (Ubuntu 24.04.3 LTS) / x86_64  OK    OK    OK  UNNEEDED, same version is already published
Package 147/175HostnameOS / ArchINSTALLBUILDCHECKBUILD BIN
sitadela 1.19.0  (landing page)
Panagiotis Moulos
git_last_commit: 45b2af3
git_last_commit_date: 2025-10-29 11:07:04 -0500
nebbiolo1Linux (Ubuntu 24.04.3 LTS) / x86_64  OK    OK    OK  YES
Package 148/175HostnameOS / ArchINSTALLBUILDCHECKBUILD BIN
SNPhood 1.41.0  (landing page)
Christian Arnold
git_last_commit: 4de7497
git_last_commit_date: 2025-10-29 10:28:24 -0500
nebbiolo1Linux (Ubuntu 24.04.3 LTS) / x86_64  OK    OK    OK  YES
Package 149/175HostnameOS / ArchINSTALLBUILDCHECKBUILD BIN
soGGi 1.43.0  (landing page)
Tom Carroll
git_last_commit: c0596bd
git_last_commit_date: 2025-10-29 10:25:37 -0500
nebbiolo1Linux (Ubuntu 24.04.3 LTS) / x86_64  OK    OK    ERROR  
Package 150/175HostnameOS / ArchINSTALLBUILDCHECKBUILD BIN
spiky 1.17.0  (landing page)
Tim Triche
git_last_commit: 5e5bb23
git_last_commit_date: 2025-10-29 11:10:11 -0500
nebbiolo1Linux (Ubuntu 24.04.3 LTS) / x86_64  OK    OK    OK  YES
Package 151/175HostnameOS / ArchINSTALLBUILDCHECKBUILD BIN
SplicingGraphs 1.51.1  (landing page)
H. Pagès
git_last_commit: 8abbef9
git_last_commit_date: 2025-11-02 12:50:45 -0500
nebbiolo1Linux (Ubuntu 24.04.3 LTS) / x86_64  OK    OK    WARNINGS  YES
Package 152/175HostnameOS / ArchINSTALLBUILDCHECKBUILD BIN
srnadiff 1.31.0  (landing page)
Zytnicki Matthias
git_last_commit: 680956d
git_last_commit_date: 2025-10-29 10:43:01 -0500
nebbiolo1Linux (Ubuntu 24.04.3 LTS) / x86_64  OK    OK    WARNINGS  YES
Package 153/175HostnameOS / ArchINSTALLBUILDCHECKBUILD BIN
ssviz 1.45.0  (landing page)
Diana Low
git_last_commit: ba9f121
git_last_commit_date: 2025-10-29 10:20:02 -0500
nebbiolo1Linux (Ubuntu 24.04.3 LTS) / x86_64  OK    OK    OK  UNNEEDED, same version is already published
Package 154/175HostnameOS / ArchINSTALLBUILDCHECKBUILD BIN
strandCheckR 1.29.0  (landing page)
Thu-Hien To
git_last_commit: b8130fd
git_last_commit_date: 2025-10-29 10:46:35 -0500
nebbiolo1Linux (Ubuntu 24.04.3 LTS) / x86_64  OK    OK    OK  UNNEEDED, same version is already published
Package 155/175HostnameOS / ArchINSTALLBUILDCHECKBUILD BIN
systemPipeR 2.17.0  (landing page)
Thomas Girke
git_last_commit: 378a792
git_last_commit_date: 2025-10-29 10:21:27 -0500
nebbiolo1Linux (Ubuntu 24.04.3 LTS) / x86_64  OK    OK    OK  UNNEEDED, same version is already published
Package 156/175HostnameOS / ArchINSTALLBUILDCHECKBUILD BIN
tadar 1.9.0  (landing page)
Lachlan Baer
git_last_commit: 7b05448
git_last_commit_date: 2025-10-29 11:25:24 -0500
nebbiolo1Linux (Ubuntu 24.04.3 LTS) / x86_64  OK    OK    OK  YES
Package 157/175HostnameOS / ArchINSTALLBUILDCHECKBUILD BIN
TCseq 1.35.0  (landing page)
Mengjun Wu
git_last_commit: 049f241
git_last_commit_date: 2025-10-29 10:36:13 -0500
nebbiolo1Linux (Ubuntu 24.04.3 LTS) / x86_64  OK    OK    WARNINGS  UNNEEDED, same version is already published
Package 158/175HostnameOS / ArchINSTALLBUILDCHECKBUILD BIN
TEQC 4.33.0  (landing page)
Sarah Bonnin
git_last_commit: bd3d4b2
git_last_commit_date: 2025-10-29 10:06:21 -0500
nebbiolo1Linux (Ubuntu 24.04.3 LTS) / x86_64  OK    OK    WARNINGS  UNNEEDED, same version is already published
Package 159/175HostnameOS / ArchINSTALLBUILDCHECKBUILD BIN
TFutils 1.31.0  (landing page)
Vincent Carey
git_last_commit: 775ebfc
git_last_commit_date: 2025-10-29 10:44:40 -0500
nebbiolo1Linux (Ubuntu 24.04.3 LTS) / x86_64  OK    OK    OK  YES
Package 160/175HostnameOS / ArchINSTALLBUILDCHECKBUILD BIN
tracktables 1.45.0  (landing page)
Tom Carroll
git_last_commit: 6d7475c
git_last_commit_date: 2025-10-29 10:22:38 -0500
nebbiolo1Linux (Ubuntu 24.04.3 LTS) / x86_64  OK    OK    WARNINGS  UNNEEDED, same version is already published
Package 161/175HostnameOS / ArchINSTALLBUILDCHECKBUILD BIN
trackViewer 1.47.0  (landing page)
Jianhong Ou
git_last_commit: c2b7d9b
git_last_commit_date: 2025-10-29 10:17:52 -0500
nebbiolo1Linux (Ubuntu 24.04.3 LTS) / x86_64  OK    OK    OK  YES
Package 162/175HostnameOS / ArchINSTALLBUILDCHECKBUILD BIN
transcriptR 1.39.0  (landing page)
Armen R. Karapetyan
git_last_commit: 24cea71
git_last_commit_date: 2025-10-29 10:29:09 -0500
nebbiolo1Linux (Ubuntu 24.04.3 LTS) / x86_64  OK    OK    ERROR  
Package 163/175HostnameOS / ArchINSTALLBUILDCHECKBUILD BIN
TRESS 1.17.0  (landing page)
Zhenxing Guo
git_last_commit: 36f1f10
git_last_commit_date: 2025-10-29 11:12:49 -0500
nebbiolo1Linux (Ubuntu 24.04.3 LTS) / x86_64  OK    OK    OK  YES
Package 164/175HostnameOS / ArchINSTALLBUILDCHECKBUILD BIN
tRNAscanImport 1.31.0  (landing page)
Felix G.M. Ernst
git_last_commit: f9f96ff
git_last_commit_date: 2025-10-29 10:43:40 -0500
nebbiolo1Linux (Ubuntu 24.04.3 LTS) / x86_64  OK    OK    OK  YES
Package 165/175HostnameOS / ArchINSTALLBUILDCHECKBUILD BIN
TVTB 1.37.0  (landing page)
Kevin Rue-Albrecht
git_last_commit: 7c8a13b
git_last_commit_date: 2025-10-29 10:35:21 -0500
nebbiolo1Linux (Ubuntu 24.04.3 LTS) / x86_64  OK    OK    OK  YES
Package 166/175HostnameOS / ArchINSTALLBUILDCHECKBUILD BIN
UMI4Cats 1.21.0  (landing page)
Mireia Ramos-Rodriguez
git_last_commit: f049a0a
git_last_commit_date: 2025-10-29 11:01:19 -0500
nebbiolo1Linux (Ubuntu 24.04.3 LTS) / x86_64  OK    OK    OK  YES
Package 167/175HostnameOS / ArchINSTALLBUILDCHECKBUILD BIN
uncoverappLib 1.21.0  (landing page)
Emanuela Iovino
git_last_commit: 99c7088
git_last_commit_date: 2025-10-29 11:01:16 -0500
nebbiolo1Linux (Ubuntu 24.04.3 LTS) / x86_64  OK    OK    OK  YES
Package 168/175HostnameOS / ArchINSTALLBUILDCHECKBUILD BIN
VariantAnnotation 1.57.0  (landing page)
Bioconductor Package Maintainer
git_last_commit: 0da7ddb
git_last_commit_date: 2025-10-29 10:08:24 -0500
nebbiolo1Linux (Ubuntu 24.04.3 LTS) / x86_64  OK    OK    WARNINGS  YES
Package 169/175HostnameOS / ArchINSTALLBUILDCHECKBUILD BIN
VariantFiltering 1.47.0  (landing page)
Robert Castelo
git_last_commit: 270d88d
git_last_commit_date: 2025-10-29 10:19:08 -0500
nebbiolo1Linux (Ubuntu 24.04.3 LTS) / x86_64  OK    OK    OK  YES
Package 170/175HostnameOS / ArchINSTALLBUILDCHECKBUILD BIN
VariantTools 1.53.0  (landing page)
Michael Lawrence
git_last_commit: 4083347
git_last_commit_date: 2025-10-29 10:12:36 -0500
nebbiolo1Linux (Ubuntu 24.04.3 LTS) / x86_64  OK    ERROR  skipped
Package 171/175HostnameOS / ArchINSTALLBUILDCHECKBUILD BIN
VaSP 1.23.0  (landing page)
Huihui Yu
git_last_commit: 2b50758
git_last_commit_date: 2025-10-29 10:57:01 -0500
nebbiolo1Linux (Ubuntu 24.04.3 LTS) / x86_64  OK    OK    OK  YES
Package 172/175HostnameOS / ArchINSTALLBUILDCHECKBUILD BIN
VCFArray 1.27.0  (landing page)
Qian Liu
git_last_commit: c9fb606
git_last_commit_date: 2025-10-29 10:49:16 -0500
nebbiolo1Linux (Ubuntu 24.04.3 LTS) / x86_64  OK    OK    OK  YES
Package 173/175HostnameOS / ArchINSTALLBUILDCHECKBUILD BIN
VplotR 1.21.0  (landing page)
Jacques Serizay
git_last_commit: c54c82d
git_last_commit_date: 2025-10-29 11:01:33 -0500
nebbiolo1Linux (Ubuntu 24.04.3 LTS) / x86_64  OK    OK    ERROR  
Package 174/175HostnameOS / ArchINSTALLBUILDCHECKBUILD BIN
wavClusteR 2.45.0  (landing page)
Federico Comoglio
git_last_commit: f078fce
git_last_commit_date: 2025-10-29 10:19:50 -0500
nebbiolo1Linux (Ubuntu 24.04.3 LTS) / x86_64  ERROR    ERROR  skipped
Package 175/175HostnameOS / ArchINSTALLBUILDCHECKBUILD BIN
ZygosityPredictor 1.11.0  (landing page)
Marco Rheinnecker
git_last_commit: 21ba67a
git_last_commit_date: 2025-10-29 11:22:08 -0500
nebbiolo1Linux (Ubuntu 24.04.3 LTS) / x86_64  OK    OK    OK  YES