Back to Multiple platform build/check report for BioC 3.22:   simplified   long
ABCDEFGHIJKLMNOPQR[S]TUVWXYZ

This page was generated on 2025-10-13 12:04 -0400 (Mon, 13 Oct 2025).

HostnameOSArch (*)R versionInstalled pkgs
nebbiolo2Linux (Ubuntu 24.04.3 LTS)x86_644.5.1 Patched (2025-08-23 r88802) -- "Great Square Root" 4864
lconwaymacOS 12.7.1 Montereyx86_644.5.1 Patched (2025-09-10 r88807) -- "Great Square Root" 4652
kjohnson3macOS 13.7.7 Venturaarm644.5.1 Patched (2025-09-10 r88807) -- "Great Square Root" 4597
taishanLinux (openEuler 24.03 LTS)aarch644.5.0 (2025-04-11) -- "How About a Twenty-Six" 4586
Click on any hostname to see more info about the system (e.g. compilers)      (*) as reported by 'uname -p', except on Windows and Mac OS X

Package 1974/2346HostnameOS / ArchINSTALLBUILDCHECKBUILD BIN
seqsetvis 1.29.1  (landing page)
Joseph R Boyd
Snapshot Date: 2025-10-12 13:45 -0400 (Sun, 12 Oct 2025)
git_url: https://git.bioconductor.org/packages/seqsetvis
git_branch: devel
git_last_commit: c75429d
git_last_commit_date: 2025-07-23 17:50:06 -0400 (Wed, 23 Jul 2025)
nebbiolo2Linux (Ubuntu 24.04.3 LTS) / x86_64  OK    OK    OK  UNNEEDED, same version is already published
lconwaymacOS 12.7.1 Monterey / x86_64  OK    OK    OK    OK  UNNEEDED, same version is already published
kjohnson3macOS 13.7.7 Ventura / arm64  OK    OK    OK    OK  UNNEEDED, same version is already published
taishanLinux (openEuler 24.03 LTS) / aarch64  OK    OK    OK  


CHECK results for seqsetvis on nebbiolo2

To the developers/maintainers of the seqsetvis package:
- Allow up to 24 hours (and sometimes 48 hours) for your latest push to git@git.bioconductor.org:packages/seqsetvis.git to reflect on this report. See Troubleshooting Build Report for more information.
- Use the following Renviron settings to reproduce errors and warnings.
- If 'R CMD check' started to fail recently on the Linux builder(s) over a missing dependency, add the missing dependency to 'Suggests:' in your DESCRIPTION file. See Renviron.bioc for more information.

raw results


Summary

Package: seqsetvis
Version: 1.29.1
Command: /home/biocbuild/bbs-3.22-bioc/R/bin/R CMD check --install=check:seqsetvis.install-out.txt --library=/home/biocbuild/bbs-3.22-bioc/R/site-library --timings seqsetvis_1.29.1.tar.gz
StartedAt: 2025-10-13 04:12:47 -0400 (Mon, 13 Oct 2025)
EndedAt: 2025-10-13 04:24:37 -0400 (Mon, 13 Oct 2025)
EllapsedTime: 709.8 seconds
RetCode: 0
Status:   OK  
CheckDir: seqsetvis.Rcheck
Warnings: 0

Command output

##############################################################################
##############################################################################
###
### Running command:
###
###   /home/biocbuild/bbs-3.22-bioc/R/bin/R CMD check --install=check:seqsetvis.install-out.txt --library=/home/biocbuild/bbs-3.22-bioc/R/site-library --timings seqsetvis_1.29.1.tar.gz
###
##############################################################################
##############################################################################


* using log directory ‘/home/biocbuild/bbs-3.22-bioc/meat/seqsetvis.Rcheck’
* using R version 4.5.1 Patched (2025-08-23 r88802)
* using platform: x86_64-pc-linux-gnu
* R was compiled by
    gcc (Ubuntu 13.3.0-6ubuntu2~24.04) 13.3.0
    GNU Fortran (Ubuntu 13.3.0-6ubuntu2~24.04) 13.3.0
* running under: Ubuntu 24.04.3 LTS
* using session charset: UTF-8
* checking for file ‘seqsetvis/DESCRIPTION’ ... OK
* checking extension type ... Package
* this is package ‘seqsetvis’ version ‘1.29.1’
* package encoding: UTF-8
* checking package namespace information ... OK
* checking package dependencies ... OK
* checking if this is a source package ... OK
* checking if there is a namespace ... OK
* checking for hidden files and directories ... OK
* checking for portable file names ... OK
* checking for sufficient/correct file permissions ... OK
* checking whether package ‘seqsetvis’ can be installed ... OK
* checking installed package size ... OK
* checking package directory ... OK
* checking ‘build’ directory ... OK
* checking DESCRIPTION meta-information ... OK
* checking top-level files ... OK
* checking for left-over files ... OK
* checking index information ... OK
* checking package subdirectories ... OK
* checking code files for non-ASCII characters ... OK
* checking R files for syntax errors ... OK
* checking whether the package can be loaded ... OK
* checking whether the package can be loaded with stated dependencies ... OK
* checking whether the package can be unloaded cleanly ... OK
* checking whether the namespace can be loaded with stated dependencies ... OK
* checking whether the namespace can be unloaded cleanly ... OK
* checking loading without being on the library search path ... OK
* checking dependencies in R code ... OK
* checking S3 generic/method consistency ... OK
* checking replacement functions ... OK
* checking foreign function calls ... OK
* checking R code for possible problems ... OK
* checking Rd files ... OK
* checking Rd metadata ... OK
* checking Rd cross-references ... OK
* checking for missing documentation entries ... OK
* checking for code/documentation mismatches ... OK
* checking Rd \usage sections ... OK
* checking Rd contents ... OK
* checking for unstated dependencies in examples ... OK
* checking contents of ‘data’ directory ... OK
* checking data for non-ASCII characters ... OK
* checking data for ASCII and uncompressed saves ... OK
* checking files in ‘vignettes’ ... OK
* checking examples ... OK
Examples with CPU (user + system) or elapsed time > 5s
                              user system elapsed
ssvSignalHeatmap             9.882  0.046   4.575
ssvSignalHeatmap.ClusterBars 8.147  0.049   4.159
ssvSignalClustering          8.000  0.140   4.193
ssvFetchBamPE.RNA            7.738  0.019   1.574
ssvFeatureBinaryHeatmap      6.412  0.252   6.664
ssvSignalBandedQuantiles     6.157  0.047   3.946
merge_clusters               5.863  0.024   4.020
ssvFetchBam                  5.712  0.010   5.668
applySpline                  5.237  0.017   0.609
* checking for unstated dependencies in ‘tests’ ... OK
* checking tests ...
  Running ‘testthat.R’
 OK
* checking for unstated dependencies in vignettes ... OK
* checking package vignettes ... OK
* checking re-building of vignette outputs ... OK
* checking PDF version of manual ... OK
* DONE

Status: OK


Installation output

seqsetvis.Rcheck/00install.out

##############################################################################
##############################################################################
###
### Running command:
###
###   /home/biocbuild/bbs-3.22-bioc/R/bin/R CMD INSTALL seqsetvis
###
##############################################################################
##############################################################################


* installing to library ‘/home/biocbuild/bbs-3.22-bioc/R/site-library’
* installing *source* package ‘seqsetvis’ ...
** this is package ‘seqsetvis’ version ‘1.29.1’
** using staged installation
** R
** data
** inst
** byte-compile and prepare package for lazy loading
** help
*** installing help indices
** building package indices
** installing vignettes
** testing if installed package can be loaded from temporary location
** testing if installed package can be loaded from final location
** testing if installed package keeps a record of temporary installation path
* DONE (seqsetvis)

Tests output

seqsetvis.Rcheck/tests/testthat.Rout


R version 4.5.1 Patched (2025-08-23 r88802) -- "Great Square Root"
Copyright (C) 2025 The R Foundation for Statistical Computing
Platform: x86_64-pc-linux-gnu

R is free software and comes with ABSOLUTELY NO WARRANTY.
You are welcome to redistribute it under certain conditions.
Type 'license()' or 'licence()' for distribution details.

R is a collaborative project with many contributors.
Type 'contributors()' for more information and
'citation()' on how to cite R or R packages in publications.

Type 'demo()' for some demos, 'help()' for on-line help, or
'help.start()' for an HTML browser interface to help.
Type 'q()' to quit R.

> 
> ## load dependencies
> library(testthat)
> library(seqsetvis)
Loading required package: ggplot2
> library(data.table)
> 
> ## test package
> test_check(package = "seqsetvis")
[ FAIL 0 | WARN 3 | SKIP 0 | PASS 1291 ]

[ FAIL 0 | WARN 3 | SKIP 0 | PASS 1291 ]
> 
> proc.time()
   user  system elapsed 
329.530   2.107 262.031 

Example timings

seqsetvis.Rcheck/seqsetvis-Ex.timings

nameusersystemelapsed
add_cluster_annotation4.3370.1463.700
append_ynorm0.1130.0000.042
applyMovingAverage1.5490.0240.938
applySpline5.2370.0170.609
assemble_heatmap_cluster_bars1.8510.0050.931
calc_norm_factors0.0650.0000.022
centerAtMax1.1400.0110.279
centerFixedSizeGRanges0.1230.0030.125
centerGRangesAtMax1.6600.0200.507
clusteringKmeans0.0740.0000.025
clusteringKmeansNestedHclust0.0720.0010.029
col2hex0.0000.0010.001
collapse_gr0.6590.0140.673
convert_collapsed_coord0.2360.0080.244
copy_clust_info2.6100.0121.659
crossCorrByRle0.3960.0070.403
easyLoad_FUN0.0480.0000.048
easyLoad_IDRmerged0.0410.0000.040
easyLoad_bed0.1130.0000.113
easyLoad_broadPeak0.0350.0000.035
easyLoad_narrowPeak0.0360.0000.036
easyLoad_seacr0.0400.0010.041
expandCigar0.1860.0010.153
findMaxPos0.0690.0010.033
fragLen_calcStranded2.2820.0071.622
fragLen_fromMacs2Xls0.0020.0000.002
getReadLength0.0510.0000.050
get_mapped_reads0.0080.0000.008
ggellipse0.8110.0010.813
harmonize_seqlengths0.0900.0020.092
make_clustering_matrix0.1150.0000.068
merge_clusters5.8630.0244.020
prepare_fetch_GRanges0.0270.0010.027
prepare_fetch_GRanges_names0.0740.0010.075
prepare_fetch_GRanges_width0.0270.0000.027
quantileGRangesWidth0.0020.0000.002
reorder_clusters_hclust3.2040.0072.303
reorder_clusters_manual2.0480.0061.222
reorder_clusters_stepdown3.8940.0663.190
reverse_clusters3.4800.0052.458
safeBrew0.0190.0030.022
split_cluster4.6770.0372.181
ssvAnnotateSubjectGRanges0.9410.0060.948
ssvConsensusIntervalSets0.2950.0020.297
ssvFactorizeMembTable0.0130.0000.013
ssvFeatureBars0.8310.0010.832
ssvFeatureBinaryHeatmap6.4120.2526.664
ssvFeatureEuler0.8020.0010.803
ssvFeaturePie0.6180.0020.620
ssvFeatureUpset3.1050.0283.132
ssvFeatureVenn1.4290.0041.433
ssvFetchBam5.7120.0105.668
ssvFetchBamPE1.7520.0011.754
ssvFetchBamPE.RNA7.7380.0191.574
ssvFetchBigwig1.2950.0111.306
ssvFetchGRanges0.7180.0010.718
ssvFetchSignal1.3720.0031.375
ssvMakeMembTable-methods0.4680.0020.470
ssvOverlapIntervalSets0.2100.0020.212
ssvSignalBandedQuantiles6.1570.0473.946
ssvSignalClustering8.0000.1404.193
ssvSignalHeatmap.ClusterBars8.1470.0494.159
ssvSignalHeatmap9.8820.0464.575
ssvSignalLineplot2.7010.0072.699
ssvSignalLineplotAgg1.0070.0060.940
ssvSignalScatterplot1.1310.0031.048
viewGRangesWinSample_dt1.1440.0011.132
viewGRangesWinSummary_dt1.8090.0071.082
within_clust_sort2.7420.0191.866