| Back to Multiple platform build/check report for BioC 3.22: simplified long |
|
This page was generated on 2025-10-25 12:06 -0400 (Sat, 25 Oct 2025).
| Hostname | OS | Arch (*) | R version | Installed pkgs |
|---|---|---|---|---|
| nebbiolo2 | Linux (Ubuntu 24.04.3 LTS) | x86_64 | 4.5.1 Patched (2025-08-23 r88802) -- "Great Square Root" | 4901 |
| lconway | macOS 12.7.6 Monterey | x86_64 | 4.5.1 Patched (2025-09-10 r88807) -- "Great Square Root" | 4691 |
| kjohnson3 | macOS 13.7.7 Ventura | arm64 | 4.5.1 Patched (2025-09-10 r88807) -- "Great Square Root" | 4637 |
| taishan | Linux (openEuler 24.03 LTS) | aarch64 | 4.5.0 (2025-04-11) -- "How About a Twenty-Six" | 4658 |
| Click on any hostname to see more info about the system (e.g. compilers) (*) as reported by 'uname -p', except on Windows and Mac OS X | ||||
| Package 1987/2361 | Hostname | OS / Arch | INSTALL | BUILD | CHECK | BUILD BIN | ||||||||
| seqsetvis 1.29.1 (landing page) Joseph R Boyd
| nebbiolo2 | Linux (Ubuntu 24.04.3 LTS) / x86_64 | OK | OK | OK | |||||||||
| lconway | macOS 12.7.6 Monterey / x86_64 | OK | OK | OK | OK | |||||||||
| kjohnson3 | macOS 13.7.7 Ventura / arm64 | OK | OK | OK | OK | |||||||||
| taishan | Linux (openEuler 24.03 LTS) / aarch64 | OK | NA | NA | ||||||||||
|
To the developers/maintainers of the seqsetvis package: - Allow up to 24 hours (and sometimes 48 hours) for your latest push to git@git.bioconductor.org:packages/seqsetvis.git to reflect on this report. See Troubleshooting Build Report for more information. - Use the following Renviron settings to reproduce errors and warnings. - If 'R CMD check' started to fail recently on the Linux builder(s) over a missing dependency, add the missing dependency to 'Suggests:' in your DESCRIPTION file. See Renviron.bioc for more information. |
| Package: seqsetvis |
| Version: 1.29.1 |
| Command: /Library/Frameworks/R.framework/Resources/bin/R CMD check --install=check:seqsetvis.install-out.txt --library=/Library/Frameworks/R.framework/Resources/library --no-vignettes --timings seqsetvis_1.29.1.tar.gz |
| StartedAt: 2025-10-24 22:04:16 -0400 (Fri, 24 Oct 2025) |
| EndedAt: 2025-10-24 22:07:43 -0400 (Fri, 24 Oct 2025) |
| EllapsedTime: 207.7 seconds |
| RetCode: 0 |
| Status: OK |
| CheckDir: seqsetvis.Rcheck |
| Warnings: 0 |
##############################################################################
##############################################################################
###
### Running command:
###
### /Library/Frameworks/R.framework/Resources/bin/R CMD check --install=check:seqsetvis.install-out.txt --library=/Library/Frameworks/R.framework/Resources/library --no-vignettes --timings seqsetvis_1.29.1.tar.gz
###
##############################################################################
##############################################################################
* using log directory ‘/Users/biocbuild/bbs-3.22-bioc/meat/seqsetvis.Rcheck’
* using R version 4.5.1 Patched (2025-09-10 r88807)
* using platform: aarch64-apple-darwin20
* R was compiled by
Apple clang version 16.0.0 (clang-1600.0.26.6)
GNU Fortran (GCC) 14.2.0
* running under: macOS Ventura 13.7.7
* using session charset: UTF-8
* using option ‘--no-vignettes’
* checking for file ‘seqsetvis/DESCRIPTION’ ... OK
* checking extension type ... Package
* this is package ‘seqsetvis’ version ‘1.29.1’
* package encoding: UTF-8
* checking package namespace information ... OK
* checking package dependencies ... OK
* checking if this is a source package ... OK
* checking if there is a namespace ... OK
* checking for hidden files and directories ... OK
* checking for portable file names ... OK
* checking for sufficient/correct file permissions ... OK
* checking whether package ‘seqsetvis’ can be installed ... OK
* checking installed package size ... OK
* checking package directory ... OK
* checking ‘build’ directory ... OK
* checking DESCRIPTION meta-information ... OK
* checking top-level files ... OK
* checking for left-over files ... OK
* checking index information ... OK
* checking package subdirectories ... OK
* checking code files for non-ASCII characters ... OK
* checking R files for syntax errors ... OK
* checking whether the package can be loaded ... OK
* checking whether the package can be loaded with stated dependencies ... OK
* checking whether the package can be unloaded cleanly ... OK
* checking whether the namespace can be loaded with stated dependencies ... OK
* checking whether the namespace can be unloaded cleanly ... OK
* checking dependencies in R code ... OK
* checking S3 generic/method consistency ... OK
* checking replacement functions ... OK
* checking foreign function calls ... OK
* checking R code for possible problems ... OK
* checking Rd files ... OK
* checking Rd metadata ... OK
* checking Rd cross-references ... OK
* checking for missing documentation entries ... OK
* checking for code/documentation mismatches ... OK
* checking Rd \usage sections ... OK
* checking Rd contents ... OK
* checking for unstated dependencies in examples ... OK
* checking contents of ‘data’ directory ... OK
* checking data for non-ASCII characters ... OK
* checking data for ASCII and uncompressed saves ... OK
* checking files in ‘vignettes’ ... OK
* checking examples ... OK
* checking for unstated dependencies in ‘tests’ ... OK
* checking tests ...
Running ‘testthat.R’
OK
* checking for unstated dependencies in vignettes ... OK
* checking package vignettes ... OK
* checking running R code from vignettes ... SKIPPED
* checking re-building of vignette outputs ... SKIPPED
* checking PDF version of manual ... OK
* DONE
Status: OK
seqsetvis.Rcheck/00install.out
############################################################################## ############################################################################## ### ### Running command: ### ### /Library/Frameworks/R.framework/Resources/bin/R CMD INSTALL seqsetvis ### ############################################################################## ############################################################################## * installing to library ‘/Library/Frameworks/R.framework/Versions/4.5-arm64/Resources/library’ * installing *source* package ‘seqsetvis’ ... ** this is package ‘seqsetvis’ version ‘1.29.1’ ** using staged installation ** R ** data ** inst ** byte-compile and prepare package for lazy loading ** help *** installing help indices ** building package indices ** installing vignettes ** testing if installed package can be loaded from temporary location ** testing if installed package can be loaded from final location ** testing if installed package keeps a record of temporary installation path * DONE (seqsetvis)
seqsetvis.Rcheck/tests/testthat.Rout
R version 4.5.1 Patched (2025-09-10 r88807) -- "Great Square Root" Copyright (C) 2025 The R Foundation for Statistical Computing Platform: aarch64-apple-darwin20 R is free software and comes with ABSOLUTELY NO WARRANTY. You are welcome to redistribute it under certain conditions. Type 'license()' or 'licence()' for distribution details. R is a collaborative project with many contributors. Type 'contributors()' for more information and 'citation()' on how to cite R or R packages in publications. Type 'demo()' for some demos, 'help()' for on-line help, or 'help.start()' for an HTML browser interface to help. Type 'q()' to quit R. > > ## load dependencies > library(testthat) > library(seqsetvis) Loading required package: ggplot2 > library(data.table) > > ## test package > test_check(package = "seqsetvis") [ FAIL 0 | WARN 3 | SKIP 0 | PASS 1291 ] [ FAIL 0 | WARN 3 | SKIP 0 | PASS 1291 ] > > proc.time() user system elapsed 80.384 1.716 82.961
seqsetvis.Rcheck/seqsetvis-Ex.timings
| name | user | system | elapsed | |
| add_cluster_annotation | 1.171 | 0.025 | 1.208 | |
| append_ynorm | 0.019 | 0.003 | 0.021 | |
| applyMovingAverage | 0.294 | 0.004 | 0.303 | |
| applySpline | 0.143 | 0.004 | 0.151 | |
| assemble_heatmap_cluster_bars | 0.285 | 0.004 | 0.292 | |
| calc_norm_factors | 0.010 | 0.002 | 0.011 | |
| centerAtMax | 0.102 | 0.004 | 0.107 | |
| centerFixedSizeGRanges | 0.046 | 0.003 | 0.050 | |
| centerGRangesAtMax | 0.164 | 0.007 | 0.175 | |
| clusteringKmeans | 0.012 | 0.003 | 0.016 | |
| clusteringKmeansNestedHclust | 0.013 | 0.003 | 0.019 | |
| col2hex | 0.001 | 0.001 | 0.001 | |
| collapse_gr | 0.224 | 0.005 | 0.233 | |
| convert_collapsed_coord | 0.074 | 0.004 | 0.078 | |
| copy_clust_info | 0.533 | 0.010 | 0.553 | |
| crossCorrByRle | 0.139 | 0.004 | 0.145 | |
| easyLoad_FUN | 0.016 | 0.001 | 0.016 | |
| easyLoad_IDRmerged | 0.012 | 0.000 | 0.014 | |
| easyLoad_bed | 0.037 | 0.000 | 0.040 | |
| easyLoad_broadPeak | 0.010 | 0.000 | 0.011 | |
| easyLoad_narrowPeak | 0.010 | 0.001 | 0.011 | |
| easyLoad_seacr | 0.011 | 0.000 | 0.011 | |
| expandCigar | 0.048 | 0.003 | 0.050 | |
| findMaxPos | 0.013 | 0.003 | 0.016 | |
| fragLen_calcStranded | 0.477 | 0.007 | 0.484 | |
| fragLen_fromMacs2Xls | 0.001 | 0.000 | 0.002 | |
| getReadLength | 0.017 | 0.006 | 0.024 | |
| get_mapped_reads | 0.003 | 0.000 | 0.004 | |
| ggellipse | 0.261 | 0.002 | 0.265 | |
| harmonize_seqlengths | 0.036 | 0.003 | 0.041 | |
| make_clustering_matrix | 0.026 | 0.002 | 0.033 | |
| merge_clusters | 1.668 | 0.014 | 1.703 | |
| prepare_fetch_GRanges | 0.009 | 0.001 | 0.010 | |
| prepare_fetch_GRanges_names | 0.024 | 0.001 | 0.026 | |
| prepare_fetch_GRanges_width | 0.008 | 0.001 | 0.009 | |
| quantileGRangesWidth | 0.001 | 0.001 | 0.001 | |
| reorder_clusters_hclust | 0.682 | 0.017 | 0.702 | |
| reorder_clusters_manual | 0.378 | 0.006 | 0.386 | |
| reorder_clusters_stepdown | 0.679 | 0.009 | 0.722 | |
| reverse_clusters | 0.750 | 0.011 | 0.765 | |
| safeBrew | 0.008 | 0.001 | 0.010 | |
| split_cluster | 0.677 | 0.014 | 0.719 | |
| ssvAnnotateSubjectGRanges | 0.286 | 0.007 | 0.294 | |
| ssvConsensusIntervalSets | 0.097 | 0.003 | 0.102 | |
| ssvFactorizeMembTable | 0.004 | 0.001 | 0.006 | |
| ssvFeatureBars | 0.270 | 0.003 | 0.279 | |
| ssvFeatureBinaryHeatmap | 3.149 | 0.233 | 3.393 | |
| ssvFeatureEuler | 0.263 | 0.014 | 0.290 | |
| ssvFeaturePie | 0.213 | 0.011 | 0.230 | |
| ssvFeatureUpset | 0.994 | 0.006 | 1.002 | |
| ssvFeatureVenn | 0.448 | 0.006 | 0.463 | |
| ssvFetchBam | 1.757 | 0.061 | 1.821 | |
| ssvFetchBamPE | 0.566 | 0.042 | 0.615 | |
| ssvFetchBamPE.RNA | 0.468 | 0.024 | 0.498 | |
| ssvFetchBigwig | 0.401 | 0.004 | 0.407 | |
| ssvFetchGRanges | 0.211 | 0.001 | 0.211 | |
| ssvFetchSignal | 0.431 | 0.019 | 0.449 | |
| ssvMakeMembTable-methods | 0.171 | 0.003 | 0.175 | |
| ssvOverlapIntervalSets | 0.075 | 0.003 | 0.078 | |
| ssvSignalBandedQuantiles | 1.207 | 0.022 | 1.301 | |
| ssvSignalClustering | 0.978 | 0.015 | 0.997 | |
| ssvSignalHeatmap.ClusterBars | 1.269 | 0.010 | 1.297 | |
| ssvSignalHeatmap | 1.478 | 0.030 | 1.525 | |
| ssvSignalLineplot | 0.887 | 0.004 | 0.895 | |
| ssvSignalLineplotAgg | 0.331 | 0.003 | 0.335 | |
| ssvSignalScatterplot | 0.358 | 0.006 | 0.392 | |
| viewGRangesWinSample_dt | 0.360 | 0.009 | 0.381 | |
| viewGRangesWinSummary_dt | 0.334 | 0.022 | 0.361 | |
| within_clust_sort | 0.547 | 0.012 | 0.559 | |