Back to Build/check report for BioC 3.23:   simplified   long
ABCDEF[G]HIJKLMNOPQRSTUVWXYZ

This page was generated on 2025-11-04 11:32 -0500 (Tue, 04 Nov 2025).

HostnameOSArch (*)R versionInstalled pkgs
nebbiolo1Linux (Ubuntu 24.04.3 LTS)x86_64R Under development (unstable) (2025-10-20 r88955) -- "Unsuffered Consequences" 4788
Click on any hostname to see more info about the system (e.g. compilers)      (*) as reported by 'uname -p', except on Windows and Mac OS X

All results for package Gviz


To the developers/maintainers of the Gviz package:
- Allow up to 24 hours (and sometimes 48 hours) for your latest push to git@git.bioconductor.org:packages/Gviz.git to reflect on this report. See Troubleshooting Build Report for more information.
- Use the following Renviron settings to reproduce errors and warnings.
- If 'R CMD check' started to fail recently on the Linux builder(s) over a missing dependency, add the missing dependency to 'Suggests:' in your DESCRIPTION file. See Renviron.bioc for more information.

raw results

Package 937/2323HostnameOS / ArchINSTALLBUILDCHECKBUILD BIN
Gviz 1.55.0  (landing page)
Robert Ivanek
Snapshot Date: 2025-11-03 13:40 -0500 (Mon, 03 Nov 2025)
git_url: https://git.bioconductor.org/packages/Gviz
git_branch: devel
git_last_commit: 6339846
git_last_commit_date: 2025-10-29 10:10:17 -0500 (Wed, 29 Oct 2025)
nebbiolo1Linux (Ubuntu 24.04.3 LTS) / x86_64  OK    OK    OK  NO, package depends on 'rtracklayer' which is not available



Results for Bioconductor software packages that depend directly on package Gviz

QUICK STATSOS / ArchINSTALLBUILDCHECKBUILD BIN
nebbiolo1Linux (Ubuntu 24.04.3 LTS) / x86_64
0034
0529
02522
Package 1/34HostnameOS / ArchINSTALLBUILDCHECKBUILD BIN
AllelicImbalance 1.49.0  (landing page)
Jesper R Gadin
git_last_commit: d78bb64
git_last_commit_date: 2025-10-29 10:16:36 -0500
nebbiolo1Linux (Ubuntu 24.04.3 LTS) / x86_64  OK    OK    OK  NO, package depends on 'BSgenome' which is not available
Package 2/34HostnameOS / ArchINSTALLBUILDCHECKBUILD BIN
ASpli 2.21.0  (landing page)
Ariel Chernomoretz
git_last_commit: 6fd6add
git_last_commit_date: 2025-10-29 10:33:32 -0500
nebbiolo1Linux (Ubuntu 24.04.3 LTS) / x86_64  OK    OK    WARNINGS  NO, package depends on 'GenomicFeatures' which is not available
Package 3/34HostnameOS / ArchINSTALLBUILDCHECKBUILD BIN
biomvRCNS 1.51.0  (landing page)
Yang Du
git_last_commit: 2ef9790
git_last_commit_date: 2025-10-29 11:26:56 -0500
nebbiolo1Linux (Ubuntu 24.04.3 LTS) / x86_64  OK    OK    OK  NO, package depends on 'Gviz' which is not available
Package 4/34HostnameOS / ArchINSTALLBUILDCHECKBUILD BIN
CAGEfightR 1.31.0  (landing page)
Malte Thodberg
git_last_commit: c45462c
git_last_commit_date: 2025-10-29 10:45:17 -0500
nebbiolo1Linux (Ubuntu 24.04.3 LTS) / x86_64  OK    OK    OK  NO, package depends on 'rtracklayer' which is not available
Package 5/34HostnameOS / ArchINSTALLBUILDCHECKBUILD BIN
chimeraviz 1.37.0  (landing page)
Stian Lågstad
git_last_commit: 3490116
git_last_commit_date: 2025-10-29 10:35:50 -0500
nebbiolo1Linux (Ubuntu 24.04.3 LTS) / x86_64  OK    OK    OK  NO, package depends on 'Gviz' which is not available
Package 6/34HostnameOS / ArchINSTALLBUILDCHECKBUILD BIN
cicero 1.29.0  (landing page)
Hannah Pliner
git_last_commit: dcca6ae
git_last_commit_date: 2025-10-29 10:47:55 -0500
nebbiolo1Linux (Ubuntu 24.04.3 LTS) / x86_64  OK    OK    OK  NO, package depends on 'Gviz' which is not available
Package 7/34HostnameOS / ArchINSTALLBUILDCHECKBUILD BIN
comapr 1.15.0  (landing page)
Ruqian Lyu
git_last_commit: 50b0041
git_last_commit_date: 2025-10-29 11:14:26 -0500
nebbiolo1Linux (Ubuntu 24.04.3 LTS) / x86_64  OK    OK    ERROR  
Package 8/34HostnameOS / ArchINSTALLBUILDCHECKBUILD BIN
crisprViz 1.13.0  (landing page)
Jean-Philippe Fortin
git_last_commit: e839b44
git_last_commit_date: 2025-10-29 11:18:46 -0500
nebbiolo1Linux (Ubuntu 24.04.3 LTS) / x86_64  OK    OK    OK  NO, package depends on 'crisprDesign' which is not available
Package 9/34HostnameOS / ArchINSTALLBUILDCHECKBUILD BIN
cummeRbund 2.53.0  (landing page)
Loyal A. Goff
git_last_commit: 793c3a1
git_last_commit_date: 2025-10-29 10:09:10 -0500
nebbiolo1Linux (Ubuntu 24.04.3 LTS) / x86_64  OK    ERROR  skipped
Package 10/34HostnameOS / ArchINSTALLBUILDCHECKBUILD BIN
DMRcate 3.7.0  (landing page)
Tim Peters
git_last_commit: c4e3304
git_last_commit_date: 2025-10-29 10:18:14 -0500
nebbiolo1Linux (Ubuntu 24.04.3 LTS) / x86_64  OK    OK    ERROR  
Package 11/34HostnameOS / ArchINSTALLBUILDCHECKBUILD BIN
DuplexDiscovereR 1.5.0  (landing page)
Egor Semenchenko
git_last_commit: 4cdae86
git_last_commit_date: 2025-10-29 11:32:35 -0500
nebbiolo1Linux (Ubuntu 24.04.3 LTS) / x86_64  OK    OK    OK  NO, package depends on 'Gviz' which is not available
Package 12/34HostnameOS / ArchINSTALLBUILDCHECKBUILD BIN
ELMER 2.35.0  (landing page)
Tiago Chedraoui Silva
git_last_commit: 642227c
git_last_commit_date: 2025-10-29 10:26:17 -0500
nebbiolo1Linux (Ubuntu 24.04.3 LTS) / x86_64  OK    ERROR  skipped
Package 13/34HostnameOS / ArchINSTALLBUILDCHECKBUILD BIN
epimutacions 1.15.0  (landing page)
Dolors Pelegri-Siso
git_last_commit: 9c5c202
git_last_commit_date: 2025-10-29 11:16:20 -0500
nebbiolo1Linux (Ubuntu 24.04.3 LTS) / x86_64  OK    OK    OK  NO, package depends on 'minfi' which is not available
Package 14/34HostnameOS / ArchINSTALLBUILDCHECKBUILD BIN
GeneStructureTools 1.31.0  (landing page)
Beth Signal
git_last_commit: 995a387
git_last_commit_date: 2025-10-29 10:43:43 -0500
nebbiolo1Linux (Ubuntu 24.04.3 LTS) / x86_64  OK    OK    OK  NO, package depends on 'Gviz' which is not available
Package 15/34HostnameOS / ArchINSTALLBUILDCHECKBUILD BIN
GenomicInteractions 1.45.0  (landing page)
Liz Ing-Simmons
git_last_commit: c3eb720
git_last_commit_date: 2025-10-29 10:21:43 -0500
nebbiolo1Linux (Ubuntu 24.04.3 LTS) / x86_64  OK    OK    OK  NO, package depends on 'rtracklayer' which is not available
Package 16/34HostnameOS / ArchINSTALLBUILDCHECKBUILD BIN
maser 1.29.0  (landing page)
Diogo F.T. Veiga
git_last_commit: a5a5f37
git_last_commit_date: 2025-10-29 10:45:34 -0500
nebbiolo1Linux (Ubuntu 24.04.3 LTS) / x86_64  OK    OK    OK  NO, package depends on 'rtracklayer' which is not available
Package 17/34HostnameOS / ArchINSTALLBUILDCHECKBUILD BIN
mCSEA 1.31.0  (landing page)
Jordi Martorell-Marugán
git_last_commit: ee727d5
git_last_commit_date: 2025-10-29 10:42:49 -0500
nebbiolo1Linux (Ubuntu 24.04.3 LTS) / x86_64  OK    ERROR  skipped
Package 18/34HostnameOS / ArchINSTALLBUILDCHECKBUILD BIN
MEAL 1.41.0  (landing page)
Xavier Escribà Montagut
git_last_commit: 7b303c8
git_last_commit_date: 2025-10-29 10:28:05 -0500
nebbiolo1Linux (Ubuntu 24.04.3 LTS) / x86_64  OK    ERROR  skipped
Package 19/34HostnameOS / ArchINSTALLBUILDCHECKBUILD BIN
methylPipe 1.45.0  (landing page)
Mattia Furlan
git_last_commit: 1246c88
git_last_commit_date: 2025-10-29 10:21:09 -0500
nebbiolo1Linux (Ubuntu 24.04.3 LTS) / x86_64  OK    OK    WARNINGS  NO, package depends on 'Gviz' which is not available
Package 20/34HostnameOS / ArchINSTALLBUILDCHECKBUILD BIN
motifbreakR 2.25.0  (landing page)
Simon Gert Coetzee
git_last_commit: 21e6965
git_last_commit_date: 2025-10-29 10:27:43 -0500
nebbiolo1Linux (Ubuntu 24.04.3 LTS) / x86_64  OK    ERROR  skipped
Package 21/34HostnameOS / ArchINSTALLBUILDCHECKBUILD BIN
OGRE 1.15.0  (landing page)
Sven Berres
git_last_commit: eb5e234
git_last_commit_date: 2025-10-29 11:14:29 -0500
nebbiolo1Linux (Ubuntu 24.04.3 LTS) / x86_64  OK    OK    OK  NO, package depends on 'Gviz' which is not available
Package 22/34HostnameOS / ArchINSTALLBUILDCHECKBUILD BIN
primirTSS 1.29.0  (landing page)
Pumin Li
git_last_commit: bbff91f
git_last_commit_date: 2025-10-29 10:47:22 -0500
nebbiolo1Linux (Ubuntu 24.04.3 LTS) / x86_64  OK    OK    WARNINGS  NO, package depends on 'rtracklayer' which is not available
Package 23/34HostnameOS / ArchINSTALLBUILDCHECKBUILD BIN
Pviz 1.45.0  (landing page)
Renan Sauteraud
git_last_commit: 2605bdc
git_last_commit_date: 2025-10-29 10:20:19 -0500
nebbiolo1Linux (Ubuntu 24.04.3 LTS) / x86_64  OK    OK    WARNINGS  NO, package depends on 'Gviz' which is not available
Package 24/34HostnameOS / ArchINSTALLBUILDCHECKBUILD BIN
regutools 1.23.0  (landing page)
Joselyn Chavez
git_last_commit: a894ec8
git_last_commit_date: 2025-10-29 10:59:10 -0500
nebbiolo1Linux (Ubuntu 24.04.3 LTS) / x86_64  OK    OK    OK  NO, package depends on 'Gviz' which is not available
Package 25/34HostnameOS / ArchINSTALLBUILDCHECKBUILD BIN
RNAmodR 1.25.0  (landing page)
Felix G.M. Ernst
git_last_commit: 7e3ea7f
git_last_commit_date: 2025-10-29 10:52:38 -0500
nebbiolo1Linux (Ubuntu 24.04.3 LTS) / x86_64  OK    OK    OK  NO, package depends on 'txdbmaker' which is not available
Package 26/34HostnameOS / ArchINSTALLBUILDCHECKBUILD BIN
RNAmodR.AlkAnilineSeq 1.25.0  (landing page)
Felix G.M. Ernst
git_last_commit: e946449
git_last_commit_date: 2025-10-29 10:52:43 -0500
nebbiolo1Linux (Ubuntu 24.04.3 LTS) / x86_64  OK    OK    OK  NO, package depends on 'RNAmodR' which is not available
Package 27/34HostnameOS / ArchINSTALLBUILDCHECKBUILD BIN
RNAmodR.RiboMethSeq 1.25.0  (landing page)
Felix G.M. Ernst
git_last_commit: ebb255c
git_last_commit_date: 2025-10-29 10:52:40 -0500
nebbiolo1Linux (Ubuntu 24.04.3 LTS) / x86_64  OK    OK    OK  NO, package depends on 'RNAmodR' which is not available
Package 28/34HostnameOS / ArchINSTALLBUILDCHECKBUILD BIN
SPLINTER 1.37.0  (landing page)
Diana Low
git_last_commit: 2ff2d3c
git_last_commit_date: 2025-10-29 10:34:37 -0500
nebbiolo1Linux (Ubuntu 24.04.3 LTS) / x86_64  OK    OK    OK  NO, package depends on 'GenomicFeatures' which is not available
Package 29/34HostnameOS / ArchINSTALLBUILDCHECKBUILD BIN
srnadiff 1.31.0  (landing page)
Zytnicki Matthias
git_last_commit: 680956d
git_last_commit_date: 2025-10-29 10:43:01 -0500
nebbiolo1Linux (Ubuntu 24.04.3 LTS) / x86_64  OK    OK    WARNINGS  NO, package depends on 'rtracklayer' which is not available
Package 30/34HostnameOS / ArchINSTALLBUILDCHECKBUILD BIN
tadar 1.9.0  (landing page)
Lachlan Baer
git_last_commit: 7b05448
git_last_commit_date: 2025-10-29 11:25:24 -0500
nebbiolo1Linux (Ubuntu 24.04.3 LTS) / x86_64  OK    OK    OK  NO, package depends on 'Gviz' which is not available
Package 31/34HostnameOS / ArchINSTALLBUILDCHECKBUILD BIN
trackViewer 1.47.0  (landing page)
Jianhong Ou
git_last_commit: c2b7d9b
git_last_commit_date: 2025-10-29 10:17:52 -0500
nebbiolo1Linux (Ubuntu 24.04.3 LTS) / x86_64  OK    OK    OK  NO, package depends on 'GenomicFeatures' which is not available
Package 32/34HostnameOS / ArchINSTALLBUILDCHECKBUILD BIN
TVTB 1.37.0  (landing page)
Kevin Rue-Albrecht
git_last_commit: 7c8a13b
git_last_commit_date: 2025-10-29 10:35:21 -0500
nebbiolo1Linux (Ubuntu 24.04.3 LTS) / x86_64  OK    OK    OK  NO, package depends on 'ensembldb' which is not available
Package 33/34HostnameOS / ArchINSTALLBUILDCHECKBUILD BIN
uncoverappLib 1.21.0  (landing page)
Emanuela Iovino
git_last_commit: 99c7088
git_last_commit_date: 2025-10-29 11:01:16 -0500
nebbiolo1Linux (Ubuntu 24.04.3 LTS) / x86_64  OK    OK    OK  NO, package depends on 'Gviz' which is not available
Package 34/34HostnameOS / ArchINSTALLBUILDCHECKBUILD BIN
VariantFiltering 1.47.0  (landing page)
Robert Castelo
git_last_commit: 270d88d
git_last_commit_date: 2025-10-29 10:19:08 -0500
nebbiolo1Linux (Ubuntu 24.04.3 LTS) / x86_64  OK    OK    OK  NO, package depends on 'VariantAnnotation' which is not available