| Back to Multiple platform build/check report for BioC 3.23: simplified long |
|
This page was generated on 2025-11-27 11:37 -0500 (Thu, 27 Nov 2025).
| Hostname | OS | Arch (*) | R version | Installed pkgs |
|---|---|---|---|---|
| nebbiolo1 | Linux (Ubuntu 24.04.3 LTS) | x86_64 | R Under development (unstable) (2025-10-20 r88955) -- "Unsuffered Consequences" | 4865 |
| lconway | macOS 12.7.6 Monterey | x86_64 | R Under development (unstable) (2025-10-21 r88958) -- "Unsuffered Consequences" | 4614 |
| kjohnson3 | macOS 13.7.7 Ventura | arm64 | R Under development (unstable) (2025-11-04 r88984) -- "Unsuffered Consequences" | 4571 |
| Click on any hostname to see more info about the system (e.g. compilers) (*) as reported by 'uname -p', except on Windows and Mac OS X | ||||
| Package 927/2328 | Hostname | OS / Arch | INSTALL | BUILD | CHECK | BUILD BIN | ||||||||
| GSEABenchmarkeR 1.31.0 (landing page) Ludwig Geistlinger
| nebbiolo1 | Linux (Ubuntu 24.04.3 LTS) / x86_64 | OK | OK | OK | |||||||||
| lconway | macOS 12.7.6 Monterey / x86_64 | OK | OK | OK | OK | |||||||||
| kjohnson3 | macOS 13.7.7 Ventura / arm64 | OK | ERROR | skipped | skipped | |||||||||
|
To the developers/maintainers of the GSEABenchmarkeR package: - Allow up to 24 hours (and sometimes 48 hours) for your latest push to git@git.bioconductor.org:packages/GSEABenchmarkeR.git to reflect on this report. See Troubleshooting Build Report for more information. - Use the following Renviron settings to reproduce errors and warnings. - If 'R CMD check' started to fail recently on the Linux builder(s) over a missing dependency, add the missing dependency to 'Suggests:' in your DESCRIPTION file. See Renviron.bioc for more information. |
| Package: GSEABenchmarkeR |
| Version: 1.31.0 |
| Command: /home/biocbuild/bbs-3.23-bioc/R/bin/R CMD check --install=check:GSEABenchmarkeR.install-out.txt --library=/home/biocbuild/bbs-3.23-bioc/R/site-library --timings GSEABenchmarkeR_1.31.0.tar.gz |
| StartedAt: 2025-11-27 00:13:02 -0500 (Thu, 27 Nov 2025) |
| EndedAt: 2025-11-27 00:20:21 -0500 (Thu, 27 Nov 2025) |
| EllapsedTime: 438.8 seconds |
| RetCode: 0 |
| Status: OK |
| CheckDir: GSEABenchmarkeR.Rcheck |
| Warnings: 0 |
##############################################################################
##############################################################################
###
### Running command:
###
### /home/biocbuild/bbs-3.23-bioc/R/bin/R CMD check --install=check:GSEABenchmarkeR.install-out.txt --library=/home/biocbuild/bbs-3.23-bioc/R/site-library --timings GSEABenchmarkeR_1.31.0.tar.gz
###
##############################################################################
##############################################################################
* using log directory ‘/home/biocbuild/bbs-3.23-bioc/meat/GSEABenchmarkeR.Rcheck’
* using R Under development (unstable) (2025-10-20 r88955)
* using platform: x86_64-pc-linux-gnu
* R was compiled by
gcc (Ubuntu 13.3.0-6ubuntu2~24.04) 13.3.0
GNU Fortran (Ubuntu 13.3.0-6ubuntu2~24.04) 13.3.0
* running under: Ubuntu 24.04.3 LTS
* using session charset: UTF-8
* checking for file ‘GSEABenchmarkeR/DESCRIPTION’ ... OK
* checking extension type ... Package
* this is package ‘GSEABenchmarkeR’ version ‘1.31.0’
* package encoding: UTF-8
* checking package namespace information ... OK
* checking package dependencies ... OK
* checking if this is a source package ... OK
* checking if there is a namespace ... OK
* checking for hidden files and directories ... OK
* checking for portable file names ... OK
* checking for sufficient/correct file permissions ... OK
* checking whether package ‘GSEABenchmarkeR’ can be installed ... OK
* checking installed package size ... OK
* checking package directory ... OK
* checking ‘build’ directory ... OK
* checking DESCRIPTION meta-information ... OK
* checking top-level files ... NOTE
File
LICENSE
is not mentioned in the DESCRIPTION file.
* checking for left-over files ... OK
* checking index information ... OK
* checking package subdirectories ... OK
* checking code files for non-ASCII characters ... OK
* checking R files for syntax errors ... OK
* checking whether the package can be loaded ... OK
* checking whether the package can be loaded with stated dependencies ... OK
* checking whether the package can be unloaded cleanly ... OK
* checking whether the namespace can be loaded with stated dependencies ... OK
* checking whether the namespace can be unloaded cleanly ... OK
* checking loading without being on the library search path ... OK
* checking dependencies in R code ... OK
* checking S3 generic/method consistency ... OK
* checking replacement functions ... OK
* checking foreign function calls ... OK
* checking R code for possible problems ... NOTE
evalRelevance: no visible binding for global variable ‘REL.SCORE’
Undefined global functions or variables:
REL.SCORE
* checking Rd files ... OK
* checking Rd metadata ... OK
* checking Rd cross-references ... NOTE
Found the following Rd file(s) with Rd \link{} targets missing package
anchors:
cacheResource.Rd: BiocFileCache-class
evalRandomGS.Rd: sbeaMethods, nbeaMethods,
SummarizedExperiment-class, sbea, nbea, BiocParallelParam-class,
register
evalRelevance.Rd: DataFrame-class, gsRanking
evalTypeIError.Rd: sbeaMethods, nbeaMethods,
SummarizedExperiment-class, sbea, nbea, BiocParallelParam-class,
register
loadEData.Rd: SummarizedExperiment-class, ExpressionSet-class
maPreproc.Rd: ExpressionSet-class, BiocParallelParam-class,
SummarizedExperiment-class
readResults.Rd: sbeaMethods, nbeaMethods
runDE.Rd: SummarizedExperiment-class, deAna, BiocParallelParam-class,
rowData
runEA.Rd: SummarizedExperiment-class, sbea, sbeaMethods, nbeaMethods,
BiocParallelParam-class, nbea, register
Please provide package anchors for all Rd \link{} targets not in the
package itself and the base packages.
* checking for missing documentation entries ... OK
* checking for code/documentation mismatches ... OK
* checking Rd \usage sections ... OK
* checking Rd contents ... OK
* checking for unstated dependencies in examples ... OK
* checking files in ‘vignettes’ ... OK
* checking examples ... OK
Examples with CPU (user + system) or elapsed time > 5s
user system elapsed
evalRandomGS 57.968 6.610 74.441
evalTypeIError 29.993 24.604 52.940
runEA 14.344 15.067 18.382
loadEData 23.815 5.032 27.524
* checking for unstated dependencies in vignettes ... OK
* checking package vignettes ... OK
* checking re-building of vignette outputs ... OK
* checking PDF version of manual ... OK
* DONE
Status: 3 NOTEs
See
‘/home/biocbuild/bbs-3.23-bioc/meat/GSEABenchmarkeR.Rcheck/00check.log’
for details.
GSEABenchmarkeR.Rcheck/00install.out
############################################################################## ############################################################################## ### ### Running command: ### ### /home/biocbuild/bbs-3.23-bioc/R/bin/R CMD INSTALL GSEABenchmarkeR ### ############################################################################## ############################################################################## * installing to library ‘/home/biocbuild/bbs-3.23-bioc/R/site-library’ * installing *source* package ‘GSEABenchmarkeR’ ... ** this is package ‘GSEABenchmarkeR’ version ‘1.31.0’ ** using staged installation ** R ** inst ** byte-compile and prepare package for lazy loading ** help *** installing help indices ** building package indices ** installing vignettes ** testing if installed package can be loaded from temporary location ** testing if installed package can be loaded from final location ** testing if installed package keeps a record of temporary installation path * DONE (GSEABenchmarkeR)
GSEABenchmarkeR.Rcheck/GSEABenchmarkeR-Ex.timings
| name | user | system | elapsed | |
| bpPlot | 0.145 | 0.002 | 0.149 | |
| cacheResource | 1.998 | 0.140 | 2.140 | |
| evalNrSigSets | 2.531 | 0.033 | 2.563 | |
| evalRandomGS | 57.968 | 6.610 | 74.441 | |
| evalRelevance | 1.561 | 0.859 | 0.442 | |
| evalTypeIError | 29.993 | 24.604 | 52.940 | |
| loadEData | 23.815 | 5.032 | 27.524 | |
| maPreproc | 1.387 | 0.399 | 1.787 | |
| readDataId2diseaseCodeMap | 0.003 | 0.002 | 0.006 | |
| readResults | 0.352 | 0.274 | 0.171 | |
| runDE | 0.832 | 0.493 | 1.045 | |
| runEA | 14.344 | 15.067 | 18.382 | |