| Back to Multiple platform build/check report for BioC 3.23: simplified long |
|
This page was generated on 2025-11-21 11:38 -0500 (Fri, 21 Nov 2025).
| Hostname | OS | Arch (*) | R version | Installed pkgs |
|---|---|---|---|---|
| nebbiolo1 | Linux (Ubuntu 24.04.3 LTS) | x86_64 | R Under development (unstable) (2025-10-20 r88955) -- "Unsuffered Consequences" | 4829 |
| lconway | macOS 12.7.6 Monterey | x86_64 | R Under development (unstable) (2025-10-21 r88958) -- "Unsuffered Consequences" | 4602 |
| kjohnson3 | macOS 13.7.7 Ventura | arm64 | R Under development (unstable) (2025-11-04 r88984) -- "Unsuffered Consequences" | 4566 |
| Click on any hostname to see more info about the system (e.g. compilers) (*) as reported by 'uname -p', except on Windows and Mac OS X | ||||
| Package 911/2327 | Hostname | OS / Arch | INSTALL | BUILD | CHECK | BUILD BIN | ||||||||
| GRaNIE 1.15.0 (landing page) Christian Arnold
| nebbiolo1 | Linux (Ubuntu 24.04.3 LTS) / x86_64 | OK | OK | OK | |||||||||
| lconway | macOS 12.7.6 Monterey / x86_64 | OK | OK | OK | OK | |||||||||
| kjohnson3 | macOS 13.7.7 Ventura / arm64 | OK | OK | OK | OK | |||||||||
|
To the developers/maintainers of the GRaNIE package: - Allow up to 24 hours (and sometimes 48 hours) for your latest push to git@git.bioconductor.org:packages/GRaNIE.git to reflect on this report. See Troubleshooting Build Report for more information. - Use the following Renviron settings to reproduce errors and warnings. - If 'R CMD check' started to fail recently on the Linux builder(s) over a missing dependency, add the missing dependency to 'Suggests:' in your DESCRIPTION file. See Renviron.bioc for more information. |
| Package: GRaNIE |
| Version: 1.15.0 |
| Command: /Library/Frameworks/R.framework/Resources/bin/R CMD check --install=check:GRaNIE.install-out.txt --library=/Library/Frameworks/R.framework/Resources/library --no-vignettes --timings GRaNIE_1.15.0.tar.gz |
| StartedAt: 2025-11-20 21:33:52 -0500 (Thu, 20 Nov 2025) |
| EndedAt: 2025-11-20 21:42:54 -0500 (Thu, 20 Nov 2025) |
| EllapsedTime: 542.5 seconds |
| RetCode: 0 |
| Status: OK |
| CheckDir: GRaNIE.Rcheck |
| Warnings: 0 |
##############################################################################
##############################################################################
###
### Running command:
###
### /Library/Frameworks/R.framework/Resources/bin/R CMD check --install=check:GRaNIE.install-out.txt --library=/Library/Frameworks/R.framework/Resources/library --no-vignettes --timings GRaNIE_1.15.0.tar.gz
###
##############################################################################
##############################################################################
* using log directory ‘/Users/biocbuild/bbs-3.23-bioc/meat/GRaNIE.Rcheck’
* using R Under development (unstable) (2025-10-21 r88958)
* using platform: x86_64-apple-darwin20
* R was compiled by
Apple clang version 14.0.0 (clang-1400.0.29.202)
GNU Fortran (GCC) 14.2.0
* running under: macOS Ventura 13.7.8
* using session charset: UTF-8
* using option ‘--no-vignettes’
* checking for file ‘GRaNIE/DESCRIPTION’ ... OK
* this is package ‘GRaNIE’ version ‘1.15.0’
* package encoding: UTF-8
* checking package namespace information ... OK
* checking package dependencies ... INFO
Imports includes 37 non-default packages.
Importing from so many packages makes the package vulnerable to any of
them becoming unavailable. Move as many as possible to Suggests and
use conditionally.
* checking if this is a source package ... OK
* checking if there is a namespace ... OK
* checking for hidden files and directories ... OK
* checking for portable file names ... OK
* checking for sufficient/correct file permissions ... OK
* checking whether package ‘GRaNIE’ can be installed ... OK
* checking installed package size ... OK
* checking package directory ... OK
* checking ‘build’ directory ... OK
* checking DESCRIPTION meta-information ... OK
* checking top-level files ... OK
* checking for left-over files ... OK
* checking index information ... OK
* checking package subdirectories ... OK
* checking code files for non-ASCII characters ... OK
* checking R files for syntax errors ... OK
* checking whether the package can be loaded ... OK
* checking whether the package can be loaded with stated dependencies ... OK
* checking whether the package can be unloaded cleanly ... OK
* checking whether the namespace can be loaded with stated dependencies ... OK
* checking whether the namespace can be unloaded cleanly ... OK
* checking whether startup messages can be suppressed ... OK
* checking dependencies in R code ... OK
* checking S3 generic/method consistency ... OK
* checking replacement functions ... OK
* checking foreign function calls ... OK
* checking R code for possible problems ... NOTE
.performIHW: no visible binding for global variable 'adj_pvalue'
Undefined global functions or variables:
adj_pvalue
* checking Rd files ... OK
* checking Rd metadata ... OK
* checking Rd cross-references ... OK
* checking for missing documentation entries ... OK
* checking for code/documentation mismatches ... OK
* checking Rd \usage sections ... OK
* checking Rd contents ... OK
* checking for unstated dependencies in examples ... OK
* checking files in ‘vignettes’ ... OK
* checking examples ... OK
Examples with CPU (user + system) or elapsed time > 5s
user system elapsed
generateStatsSummary 8.535 0.196 9.225
addConnections_TF_peak 5.218 1.412 10.715
addSNPData 5.768 0.440 12.635
plotDiagnosticPlots_TFPeaks 5.041 0.134 5.613
plotDiagnosticPlots_peakGene 4.872 0.138 5.461
visualizeGRN 4.595 0.135 5.184
plotCommunitiesStats 4.526 0.091 5.072
addConnections_peak_gene 3.377 0.098 5.390
* checking for unstated dependencies in vignettes ... OK
* checking package vignettes ... OK
* checking running R code from vignettes ... SKIPPED
* checking re-building of vignette outputs ... SKIPPED
* checking PDF version of manual ... OK
* DONE
Status: 1 NOTE
See
‘/Users/biocbuild/bbs-3.23-bioc/meat/GRaNIE.Rcheck/00check.log’
for details.
GRaNIE.Rcheck/00install.out
############################################################################## ############################################################################## ### ### Running command: ### ### /Library/Frameworks/R.framework/Resources/bin/R CMD INSTALL GRaNIE ### ############################################################################## ############################################################################## * installing to library ‘/Library/Frameworks/R.framework/Versions/4.6-x86_64/Resources/library’ * installing *source* package ‘GRaNIE’ ... ** this is package ‘GRaNIE’ version ‘1.15.0’ ** using staged installation ** R ** byte-compile and prepare package for lazy loading ** help *** installing help indices *** copying figures ** building package indices ** installing vignettes ** testing if installed package can be loaded from temporary location ** testing if installed package can be loaded from final location ** testing if installed package keeps a record of temporary installation path * DONE (GRaNIE)
GRaNIE.Rcheck/GRaNIE-Ex.timings
| name | user | system | elapsed | |
| AR_classification_wrapper | 0.000 | 0.001 | 0.001 | |
| addConnections_TF_peak | 5.218 | 1.412 | 10.715 | |
| addConnections_peak_gene | 3.377 | 0.098 | 5.390 | |
| addData | 0 | 0 | 0 | |
| addSNPData | 5.768 | 0.440 | 12.635 | |
| addTFBS | 0 | 0 | 0 | |
| add_TF_gene_correlation | 2.078 | 0.072 | 2.573 | |
| add_featureVariation | 0 | 0 | 0 | |
| build_eGRN_graph | 2.841 | 0.069 | 3.339 | |
| calculateCommunitiesEnrichment | 2.844 | 0.186 | 3.457 | |
| calculateCommunitiesStats | 2.117 | 0.081 | 2.617 | |
| calculateGeneralEnrichment | 2.269 | 0.063 | 2.752 | |
| calculateTFEnrichment | 2.432 | 0.074 | 2.967 | |
| changeOutputDirectory | 2.039 | 0.074 | 2.546 | |
| deleteIntermediateData | 1.873 | 0.054 | 2.339 | |
| filterConnectionsForPlotting | 2.134 | 0.072 | 2.664 | |
| filterData | 2.576 | 0.094 | 3.118 | |
| filterGRNAndConnectGenes | 2.145 | 0.072 | 2.643 | |
| generateStatsSummary | 8.535 | 0.196 | 9.225 | |
| getCounts | 2.201 | 0.090 | 2.719 | |
| getGRNConnections | 2.097 | 0.080 | 2.624 | |
| getGRNSummary | 3.830 | 0.111 | 4.407 | |
| getParameters | 1.954 | 0.059 | 2.430 | |
| getTopNodes | 2.237 | 0.071 | 2.744 | |
| initializeGRN | 0.022 | 0.002 | 0.023 | |
| loadExampleObject | 1.995 | 0.061 | 2.487 | |
| nGenes | 2.039 | 0.069 | 2.552 | |
| nPeaks | 2.986 | 0.078 | 3.490 | |
| nTFs | 1.964 | 0.060 | 2.461 | |
| overlapPeaksAndTFBS | 1.989 | 0.059 | 2.462 | |
| performAllNetworkAnalyses | 0 | 0 | 0 | |
| plotCommunitiesEnrichment | 3.650 | 0.163 | 4.243 | |
| plotCommunitiesStats | 4.526 | 0.091 | 5.072 | |
| plotCorrelations | 2.575 | 0.082 | 3.079 | |
| plotDiagnosticPlots_TFPeaks | 5.041 | 0.134 | 5.613 | |
| plotDiagnosticPlots_peakGene | 4.872 | 0.138 | 5.461 | |
| plotGeneralEnrichment | 2.392 | 0.066 | 2.879 | |
| plotGeneralGraphStats | 3.602 | 0.087 | 4.120 | |
| plotPCA_all | 4.196 | 0.177 | 4.853 | |
| plotTFEnrichment | 2.830 | 0.066 | 3.310 | |
| plot_stats_connectionSummary | 2.665 | 0.088 | 3.170 | |
| visualizeGRN | 4.595 | 0.135 | 5.184 | |