Back to Multiple platform build/check report for BioC 3.22:   simplified   long
ABC[D]EFGHIJKLMNOPQRSTUVWXYZ

This page was generated on 2025-10-23 12:02 -0400 (Thu, 23 Oct 2025).

HostnameOSArch (*)R versionInstalled pkgs
nebbiolo2Linux (Ubuntu 24.04.3 LTS)x86_644.5.1 Patched (2025-08-23 r88802) -- "Great Square Root" 4894
lconwaymacOS 12.7.6 Montereyx86_644.5.1 Patched (2025-09-10 r88807) -- "Great Square Root" 4684
kjohnson3macOS 13.7.7 Venturaarm644.5.1 Patched (2025-09-10 r88807) -- "Great Square Root" 4629
taishanLinux (openEuler 24.03 LTS)aarch644.5.0 (2025-04-11) -- "How About a Twenty-Six" 4642
Click on any hostname to see more info about the system (e.g. compilers)      (*) as reported by 'uname -p', except on Windows and Mac OS X

All results for package DESeq2


To the developers/maintainers of the DESeq2 package:
- Allow up to 24 hours (and sometimes 48 hours) for your latest push to git@git.bioconductor.org:packages/DESeq2.git to reflect on this report. See Troubleshooting Build Report for more information.
- Use the following Renviron settings to reproduce errors and warnings.
- If 'R CMD check' started to fail recently on the Linux builder(s) over a missing dependency, add the missing dependency to 'Suggests:' in your DESCRIPTION file. See Renviron.bioc for more information.

raw results

Package 571/2355HostnameOS / ArchINSTALLBUILDCHECKBUILD BIN
DESeq2 1.49.7  (landing page)
Michael Love
Snapshot Date: 2025-10-22 13:45 -0400 (Wed, 22 Oct 2025)
git_url: https://git.bioconductor.org/packages/DESeq2
git_branch: devel
git_last_commit: 2877f70
git_last_commit_date: 2025-10-17 11:56:28 -0400 (Fri, 17 Oct 2025)
nebbiolo2Linux (Ubuntu 24.04.3 LTS) / x86_64  OK    OK    OK  UNNEEDED, same version is already published
lconwaymacOS 12.7.6 Monterey / x86_64  OK    OK    OK    OK  UNNEEDED, same version is already published
kjohnson3macOS 13.7.7 Ventura / arm64  OK    OK    OK    OK  UNNEEDED, same version is already published
taishanLinux (openEuler 24.03 LTS) / aarch64  OK    OK    OK  



Results for Bioconductor software packages that depend directly on package DESeq2

QUICK STATSOS / ArchINSTALLBUILDCHECKBUILD BIN
nebbiolo2Linux (Ubuntu 24.04.3 LTS) / x86_64
0090
0288
04975
lconwaymacOS 12.7.6 Monterey / x86_64
0090
0288
04876
0088
kjohnson3macOS 13.7.7 Ventura / arm64
0090
0288
04876
0088
taishanLinux (openEuler 24.03 LTS) / aarch64
0090
0486
14218
Package 1/90HostnameOS / ArchINSTALLBUILDCHECKBUILD BIN
Anaquin 2.33.0  (landing page)
Ted Wong
git_last_commit: 71c08ff
git_last_commit_date: 2025-04-15 11:04:38 -0400
nebbiolo2Linux (Ubuntu 24.04.3 LTS) / x86_64  OK    OK    OK  UNNEEDED, same version is already published
lconwaymacOS 12.7.6 Monterey / x86_64  OK    OK    OK    OK  UNNEEDED, same version is already published
kjohnson3macOS 13.7.7 Ventura / arm64  OK    OK    OK    OK  UNNEEDED, same version is already published
taishanLinux (openEuler 24.03 LTS) / aarch64  OK    OK    OK  
Package 2/90HostnameOS / ArchINSTALLBUILDCHECKBUILD BIN
animalcules 1.25.0  (landing page)
Jessica McClintock
git_last_commit: b955827
git_last_commit_date: 2025-06-05 16:39:52 -0400
nebbiolo2Linux (Ubuntu 24.04.3 LTS) / x86_64  OK    OK    OK  UNNEEDED, same version is already published
lconwaymacOS 12.7.6 Monterey / x86_64  OK    OK    OK    OK  UNNEEDED, same version is already published
kjohnson3macOS 13.7.7 Ventura / arm64  OK    OK    OK    OK  UNNEEDED, same version is already published
taishanLinux (openEuler 24.03 LTS) / aarch64  OK    OK    OK  
Package 3/90HostnameOS / ArchINSTALLBUILDCHECKBUILD BIN
anota2seq 1.31.0  (landing page)
Christian Oertlin , Ola Larsson
git_last_commit: 701f6de
git_last_commit_date: 2025-04-15 11:15:05 -0400
nebbiolo2Linux (Ubuntu 24.04.3 LTS) / x86_64  OK    OK    WARNINGS  UNNEEDED, same version is already published
lconwaymacOS 12.7.6 Monterey / x86_64  OK    OK    OK    OK  UNNEEDED, same version is already published
kjohnson3macOS 13.7.7 Ventura / arm64  OK    OK    OK    OK  UNNEEDED, same version is already published
taishanLinux (openEuler 24.03 LTS) / aarch64  OK    OK    OK  
Package 4/90HostnameOS / ArchINSTALLBUILDCHECKBUILD BIN
APAlyzer 1.23.0  (landing page)
Ruijia Wang
git_last_commit: 1bff29d
git_last_commit_date: 2025-04-15 11:48:46 -0400
nebbiolo2Linux (Ubuntu 24.04.3 LTS) / x86_64  OK    OK    ERROR  
lconwaymacOS 12.7.6 Monterey / x86_64  OK    OK    ERROR    OK  
kjohnson3macOS 13.7.7 Ventura / arm64  OK    OK    ERROR    OK  
taishanLinux (openEuler 24.03 LTS) / aarch64  OK    OK    ERROR  
Package 5/90HostnameOS / ArchINSTALLBUILDCHECKBUILD BIN
BatchQC 2.5.14  (landing page)
Jessica Anderson
git_last_commit: 5210ca7
git_last_commit_date: 2025-10-14 13:27:46 -0400
nebbiolo2Linux (Ubuntu 24.04.3 LTS) / x86_64  OK    OK    OK  UNNEEDED, same version is already published
lconwaymacOS 12.7.6 Monterey / x86_64  OK    OK    OK    OK  UNNEEDED, same version is already published
kjohnson3macOS 13.7.7 Ventura / arm64  OK    OK    OK    OK  UNNEEDED, same version is already published
taishanLinux (openEuler 24.03 LTS) / aarch64  OK    OK    OK  
Package 6/90HostnameOS / ArchINSTALLBUILDCHECKBUILD BIN
benchdamic 1.15.4  (landing page)
Matteo Calgaro
git_last_commit: 7c5727b
git_last_commit_date: 2025-10-09 09:40:05 -0400
nebbiolo2Linux (Ubuntu 24.04.3 LTS) / x86_64  OK    OK    OK  NO, package depends on 'Maaslin2' which is not available
lconwaymacOS 12.7.6 Monterey / x86_64  OK    OK    OK    OK  NO, package depends on 'Maaslin2' which is not available
kjohnson3macOS 13.7.7 Ventura / arm64  OK    OK    OK    OK  NO, package depends on 'Maaslin2' which is not available
taishanLinux (openEuler 24.03 LTS) / aarch64  OK    OK    TIMEOUT  
Package 7/90HostnameOS / ArchINSTALLBUILDCHECKBUILD BIN
broadSeq 1.3.3  (landing page)
Rishi Das Roy
git_last_commit: 0ee75b2
git_last_commit_date: 2025-07-11 07:42:34 -0400
nebbiolo2Linux (Ubuntu 24.04.3 LTS) / x86_64  OK    OK    WARNINGS  NO, package depends on 'DELocal' which is not available
lconwaymacOS 12.7.6 Monterey / x86_64  OK    OK    WARNINGS    OK  NO, package depends on 'DELocal' which is not available
kjohnson3macOS 13.7.7 Ventura / arm64  OK    OK    WARNINGS    OK  NO, package depends on 'DELocal' which is not available
taishanLinux (openEuler 24.03 LTS) / aarch64  OK    OK    WARNINGS  
Package 8/90HostnameOS / ArchINSTALLBUILDCHECKBUILD BIN
CeTF 1.21.0  (landing page)
Carlos Alberto Oliveira de Biagi Junior
git_last_commit: 1112503
git_last_commit_date: 2025-04-15 11:53:11 -0400
nebbiolo2Linux (Ubuntu 24.04.3 LTS) / x86_64  OK    OK    OK  UNNEEDED, same version is already published
lconwaymacOS 12.7.6 Monterey / x86_64  OK    OK    OK    OK  UNNEEDED, same version is already published
kjohnson3macOS 13.7.7 Ventura / arm64  OK    OK    OK    OK  UNNEEDED, same version is already published
taishanLinux (openEuler 24.03 LTS) / aarch64  OK    OK    OK  
Package 9/90HostnameOS / ArchINSTALLBUILDCHECKBUILD BIN
circRNAprofiler 1.23.1  (landing page)
Simona Aufiero
git_last_commit: 0e1b534
git_last_commit_date: 2025-05-06 12:30:34 -0400
nebbiolo2Linux (Ubuntu 24.04.3 LTS) / x86_64  OK    OK    OK  UNNEEDED, same version is already published
lconwaymacOS 12.7.6 Monterey / x86_64  OK    OK    OK    OK  UNNEEDED, same version is already published
kjohnson3macOS 13.7.7 Ventura / arm64  OK    OK    OK    OK  UNNEEDED, same version is already published
taishanLinux (openEuler 24.03 LTS) / aarch64  OK    OK    ERROR  
Package 10/90HostnameOS / ArchINSTALLBUILDCHECKBUILD BIN
CleanUpRNAseq 1.3.2  (landing page)
Haibo Liu
git_last_commit: 37d178d
git_last_commit_date: 2025-07-22 18:54:50 -0400
nebbiolo2Linux (Ubuntu 24.04.3 LTS) / x86_64  OK    OK    OK  UNNEEDED, same version is already published
lconwaymacOS 12.7.6 Monterey / x86_64  OK    OK    OK    OK  UNNEEDED, same version is already published
kjohnson3macOS 13.7.7 Ventura / arm64  OK    OK    OK    OK  UNNEEDED, same version is already published
taishanLinux (openEuler 24.03 LTS) / aarch64  OK    OK    OK  
Package 11/90HostnameOS / ArchINSTALLBUILDCHECKBUILD BIN
consensusDE 1.27.0  (landing page)
Ashley J. Waardenberg
git_last_commit: 72d92ff
git_last_commit_date: 2025-04-15 11:38:45 -0400
nebbiolo2Linux (Ubuntu 24.04.3 LTS) / x86_64  OK    OK    OK  UNNEEDED, same version is already published
lconwaymacOS 12.7.6 Monterey / x86_64  OK    OK    OK    OK  UNNEEDED, same version is already published
kjohnson3macOS 13.7.7 Ventura / arm64  OK    OK    OK    OK  UNNEEDED, same version is already published
taishanLinux (openEuler 24.03 LTS) / aarch64  OK    OK    OK  
Package 12/90HostnameOS / ArchINSTALLBUILDCHECKBUILD BIN
coseq 1.33.0  (landing page)
Andrea Rau
git_last_commit: 0ed92df
git_last_commit_date: 2025-04-15 11:07:59 -0400
nebbiolo2Linux (Ubuntu 24.04.3 LTS) / x86_64  OK    OK    OK  UNNEEDED, same version is already published
lconwaymacOS 12.7.6 Monterey / x86_64  OK    OK    OK    OK  UNNEEDED, same version is already published
kjohnson3macOS 13.7.7 Ventura / arm64  OK    OK    OK    OK  UNNEEDED, same version is already published
taishanLinux (openEuler 24.03 LTS) / aarch64  OK    OK    OK  
Package 13/90HostnameOS / ArchINSTALLBUILDCHECKBUILD BIN
countsimQC 1.27.1  (landing page)
Charlotte Soneson
git_last_commit: d589d00
git_last_commit_date: 2025-07-17 15:20:11 -0400
nebbiolo2Linux (Ubuntu 24.04.3 LTS) / x86_64  OK    OK    OK  UNNEEDED, same version is already published
lconwaymacOS 12.7.6 Monterey / x86_64  OK    OK    OK    OK  UNNEEDED, same version is already published
kjohnson3macOS 13.7.7 Ventura / arm64  OK    OK    OK    OK  UNNEEDED, same version is already published
taishanLinux (openEuler 24.03 LTS) / aarch64  OK    OK    OK  
Package 14/90HostnameOS / ArchINSTALLBUILDCHECKBUILD BIN
cypress 1.5.0  (landing page)
Shilin Yu
git_last_commit: 7533a01
git_last_commit_date: 2025-04-15 13:32:10 -0400
nebbiolo2Linux (Ubuntu 24.04.3 LTS) / x86_64  OK    OK    OK  UNNEEDED, same version is already published
lconwaymacOS 12.7.6 Monterey / x86_64  OK    OK    OK    OK  UNNEEDED, same version is already published
kjohnson3macOS 13.7.7 Ventura / arm64  OK    OK    OK    OK  UNNEEDED, same version is already published
taishanLinux (openEuler 24.03 LTS) / aarch64  OK    OK    OK  
Package 15/90HostnameOS / ArchINSTALLBUILDCHECKBUILD BIN
DaMiRseq 2.21.0  (landing page)
Mattia Chiesa
git_last_commit: e420a3f
git_last_commit_date: 2025-04-15 11:09:26 -0400
nebbiolo2Linux (Ubuntu 24.04.3 LTS) / x86_64  OK    OK    OK  UNNEEDED, same version is already published
lconwaymacOS 12.7.6 Monterey / x86_64  OK    OK    OK    OK  UNNEEDED, same version is already published
kjohnson3macOS 13.7.7 Ventura / arm64  OK    OK    OK    OK  UNNEEDED, same version is already published
taishanLinux (openEuler 24.03 LTS) / aarch64  OK    OK    OK  
Package 16/90HostnameOS / ArchINSTALLBUILDCHECKBUILD BIN
debrowser 1.37.0  (landing page)
Alper Kucukural
git_last_commit: ab3c2a8
git_last_commit_date: 2025-04-15 10:59:48 -0400
nebbiolo2Linux (Ubuntu 24.04.3 LTS) / x86_64  OK    OK    OK  UNNEEDED, same version is already published
lconwaymacOS 12.7.6 Monterey / x86_64  OK    OK    OK    OK  UNNEEDED, same version is already published
kjohnson3macOS 13.7.7 Ventura / arm64  OK    OK    OK    OK  UNNEEDED, same version is already published
taishanLinux (openEuler 24.03 LTS) / aarch64  OK    OK    OK  
Package 17/90HostnameOS / ArchINSTALLBUILDCHECKBUILD BIN
DeeDeeExperiment 0.99.5  (landing page)
Najla Abassi
git_last_commit: 101435d
git_last_commit_date: 2025-08-25 09:05:50 -0400
nebbiolo2Linux (Ubuntu 24.04.3 LTS) / x86_64  OK    OK    OK  UNNEEDED, same version is already published
lconwaymacOS 12.7.6 Monterey / x86_64  OK    OK    OK    OK  UNNEEDED, same version is already published
kjohnson3macOS 13.7.7 Ventura / arm64  OK    OK    OK    OK  UNNEEDED, same version is already published
taishanLinux (openEuler 24.03 LTS) / aarch64  OK    OK    OK  
Package 18/90HostnameOS / ArchINSTALLBUILDCHECKBUILD BIN
DEFormats 1.37.0  (landing page)
Andrzej OleÅ›
git_last_commit: 9c9d687
git_last_commit_date: 2025-04-15 11:00:09 -0400
nebbiolo2Linux (Ubuntu 24.04.3 LTS) / x86_64  OK    OK    OK  UNNEEDED, same version is already published
lconwaymacOS 12.7.6 Monterey / x86_64  OK    OK    OK    OK  UNNEEDED, same version is already published
kjohnson3macOS 13.7.7 Ventura / arm64  OK    OK    OK    OK  UNNEEDED, same version is already published
taishanLinux (openEuler 24.03 LTS) / aarch64  OK    OK    OK  
Package 19/90HostnameOS / ArchINSTALLBUILDCHECKBUILD BIN
DEGreport 1.45.1  (landing page)
Lorena Pantano
git_last_commit: a55a6e6
git_last_commit_date: 2025-10-11 13:32:22 -0400
nebbiolo2Linux (Ubuntu 24.04.3 LTS) / x86_64  OK    OK    OK  UNNEEDED, same version is already published
lconwaymacOS 12.7.6 Monterey / x86_64  OK    OK    OK    OK  UNNEEDED, same version is already published
kjohnson3macOS 13.7.7 Ventura / arm64  OK    OK    OK    OK  UNNEEDED, same version is already published
taishanLinux (openEuler 24.03 LTS) / aarch64  OK    OK    OK  
Package 20/90HostnameOS / ArchINSTALLBUILDCHECKBUILD BIN
DELocal 1.9.0  (landing page)
Rishi Das Roy
git_last_commit: 61fdf94
git_last_commit_date: 2025-04-15 13:13:33 -0400
nebbiolo2Linux (Ubuntu 24.04.3 LTS) / x86_64  OK    ERROR  skipped
lconwaymacOS 12.7.6 Monterey / x86_64  OK    ERROR  skippedskipped
kjohnson3macOS 13.7.7 Ventura / arm64  OK    ERROR  skippedskipped
taishanLinux (openEuler 24.03 LTS) / aarch64  OK    ERROR  skipped
Package 21/90HostnameOS / ArchINSTALLBUILDCHECKBUILD BIN
deltaCaptureC 1.23.1  (landing page)
Michael Shapiro
git_last_commit: 9e4e4f0
git_last_commit_date: 2025-06-27 12:37:50 -0400
nebbiolo2Linux (Ubuntu 24.04.3 LTS) / x86_64  OK    OK    OK  UNNEEDED, same version is already published
lconwaymacOS 12.7.6 Monterey / x86_64  OK    OK    OK    OK  UNNEEDED, same version is already published
kjohnson3macOS 13.7.7 Ventura / arm64  OK    OK    OK    OK  UNNEEDED, same version is already published
taishanLinux (openEuler 24.03 LTS) / aarch64  OK    OK    OK  
Package 22/90HostnameOS / ArchINSTALLBUILDCHECKBUILD BIN
DEsubs 1.35.0  (landing page)
Aristidis G. Vrahatis , Panos Balomenos
git_last_commit: 7aedf9b
git_last_commit_date: 2025-04-15 11:05:41 -0400
nebbiolo2Linux (Ubuntu 24.04.3 LTS) / x86_64  OK    OK    WARNINGS  UNNEEDED, same version is already published
lconwaymacOS 12.7.6 Monterey / x86_64  OK    OK    WARNINGS    OK  UNNEEDED, same version is already published
kjohnson3macOS 13.7.7 Ventura / arm64  OK    OK    WARNINGS    OK  UNNEEDED, same version is already published
taishanLinux (openEuler 24.03 LTS) / aarch64  OK    OK    WARNINGS  
Package 23/90HostnameOS / ArchINSTALLBUILDCHECKBUILD BIN
DEWSeq 1.23.1  (landing page)
bioinformatics team Hentze
git_last_commit: eb67ad6
git_last_commit_date: 2025-07-22 19:04:31 -0400
nebbiolo2Linux (Ubuntu 24.04.3 LTS) / x86_64  OK    OK    OK  UNNEEDED, same version is already published
lconwaymacOS 12.7.6 Monterey / x86_64  OK    OK    OK    OK  UNNEEDED, same version is already published
kjohnson3macOS 13.7.7 Ventura / arm64  OK    OK    OK    OK  UNNEEDED, same version is already published
taishanLinux (openEuler 24.03 LTS) / aarch64  OK    OK    OK  
Package 24/90HostnameOS / ArchINSTALLBUILDCHECKBUILD BIN
DEXSeq 1.55.1  (landing page)
Alejandro Reyes
git_last_commit: 140dad1
git_last_commit_date: 2025-06-21 16:12:50 -0400
nebbiolo2Linux (Ubuntu 24.04.3 LTS) / x86_64  OK    OK    OK  UNNEEDED, same version is already published
lconwaymacOS 12.7.6 Monterey / x86_64  OK    OK    OK    OK  UNNEEDED, same version is already published
kjohnson3macOS 13.7.7 Ventura / arm64  OK    OK    OK    OK  UNNEEDED, same version is already published
taishanLinux (openEuler 24.03 LTS) / aarch64  OK    OK    OK  
Package 25/90HostnameOS / ArchINSTALLBUILDCHECKBUILD BIN
DiffBind 3.19.0  (landing page)
Rory Stark
git_last_commit: 200f567
git_last_commit_date: 2025-04-15 10:10:30 -0400
nebbiolo2Linux (Ubuntu 24.04.3 LTS) / x86_64  OK    OK    OK  UNNEEDED, same version is already published
lconwaymacOS 12.7.6 Monterey / x86_64  OK    OK    OK    OK  UNNEEDED, same version is already published
kjohnson3macOS 13.7.7 Ventura / arm64  OK    OK    OK    OK  UNNEEDED, same version is already published
taishanLinux (openEuler 24.03 LTS) / aarch64  OK    OK    NA  
Package 26/90HostnameOS / ArchINSTALLBUILDCHECKBUILD BIN
DOtools 0.99.11  (landing page)
Mariano Ruz Jurado
git_last_commit: 95e75ee
git_last_commit_date: 2025-10-09 05:46:33 -0400
nebbiolo2Linux (Ubuntu 24.04.3 LTS) / x86_64  OK    ERROR  skipped
lconwaymacOS 12.7.6 Monterey / x86_64  OK    ERROR  skippedskipped
kjohnson3macOS 13.7.7 Ventura / arm64  OK    ERROR  skippedskipped
taishanLinux (openEuler 24.03 LTS) / aarch64  OK    OK    ERROR  
Package 27/90HostnameOS / ArchINSTALLBUILDCHECKBUILD BIN
easier 1.15.0  (landing page)
Oscar Lapuente-Santana
git_last_commit: 517a79b
git_last_commit_date: 2025-04-15 12:42:57 -0400
nebbiolo2Linux (Ubuntu 24.04.3 LTS) / x86_64  OK    OK    OK  UNNEEDED, same version is already published
lconwaymacOS 12.7.6 Monterey / x86_64  OK    OK    OK    OK  UNNEEDED, same version is already published
kjohnson3macOS 13.7.7 Ventura / arm64  OK    OK    OK    OK  UNNEEDED, same version is already published
taishanLinux (openEuler 24.03 LTS) / aarch64  OK    OK    ERROR  
Package 28/90HostnameOS / ArchINSTALLBUILDCHECKBUILD BIN
EBSEA 1.37.0  (landing page)
Arfa Mehmood
git_last_commit: 0400540
git_last_commit_date: 2025-04-15 11:00:32 -0400
nebbiolo2Linux (Ubuntu 24.04.3 LTS) / x86_64  OK    OK    OK  UNNEEDED, same version is already published
lconwaymacOS 12.7.6 Monterey / x86_64  OK    OK    OK    OK  UNNEEDED, same version is already published
kjohnson3macOS 13.7.7 Ventura / arm64  OK    OK    OK    OK  UNNEEDED, same version is already published
taishanLinux (openEuler 24.03 LTS) / aarch64  OK    OK    NA  
Package 29/90HostnameOS / ArchINSTALLBUILDCHECKBUILD BIN
ERSSA 1.27.0  (landing page)
Zixuan Shao
git_last_commit: 456b786
git_last_commit_date: 2025-04-15 11:37:14 -0400
nebbiolo2Linux (Ubuntu 24.04.3 LTS) / x86_64  OK    OK    OK  UNNEEDED, same version is already published
lconwaymacOS 12.7.6 Monterey / x86_64  OK    OK    OK    OK  UNNEEDED, same version is already published
kjohnson3macOS 13.7.7 Ventura / arm64  OK    OK    OK    OK  UNNEEDED, same version is already published
taishanLinux (openEuler 24.03 LTS) / aarch64  OK    OK    NA  
Package 30/90HostnameOS / ArchINSTALLBUILDCHECKBUILD BIN
GDCRNATools 1.29.0  (landing page)
Ruidong Li
git_last_commit: c4da7e4
git_last_commit_date: 2025-04-15 11:17:24 -0400
nebbiolo2Linux (Ubuntu 24.04.3 LTS) / x86_64  OK    OK    OK  UNNEEDED, same version is already published
lconwaymacOS 12.7.6 Monterey / x86_64  OK    OK    OK    OK  UNNEEDED, same version is already published
kjohnson3macOS 13.7.7 Ventura / arm64  OK    OK    OK    OK  UNNEEDED, same version is already published
taishanLinux (openEuler 24.03 LTS) / aarch64  OK    OK    NA  
Package 31/90HostnameOS / ArchINSTALLBUILDCHECKBUILD BIN
GeneTonic 3.3.3  (landing page)
Federico Marini
git_last_commit: f393aa8
git_last_commit_date: 2025-10-06 15:44:51 -0400
nebbiolo2Linux (Ubuntu 24.04.3 LTS) / x86_64  OK    OK    ERROR  
lconwaymacOS 12.7.6 Monterey / x86_64  OK    OK    ERROR    OK  
kjohnson3macOS 13.7.7 Ventura / arm64  OK    OK    ERROR    OK  
taishanLinux (openEuler 24.03 LTS) / aarch64  OK    OK    NA  
Package 32/90HostnameOS / ArchINSTALLBUILDCHECKBUILD BIN
gg4way 1.7.1  (landing page)
Benjamin I Laufer
git_last_commit: 7ae4e96
git_last_commit_date: 2025-07-10 13:31:37 -0400
nebbiolo2Linux (Ubuntu 24.04.3 LTS) / x86_64  OK    OK    OK  UNNEEDED, same version is already published
lconwaymacOS 12.7.6 Monterey / x86_64  OK    OK    OK    OK  UNNEEDED, same version is already published
kjohnson3macOS 13.7.7 Ventura / arm64  OK    OK    OK    OK  UNNEEDED, same version is already published
taishanLinux (openEuler 24.03 LTS) / aarch64  OK    OK    NA  
Package 33/90HostnameOS / ArchINSTALLBUILDCHECKBUILD BIN
Glimma 2.19.2  (landing page)
Shian Su
git_last_commit: ffb4760
git_last_commit_date: 2025-06-10 21:10:13 -0400
nebbiolo2Linux (Ubuntu 24.04.3 LTS) / x86_64  OK    OK    OK  UNNEEDED, same version is already published
lconwaymacOS 12.7.6 Monterey / x86_64  OK    OK    OK    OK  UNNEEDED, same version is already published
kjohnson3macOS 13.7.7 Ventura / arm64  OK    OK    OK    OK  UNNEEDED, same version is already published
taishanLinux (openEuler 24.03 LTS) / aarch64  OK    OK    NA  
Package 34/90HostnameOS / ArchINSTALLBUILDCHECKBUILD BIN
GRaNIE 1.13.0  (landing page)
Christian Arnold
git_last_commit: a6d5f09
git_last_commit_date: 2025-04-15 12:51:24 -0400
nebbiolo2Linux (Ubuntu 24.04.3 LTS) / x86_64  OK    OK    OK  UNNEEDED, same version is already published
lconwaymacOS 12.7.6 Monterey / x86_64  OK    OK    OK    OK  UNNEEDED, same version is already published
kjohnson3macOS 13.7.7 Ventura / arm64  OK    OK    OK    OK  UNNEEDED, same version is already published
taishanLinux (openEuler 24.03 LTS) / aarch64  OK    OK    NA  
Package 35/90HostnameOS / ArchINSTALLBUILDCHECKBUILD BIN
hermes 1.13.1  (landing page)
Daniel Sabanés Bové
git_last_commit: 8ccc74e
git_last_commit_date: 2025-09-08 23:47:20 -0400
nebbiolo2Linux (Ubuntu 24.04.3 LTS) / x86_64  OK    OK    OK  UNNEEDED, same version is already published
lconwaymacOS 12.7.6 Monterey / x86_64  OK    OK    OK    OK  UNNEEDED, same version is already published
kjohnson3macOS 13.7.7 Ventura / arm64  OK    OK    OK    OK  UNNEEDED, same version is already published
taishanLinux (openEuler 24.03 LTS) / aarch64  OK    OK    NA  
Package 36/90HostnameOS / ArchINSTALLBUILDCHECKBUILD BIN
HTSFilter 1.49.0  (landing page)
Andrea Rau
git_last_commit: ea79f07
git_last_commit_date: 2025-04-15 10:17:40 -0400
nebbiolo2Linux (Ubuntu 24.04.3 LTS) / x86_64  OK    OK    OK  UNNEEDED, same version is already published
lconwaymacOS 12.7.6 Monterey / x86_64  OK    OK    OK    OK  UNNEEDED, same version is already published
kjohnson3macOS 13.7.7 Ventura / arm64  OK    OK    OK    OK  UNNEEDED, same version is already published
taishanLinux (openEuler 24.03 LTS) / aarch64  OK    OK    NA  
Package 37/90HostnameOS / ArchINSTALLBUILDCHECKBUILD BIN
HybridExpress 1.5.0  (landing page)
Fabricio Almeida-Silva
git_last_commit: cedabec
git_last_commit_date: 2025-04-15 13:31:06 -0400
nebbiolo2Linux (Ubuntu 24.04.3 LTS) / x86_64  OK    OK    OK  UNNEEDED, same version is already published
lconwaymacOS 12.7.6 Monterey / x86_64  OK    OK    OK    OK  UNNEEDED, same version is already published
kjohnson3macOS 13.7.7 Ventura / arm64  OK    OK    OK    OK  UNNEEDED, same version is already published
taishanLinux (openEuler 24.03 LTS) / aarch64  OK    OK    NA  
Package 38/90HostnameOS / ArchINSTALLBUILDCHECKBUILD BIN
icetea 1.27.1  (landing page)
Vivek Bhardwaj
git_last_commit: 94f284e
git_last_commit_date: 2025-07-23 19:14:12 -0400
nebbiolo2Linux (Ubuntu 24.04.3 LTS) / x86_64  OK    OK    WARNINGS  UNNEEDED, same version is already published
lconwaymacOS 12.7.6 Monterey / x86_64  OK    OK    WARNINGS    OK  UNNEEDED, same version is already published
kjohnson3macOS 13.7.7 Ventura / arm64  OK    OK    WARNINGS    OK  UNNEEDED, same version is already published
taishanLinux (openEuler 24.03 LTS) / aarch64  OK    OK    NA  
Package 39/90HostnameOS / ArchINSTALLBUILDCHECKBUILD BIN
ideal 2.3.0  (landing page)
Federico Marini
git_last_commit: 304e23f
git_last_commit_date: 2025-04-15 11:10:56 -0400
nebbiolo2Linux (Ubuntu 24.04.3 LTS) / x86_64  OK    OK    OK  UNNEEDED, same version is already published
lconwaymacOS 12.7.6 Monterey / x86_64  OK    OK    OK    OK  UNNEEDED, same version is already published
kjohnson3macOS 13.7.7 Ventura / arm64  OK    OK    OK    OK  UNNEEDED, same version is already published
taishanLinux (openEuler 24.03 LTS) / aarch64  OK    OK    NA  
Package 40/90HostnameOS / ArchINSTALLBUILDCHECKBUILD BIN
INSPEcT 1.39.1  (landing page)
Stefano de Pretis
git_last_commit: 9163233
git_last_commit_date: 2025-07-22 21:29:21 -0400
nebbiolo2Linux (Ubuntu 24.04.3 LTS) / x86_64  OK    OK    OK  UNNEEDED, same version is already published
lconwaymacOS 12.7.6 Monterey / x86_64  OK    OK    OK    OK  UNNEEDED, same version is already published
kjohnson3macOS 13.7.7 Ventura / arm64  OK    OK    OK    OK  UNNEEDED, same version is already published
taishanLinux (openEuler 24.03 LTS) / aarch64  OK    OK    NA  
Package 41/90HostnameOS / ArchINSTALLBUILDCHECKBUILD BIN
IntEREst 1.33.0  (landing page)
Ali Oghabian
git_last_commit: 7a2f9e3
git_last_commit_date: 2025-04-15 11:09:17 -0400
nebbiolo2Linux (Ubuntu 24.04.3 LTS) / x86_64  OK    OK    OK  UNNEEDED, same version is already published
lconwaymacOS 12.7.6 Monterey / x86_64  OK    OK    OK    OK  UNNEEDED, same version is already published
kjohnson3macOS 13.7.7 Ventura / arm64  OK    OK    OK    OK  UNNEEDED, same version is already published
taishanLinux (openEuler 24.03 LTS) / aarch64  OK    OK    NA  
Package 42/90HostnameOS / ArchINSTALLBUILDCHECKBUILD BIN
iSEEde 1.7.0  (landing page)
Kevin Rue-Albrecht
git_last_commit: b19093f
git_last_commit_date: 2025-04-15 13:19:32 -0400
nebbiolo2Linux (Ubuntu 24.04.3 LTS) / x86_64  OK    OK    OK  UNNEEDED, same version is already published
lconwaymacOS 12.7.6 Monterey / x86_64  OK    OK    OK    OK  UNNEEDED, same version is already published
kjohnson3macOS 13.7.7 Ventura / arm64  OK    OK    OK    OK  UNNEEDED, same version is already published
taishanLinux (openEuler 24.03 LTS) / aarch64  OK    OK    NA  
Package 43/90HostnameOS / ArchINSTALLBUILDCHECKBUILD BIN
isomiRs 1.37.1  (landing page)
Lorena Pantano
git_last_commit: ffb8b4b
git_last_commit_date: 2025-08-01 17:49:34 -0400
nebbiolo2Linux (Ubuntu 24.04.3 LTS) / x86_64  OK    OK    ERROR  
lconwaymacOS 12.7.6 Monterey / x86_64  OK    OK    ERROR    OK  
kjohnson3macOS 13.7.7 Ventura / arm64  OK    OK    ERROR    OK  
taishanLinux (openEuler 24.03 LTS) / aarch64  OK    OK    NA  
Package 44/90HostnameOS / ArchINSTALLBUILDCHECKBUILD BIN
kissDE 1.29.0  (landing page)
Aurélie Siberchicot
git_last_commit: babe2b1
git_last_commit_date: 2025-04-15 11:17:57 -0400
nebbiolo2Linux (Ubuntu 24.04.3 LTS) / x86_64  OK    OK    OK  UNNEEDED, same version is already published
lconwaymacOS 12.7.6 Monterey / x86_64  OK    OK    OK    OK  UNNEEDED, same version is already published
kjohnson3macOS 13.7.7 Ventura / arm64  OK    OK    OK    OK  UNNEEDED, same version is already published
taishanLinux (openEuler 24.03 LTS) / aarch64  OK    OK    NA  
Package 45/90HostnameOS / ArchINSTALLBUILDCHECKBUILD BIN
magpie 1.9.0  (landing page)
Daoyu Duan
git_last_commit: c5d9afd
git_last_commit_date: 2025-04-15 13:11:12 -0400
nebbiolo2Linux (Ubuntu 24.04.3 LTS) / x86_64  OK    OK    WARNINGS  UNNEEDED, same version is already published
lconwaymacOS 12.7.6 Monterey / x86_64  OK    OK    WARNINGS    OK  UNNEEDED, same version is already published
kjohnson3macOS 13.7.7 Ventura / arm64  OK    OK    WARNINGS    OK  UNNEEDED, same version is already published
taishanLinux (openEuler 24.03 LTS) / aarch64  OK    OK    NA  
Package 46/90HostnameOS / ArchINSTALLBUILDCHECKBUILD BIN
metaseqR2 1.21.2  (landing page)
Panagiotis Moulos
git_last_commit: 1e96df6
git_last_commit_date: 2025-10-10 10:26:16 -0400
nebbiolo2Linux (Ubuntu 24.04.3 LTS) / x86_64  OK    OK    OK  UNNEEDED, same version is already published
lconwaymacOS 12.7.6 Monterey / x86_64  OK    OK    OK    OK  UNNEEDED, same version is already published
kjohnson3macOS 13.7.7 Ventura / arm64  OK    OK    OK    OK  UNNEEDED, same version is already published
taishanLinux (openEuler 24.03 LTS) / aarch64  OK    OK    NA  
Package 47/90HostnameOS / ArchINSTALLBUILDCHECKBUILD BIN
microbiomeExplorer 1.19.0  (landing page)
Janina Reeder
git_last_commit: 3bc03f5
git_last_commit_date: 2025-04-15 12:11:25 -0400
nebbiolo2Linux (Ubuntu 24.04.3 LTS) / x86_64  OK    OK    OK  UNNEEDED, same version is already published
lconwaymacOS 12.7.6 Monterey / x86_64  OK    OK    OK    OK  UNNEEDED, same version is already published
kjohnson3macOS 13.7.7 Ventura / arm64  OK    OK    OK    OK  UNNEEDED, same version is already published
taishanLinux (openEuler 24.03 LTS) / aarch64  OK    OK    NA  
Package 48/90HostnameOS / ArchINSTALLBUILDCHECKBUILD BIN
MIRit 1.5.2  (landing page)
Jacopo Ronchi
git_last_commit: a9cb805
git_last_commit_date: 2025-09-18 06:25:47 -0400
nebbiolo2Linux (Ubuntu 24.04.3 LTS) / x86_64  OK    OK    OK  UNNEEDED, same version is already published
lconwaymacOS 12.7.6 Monterey / x86_64  OK    OK    OK    OK  UNNEEDED, same version is already published
kjohnson3macOS 13.7.7 Ventura / arm64  OK    OK    OK    OK  UNNEEDED, same version is already published
taishanLinux (openEuler 24.03 LTS) / aarch64  OK    OK    NA  
Package 49/90HostnameOS / ArchINSTALLBUILDCHECKBUILD BIN
MLSeq 2.27.0  (landing page)
Gokmen Zararsiz
git_last_commit: 8da57f6
git_last_commit_date: 2025-04-15 10:29:29 -0400
nebbiolo2Linux (Ubuntu 24.04.3 LTS) / x86_64  OK    OK    OK  UNNEEDED, same version is already published
lconwaymacOS 12.7.6 Monterey / x86_64  OK    OK    OK    OK  UNNEEDED, same version is already published
kjohnson3macOS 13.7.7 Ventura / arm64  OK    OK    OK    OK  UNNEEDED, same version is already published
taishanLinux (openEuler 24.03 LTS) / aarch64  OK    OK    NA  
Package 50/90HostnameOS / ArchINSTALLBUILDCHECKBUILD BIN
mobileRNA 1.5.1  (landing page)
Katie Jeynes-Cupper
git_last_commit: 072fb25
git_last_commit_date: 2025-07-23 12:46:28 -0400
nebbiolo2Linux (Ubuntu 24.04.3 LTS) / x86_64  OK    OK    OK  UNNEEDED, same version is already published
lconwaymacOS 12.7.6 Monterey / x86_64  OK    OK    OK    OK  UNNEEDED, same version is already published
kjohnson3macOS 13.7.7 Ventura / arm64  OK    OK    OK    OK  UNNEEDED, same version is already published
taishanLinux (openEuler 24.03 LTS) / aarch64  OK    OK    NA  
Package 51/90HostnameOS / ArchINSTALLBUILDCHECKBUILD BIN
mosdef 1.5.1  (landing page)
Federico Marini
git_last_commit: 0964a99
git_last_commit_date: 2025-05-01 09:15:36 -0400
nebbiolo2Linux (Ubuntu 24.04.3 LTS) / x86_64  OK    OK    OK  UNNEEDED, same version is already published
lconwaymacOS 12.7.6 Monterey / x86_64  OK    OK    OK    OK  UNNEEDED, same version is already published
kjohnson3macOS 13.7.7 Ventura / arm64  OK    OK    OK    OK  UNNEEDED, same version is already published
taishanLinux (openEuler 24.03 LTS) / aarch64  OK    OK    NA  
Package 52/90HostnameOS / ArchINSTALLBUILDCHECKBUILD BIN
MultiRNAflow 1.7.2  (landing page)
Rodolphe Loubaton
git_last_commit: abe36dd
git_last_commit_date: 2025-10-20 17:54:39 -0400
nebbiolo2Linux (Ubuntu 24.04.3 LTS) / x86_64  OK    OK    OK  UNNEEDED, same version is already published
lconwaymacOS 12.7.6 Monterey / x86_64  OK    OK    OK    OK  UNNEEDED, same version is already published
kjohnson3macOS 13.7.7 Ventura / arm64  OK    OK    OK    OK  UNNEEDED, same version is already published
taishanLinux (openEuler 24.03 LTS) / aarch64  OK    ERROR  skipped
Package 53/90HostnameOS / ArchINSTALLBUILDCHECKBUILD BIN
muscat 1.23.2  (landing page)
Helena L. Crowell
git_last_commit: 8bb91e1
git_last_commit_date: 2025-10-15 04:02:09 -0400
nebbiolo2Linux (Ubuntu 24.04.3 LTS) / x86_64  OK    OK    OK  UNNEEDED, same version is already published
lconwaymacOS 12.7.6 Monterey / x86_64  OK    OK    OK    OK  UNNEEDED, same version is already published
kjohnson3macOS 13.7.7 Ventura / arm64  OK    OK    OK    OK  UNNEEDED, same version is already published
taishanLinux (openEuler 24.03 LTS) / aarch64  OK    OK    NA  
Package 54/90HostnameOS / ArchINSTALLBUILDCHECKBUILD BIN
NBAMSeq 1.25.0  (landing page)
Xu Ren
git_last_commit: 78f3971
git_last_commit_date: 2025-04-15 11:43:23 -0400
nebbiolo2Linux (Ubuntu 24.04.3 LTS) / x86_64  OK    OK    OK  UNNEEDED, same version is already published
lconwaymacOS 12.7.6 Monterey / x86_64  OK    OK    OK    OK  UNNEEDED, same version is already published
kjohnson3macOS 13.7.7 Ventura / arm64  OK    OK    OK    OK  UNNEEDED, same version is already published
taishanLinux (openEuler 24.03 LTS) / aarch64  OK    OK    NA  
Package 55/90HostnameOS / ArchINSTALLBUILDCHECKBUILD BIN
NetActivity 1.11.0  (landing page)
Carlos Ruiz-Arenas
git_last_commit: 74ba70f
git_last_commit_date: 2025-04-15 12:59:16 -0400
nebbiolo2Linux (Ubuntu 24.04.3 LTS) / x86_64  OK    OK    OK  UNNEEDED, same version is already published
lconwaymacOS 12.7.6 Monterey / x86_64  OK    OK    OK    OK  UNNEEDED, same version is already published
kjohnson3macOS 13.7.7 Ventura / arm64  OK    OK    OK    OK  UNNEEDED, same version is already published
taishanLinux (openEuler 24.03 LTS) / aarch64  OK    OK    NA  
Package 56/90HostnameOS / ArchINSTALLBUILDCHECKBUILD BIN
octad 1.11.1  (landing page)
E. Chekalin
git_last_commit: fdf7e72
git_last_commit_date: 2025-04-20 23:58:15 -0400
nebbiolo2Linux (Ubuntu 24.04.3 LTS) / x86_64  OK    OK    OK  UNNEEDED, same version is already published
lconwaymacOS 12.7.6 Monterey / x86_64  OK    OK    OK    OK  UNNEEDED, same version is already published
kjohnson3macOS 13.7.7 Ventura / arm64  OK    OK    OK    OK  UNNEEDED, same version is already published
taishanLinux (openEuler 24.03 LTS) / aarch64  OK    OK    NA  
Package 57/90HostnameOS / ArchINSTALLBUILDCHECKBUILD BIN
ORFik 1.29.9  (landing page)
Haakon Tjeldnes
git_last_commit: 91fe5a2
git_last_commit_date: 2025-09-19 07:15:59 -0400
nebbiolo2Linux (Ubuntu 24.04.3 LTS) / x86_64  OK    OK    OK  UNNEEDED, same version is already published
lconwaymacOS 12.7.6 Monterey / x86_64  OK    OK    OK    OK  UNNEEDED, same version is already published
kjohnson3macOS 13.7.7 Ventura / arm64  OK    OK    OK    OK  UNNEEDED, same version is already published
taishanLinux (openEuler 24.03 LTS) / aarch64  OK    OK    NA  
Package 58/90HostnameOS / ArchINSTALLBUILDCHECKBUILD BIN
OUTRIDER 1.27.2  (landing page)
Christian Mertes
git_last_commit: 1ebc358
git_last_commit_date: 2025-07-28 15:40:55 -0400
nebbiolo2Linux (Ubuntu 24.04.3 LTS) / x86_64  OK    OK    OK  UNNEEDED, same version is already published
lconwaymacOS 12.7.6 Monterey / x86_64  OK    OK    OK    OK  UNNEEDED, same version is already published
kjohnson3macOS 13.7.7 Ventura / arm64  OK    OK    OK    OK  UNNEEDED, same version is already published
taishanLinux (openEuler 24.03 LTS) / aarch64  OK    OK    NA  
Package 59/90HostnameOS / ArchINSTALLBUILDCHECKBUILD BIN
pairedGSEA 1.9.0  (landing page)
Søren Helweg Dam
git_last_commit: bd203cd
git_last_commit_date: 2025-04-15 13:14:23 -0400
nebbiolo2Linux (Ubuntu 24.04.3 LTS) / x86_64  OK    OK    OK  UNNEEDED, same version is already published
lconwaymacOS 12.7.6 Monterey / x86_64  OK    OK    OK    OK  UNNEEDED, same version is already published
kjohnson3macOS 13.7.7 Ventura / arm64  OK    OK    OK    OK  UNNEEDED, same version is already published
taishanLinux (openEuler 24.03 LTS) / aarch64  OK    OK    NA  
Package 60/90HostnameOS / ArchINSTALLBUILDCHECKBUILD BIN
PathoStat 1.35.0  (landing page)
Solaiappan Manimaran
git_last_commit: f0f6dba
git_last_commit_date: 2025-04-15 11:06:04 -0400
nebbiolo2Linux (Ubuntu 24.04.3 LTS) / x86_64  OK    OK    OK  UNNEEDED, same version is already published
lconwaymacOS 12.7.6 Monterey / x86_64  OK    OK    OK    OK  UNNEEDED, same version is already published
kjohnson3macOS 13.7.7 Ventura / arm64  OK    OK    OK    OK  UNNEEDED, same version is already published
taishanLinux (openEuler 24.03 LTS) / aarch64  OK    OK    NA  
Package 61/90HostnameOS / ArchINSTALLBUILDCHECKBUILD BIN
pcaExplorer 3.3.0  (landing page)
Federico Marini
git_last_commit: 996dcd7
git_last_commit_date: 2025-04-15 11:01:02 -0400
nebbiolo2Linux (Ubuntu 24.04.3 LTS) / x86_64  OK    OK    OK  UNNEEDED, same version is already published
lconwaymacOS 12.7.6 Monterey / x86_64  OK    OK    OK    OK  UNNEEDED, same version is already published
kjohnson3macOS 13.7.7 Ventura / arm64  OK    OK    OK    OK  UNNEEDED, same version is already published
taishanLinux (openEuler 24.03 LTS) / aarch64  OK    OK    NA  
Package 62/90HostnameOS / ArchINSTALLBUILDCHECKBUILD BIN
phantasus 1.29.0  (landing page)
Alexey Sergushichev
git_last_commit: 5b63f9c
git_last_commit_date: 2025-04-15 11:19:43 -0400
nebbiolo2Linux (Ubuntu 24.04.3 LTS) / x86_64  OK    OK    OK  UNNEEDED, same version is already published
lconwaymacOS 12.7.6 Monterey / x86_64  OK    OK    OK    OK  UNNEEDED, same version is already published
kjohnson3macOS 13.7.7 Ventura / arm64  OK    OK    OK    OK  UNNEEDED, same version is already published
taishanLinux (openEuler 24.03 LTS) / aarch64  OK    OK    NA  
Package 63/90HostnameOS / ArchINSTALLBUILDCHECKBUILD BIN
POMA 1.19.0  (landing page)
Pol Castellano-Escuder
git_last_commit: 2581764
git_last_commit_date: 2025-04-15 12:05:54 -0400
nebbiolo2Linux (Ubuntu 24.04.3 LTS) / x86_64  OK    OK    OK  UNNEEDED, same version is already published
lconwaymacOS 12.7.6 Monterey / x86_64  OK    OK    OK    OK  UNNEEDED, same version is already published
kjohnson3macOS 13.7.7 Ventura / arm64  OK    OK    OK    OK  UNNEEDED, same version is already published
taishanLinux (openEuler 24.03 LTS) / aarch64  OK    OK    NA  
Package 64/90HostnameOS / ArchINSTALLBUILDCHECKBUILD BIN
proActiv 1.19.3  (landing page)
Joseph Lee
git_last_commit: 042c9f7
git_last_commit_date: 2025-07-31 13:22:45 -0400
nebbiolo2Linux (Ubuntu 24.04.3 LTS) / x86_64  OK    OK    OK  UNNEEDED, same version is already published
lconwaymacOS 12.7.6 Monterey / x86_64  OK    OK    OK    OK  UNNEEDED, same version is already published
kjohnson3macOS 13.7.7 Ventura / arm64  OK    OK    OK    OK  UNNEEDED, same version is already published
taishanLinux (openEuler 24.03 LTS) / aarch64  OK    OK    NA  
Package 65/90HostnameOS / ArchINSTALLBUILDCHECKBUILD BIN
RegEnrich 1.19.0  (landing page)
Weiyang Tao
git_last_commit: d086a85
git_last_commit_date: 2025-04-15 12:03:15 -0400
nebbiolo2Linux (Ubuntu 24.04.3 LTS) / x86_64  OK    OK    OK  UNNEEDED, same version is already published
lconwaymacOS 12.7.6 Monterey / x86_64  OK    OK    OK    OK  UNNEEDED, same version is already published
kjohnson3macOS 13.7.7 Ventura / arm64  OK    OK    OK    OK  UNNEEDED, same version is already published
taishanLinux (openEuler 24.03 LTS) / aarch64  OK    ERROR  skipped
Package 66/90HostnameOS / ArchINSTALLBUILDCHECKBUILD BIN
regionReport 1.43.1  (landing page)
Leonardo Collado-Torres
git_last_commit: 301f96d
git_last_commit_date: 2025-07-26 20:59:40 -0400
nebbiolo2Linux (Ubuntu 24.04.3 LTS) / x86_64  OK    OK    OK  UNNEEDED, same version is already published
lconwaymacOS 12.7.6 Monterey / x86_64  OK    OK    OK    OK  UNNEEDED, same version is already published
kjohnson3macOS 13.7.7 Ventura / arm64  OK    OK    OK    OK  UNNEEDED, same version is already published
taishanLinux (openEuler 24.03 LTS) / aarch64  OK    OK    NA  
Package 67/90HostnameOS / ArchINSTALLBUILDCHECKBUILD BIN
ReportingTools 2.49.0  (landing page)
Jason A. Hackney , Gabriel Becker
git_last_commit: 5605228
git_last_commit_date: 2025-04-15 10:15:41 -0400
nebbiolo2Linux (Ubuntu 24.04.3 LTS) / x86_64  OK    OK    OK  UNNEEDED, same version is already published
lconwaymacOS 12.7.6 Monterey / x86_64  OK    OK    OK    OK  UNNEEDED, same version is already published
kjohnson3macOS 13.7.7 Ventura / arm64  OK    OK    OK    OK  UNNEEDED, same version is already published
taishanLinux (openEuler 24.03 LTS) / aarch64  OK    OK    NA  
Package 68/90HostnameOS / ArchINSTALLBUILDCHECKBUILD BIN
rgsepd 1.41.0  (landing page)
Karl Stamm
git_last_commit: 515def6
git_last_commit_date: 2025-04-15 10:37:03 -0400
nebbiolo2Linux (Ubuntu 24.04.3 LTS) / x86_64  OK    OK    OK  UNNEEDED, same version is already published
lconwaymacOS 12.7.6 Monterey / x86_64  OK    OK    OK    OK  UNNEEDED, same version is already published
kjohnson3macOS 13.7.7 Ventura / arm64  OK    OK    OK    OK  UNNEEDED, same version is already published
taishanLinux (openEuler 24.03 LTS) / aarch64  OK    OK    NA  
Package 69/90HostnameOS / ArchINSTALLBUILDCHECKBUILD BIN
RiboDiPA 1.17.1  (landing page)
Ji-Ping Wang
git_last_commit: a283ae2
git_last_commit_date: 2025-05-19 12:35:40 -0400
nebbiolo2Linux (Ubuntu 24.04.3 LTS) / x86_64  OK    OK    OK  UNNEEDED, same version is already published
lconwaymacOS 12.7.6 Monterey / x86_64  OK    OK    OK    OK  UNNEEDED, same version is already published
kjohnson3macOS 13.7.7 Ventura / arm64  OK    OK    OK    OK  UNNEEDED, same version is already published
taishanLinux (openEuler 24.03 LTS) / aarch64  OK    OK    NA  
Package 70/90HostnameOS / ArchINSTALLBUILDCHECKBUILD BIN
Rmmquant 1.27.0  (landing page)
Zytnicki Matthias
git_last_commit: 1f15300
git_last_commit_date: 2025-04-15 11:34:28 -0400
nebbiolo2Linux (Ubuntu 24.04.3 LTS) / x86_64  OK    OK    OK  UNNEEDED, same version is already published
lconwaymacOS 12.7.6 Monterey / x86_64  OK    OK    OK    OK  UNNEEDED, same version is already published
kjohnson3macOS 13.7.7 Ventura / arm64  OK    OK    OK    OK  UNNEEDED, same version is already published
taishanLinux (openEuler 24.03 LTS) / aarch64  OK    OK    NA  
Package 71/90HostnameOS / ArchINSTALLBUILDCHECKBUILD BIN
saseR 1.5.1  (landing page)
Alexandre Segers
git_last_commit: 8e6b31a
git_last_commit_date: 2025-06-26 07:03:57 -0400
nebbiolo2Linux (Ubuntu 24.04.3 LTS) / x86_64  OK    OK    WARNINGS  UNNEEDED, same version is already published
lconwaymacOS 12.7.6 Monterey / x86_64  OK    OK    WARNINGS    OK  UNNEEDED, same version is already published
kjohnson3macOS 13.7.7 Ventura / arm64  OK    OK    WARNINGS    OK  UNNEEDED, same version is already published
taishanLinux (openEuler 24.03 LTS) / aarch64  OK    OK    NA  
Package 72/90HostnameOS / ArchINSTALLBUILDCHECKBUILD BIN
scBFA 1.23.0  (landing page)
Ruoxin Li
git_last_commit: ea1ad79
git_last_commit_date: 2025-04-15 11:48:27 -0400
nebbiolo2Linux (Ubuntu 24.04.3 LTS) / x86_64  OK    OK    OK  UNNEEDED, same version is already published
lconwaymacOS 12.7.6 Monterey / x86_64  OK    OK    OK    OK  UNNEEDED, same version is already published
kjohnson3macOS 13.7.7 Ventura / arm64  OK    OK    OK    OK  UNNEEDED, same version is already published
taishanLinux (openEuler 24.03 LTS) / aarch64  OK    OK    NA  
Package 73/90HostnameOS / ArchINSTALLBUILDCHECKBUILD BIN
scGPS 1.23.0  (landing page)
Quan Nguyen
git_last_commit: 9c713b2
git_last_commit_date: 2025-04-15 11:48:06 -0400
nebbiolo2Linux (Ubuntu 24.04.3 LTS) / x86_64  OK    OK    OK  UNNEEDED, same version is already published
lconwaymacOS 12.7.6 Monterey / x86_64  OK    OK    OK    OK  UNNEEDED, same version is already published
kjohnson3macOS 13.7.7 Ventura / arm64  OK    OK    OK    OK  UNNEEDED, same version is already published
taishanLinux (openEuler 24.03 LTS) / aarch64  OK    ERROR  skipped
Package 74/90HostnameOS / ArchINSTALLBUILDCHECKBUILD BIN
scQTLtools 1.1.7  (landing page)
Xiaofeng Wu
git_last_commit: 6c77f29
git_last_commit_date: 2025-06-15 11:49:30 -0400
nebbiolo2Linux (Ubuntu 24.04.3 LTS) / x86_64  OK    OK    ERROR  
lconwaymacOS 12.7.6 Monterey / x86_64  OK    OK    ERROR    OK  
kjohnson3macOS 13.7.7 Ventura / arm64  OK    OK    ERROR    OK  
taishanLinux (openEuler 24.03 LTS) / aarch64  OK    OK    NA  
Package 75/90HostnameOS / ArchINSTALLBUILDCHECKBUILD BIN
SeqGSEA 1.49.0  (landing page)
Xi Wang
git_last_commit: 178db7c
git_last_commit_date: 2025-04-15 10:23:38 -0400
nebbiolo2Linux (Ubuntu 24.04.3 LTS) / x86_64  OK    OK    OK  UNNEEDED, same version is already published
lconwaymacOS 12.7.6 Monterey / x86_64  OK    OK    OK    OK  UNNEEDED, same version is already published
kjohnson3macOS 13.7.7 Ventura / arm64  OK    OK    OK    OK  UNNEEDED, same version is already published
taishanLinux (openEuler 24.03 LTS) / aarch64  OK    OK    NA  
Package 76/90HostnameOS / ArchINSTALLBUILDCHECKBUILD BIN
SEtools 1.23.3  (landing page)
Pierre-Luc Germain
git_last_commit: 5ae2e82
git_last_commit_date: 2025-07-22 08:49:37 -0400
nebbiolo2Linux (Ubuntu 24.04.3 LTS) / x86_64  OK    OK    OK  UNNEEDED, same version is already published
lconwaymacOS 12.7.6 Monterey / x86_64  OK    OK    OK    OK  UNNEEDED, same version is already published
kjohnson3macOS 13.7.7 Ventura / arm64  OK    OK    OK    OK  UNNEEDED, same version is already published
taishanLinux (openEuler 24.03 LTS) / aarch64  OK    OK    NA  
Package 77/90HostnameOS / ArchINSTALLBUILDCHECKBUILD BIN
singleCellTK 2.19.2  (landing page)
Joshua David Campbell
git_last_commit: 238aed05
git_last_commit_date: 2025-09-26 08:22:06 -0400
nebbiolo2Linux (Ubuntu 24.04.3 LTS) / x86_64  OK    OK    OK  UNNEEDED, same version is already published
lconwaymacOS 12.7.6 Monterey / x86_64  OK    OK    OK    OK  UNNEEDED, same version is already published
kjohnson3macOS 13.7.7 Ventura / arm64  OK    OK    OK    OK  UNNEEDED, same version is already published
taishanLinux (openEuler 24.03 LTS) / aarch64  OK    OK    NA  
Package 78/90HostnameOS / ArchINSTALLBUILDCHECKBUILD BIN
SNPhood 1.39.0  (landing page)
Christian Arnold
git_last_commit: 79a2c60
git_last_commit_date: 2025-04-15 10:56:04 -0400
nebbiolo2Linux (Ubuntu 24.04.3 LTS) / x86_64  OK    OK    OK  UNNEEDED, same version is already published
lconwaymacOS 12.7.6 Monterey / x86_64  OK    OK    OK    OK  UNNEEDED, same version is already published
kjohnson3macOS 13.7.7 Ventura / arm64  OK    OK    OK    OK  UNNEEDED, same version is already published
taishanLinux (openEuler 24.03 LTS) / aarch64  OK    OK    NA  
Package 79/90HostnameOS / ArchINSTALLBUILDCHECKBUILD BIN
srnadiff 1.29.1  (landing page)
Zytnicki Matthias
git_last_commit: b23c87f
git_last_commit_date: 2025-07-24 19:40:35 -0400
nebbiolo2Linux (Ubuntu 24.04.3 LTS) / x86_64  OK    OK    WARNINGS  UNNEEDED, same version is already published
lconwaymacOS 12.7.6 Monterey / x86_64  OK    OK    WARNINGS    OK  UNNEEDED, same version is already published
kjohnson3macOS 13.7.7 Ventura / arm64  OK    OK    WARNINGS    OK  UNNEEDED, same version is already published
taishanLinux (openEuler 24.03 LTS) / aarch64  OK    OK    NA  
Package 80/90HostnameOS / ArchINSTALLBUILDCHECKBUILD BIN
SurfR 1.5.2  (landing page)
Aurora Maurizio
git_last_commit: 229443c
git_last_commit_date: 2025-09-25 08:59:39 -0400
nebbiolo2Linux (Ubuntu 24.04.3 LTS) / x86_64  OK    OK    OK  UNNEEDED, same version is already published
lconwaymacOS 12.7.6 Monterey / x86_64  OK    OK    OK    OK  UNNEEDED, same version is already published
kjohnson3macOS 13.7.7 Ventura / arm64  OK    OK    OK    OK  UNNEEDED, same version is already published
taishanLinux (openEuler 24.03 LTS) / aarch64  OK    OK    NA  
Package 81/90HostnameOS / ArchINSTALLBUILDCHECKBUILD BIN
systemPipeTools 1.17.0  (landing page)
Daniela Cassol
git_last_commit: 83b911f
git_last_commit_date: 2025-04-15 12:33:06 -0400
nebbiolo2Linux (Ubuntu 24.04.3 LTS) / x86_64  OK    OK    WARNINGS  UNNEEDED, same version is already published
lconwaymacOS 12.7.6 Monterey / x86_64  OK    OK    WARNINGS    OK  UNNEEDED, same version is already published
kjohnson3macOS 13.7.7 Ventura / arm64  OK    OK    WARNINGS    OK  UNNEEDED, same version is already published
taishanLinux (openEuler 24.03 LTS) / aarch64  OK    OK    NA  
Package 82/90HostnameOS / ArchINSTALLBUILDCHECKBUILD BIN
TBSignatureProfiler 1.21.4  (landing page)
Kiloni Quiles
git_last_commit: 5cd5fd2
git_last_commit_date: 2025-10-08 11:39:01 -0400
nebbiolo2Linux (Ubuntu 24.04.3 LTS) / x86_64  OK    OK    OK  UNNEEDED, same version is already published
lconwaymacOS 12.7.6 Monterey / x86_64  OK    OK    OK    OK  UNNEEDED, same version is already published
kjohnson3macOS 13.7.7 Ventura / arm64  OK    OK    OK    OK  UNNEEDED, same version is already published
taishanLinux (openEuler 24.03 LTS) / aarch64  OK    OK    NA  
Package 83/90HostnameOS / ArchINSTALLBUILDCHECKBUILD BIN
TCC 1.49.1  (landing page)
Jianqiang Sun
git_last_commit: 3bf1e82
git_last_commit_date: 2025-04-23 02:15:16 -0400
nebbiolo2Linux (Ubuntu 24.04.3 LTS) / x86_64  OK    OK    OK  UNNEEDED, same version is already published
lconwaymacOS 12.7.6 Monterey / x86_64  OK    OK    OK    OK  UNNEEDED, same version is already published
kjohnson3macOS 13.7.7 Ventura / arm64  OK    OK    OK    OK  UNNEEDED, same version is already published
taishanLinux (openEuler 24.03 LTS) / aarch64  OK    OK    NA  
Package 84/90HostnameOS / ArchINSTALLBUILDCHECKBUILD BIN
TEKRABber 1.13.1  (landing page)
Yao-Chung Chen
git_last_commit: ca1a552
git_last_commit_date: 2025-07-22 22:08:33 -0400
nebbiolo2Linux (Ubuntu 24.04.3 LTS) / x86_64  OK    OK    OK  UNNEEDED, same version is already published
lconwaymacOS 12.7.6 Monterey / x86_64  OK    OK    OK    OK  UNNEEDED, same version is already published
kjohnson3macOS 13.7.7 Ventura / arm64  OK    OK    OK    OK  UNNEEDED, same version is already published
taishanLinux (openEuler 24.03 LTS) / aarch64  OK    OK    NA  
Package 85/90HostnameOS / ArchINSTALLBUILDCHECKBUILD BIN
terapadog 1.1.0  (landing page)
Gionmattia Carancini
git_last_commit: 44631d0
git_last_commit_date: 2025-04-15 13:48:29 -0400
nebbiolo2Linux (Ubuntu 24.04.3 LTS) / x86_64  OK    OK    OK  UNNEEDED, same version is already published
lconwaymacOS 12.7.6 Monterey / x86_64  OK    OK    OK    OK  UNNEEDED, same version is already published
kjohnson3macOS 13.7.7 Ventura / arm64  OK    OK    OK    OK  UNNEEDED, same version is already published
taishanLinux (openEuler 24.03 LTS) / aarch64  OK    OK    NA  
Package 86/90HostnameOS / ArchINSTALLBUILDCHECKBUILD BIN
tRanslatome 1.47.0  (landing page)
Toma Tebaldi , Erik Dassi
git_last_commit: a374721
git_last_commit_date: 2025-04-15 10:24:21 -0400
nebbiolo2Linux (Ubuntu 24.04.3 LTS) / x86_64  OK    OK    OK  UNNEEDED, same version is already published
lconwaymacOS 12.7.6 Monterey / x86_64  OK    OK    OK    OK  UNNEEDED, same version is already published
kjohnson3macOS 13.7.7 Ventura / arm64  OK    OK    OK    OK  UNNEEDED, same version is already published
taishanLinux (openEuler 24.03 LTS) / aarch64  OK    OK    NA  
Package 87/90HostnameOS / ArchINSTALLBUILDCHECKBUILD BIN
UMI4Cats 1.19.3  (landing page)
Mireia Ramos-Rodriguez
git_last_commit: 2dfa73c
git_last_commit_date: 2025-10-21 06:59:01 -0400
nebbiolo2Linux (Ubuntu 24.04.3 LTS) / x86_64  OK    OK    OK  UNNEEDED, same version is already published
lconwaymacOS 12.7.6 Monterey / x86_64  OK    OK    OK    OK  UNNEEDED, same version is already published
kjohnson3macOS 13.7.7 Ventura / arm64  OK    OK    OK    OK  UNNEEDED, same version is already published
taishanLinux (openEuler 24.03 LTS) / aarch64  OK    OK    NA  
Package 88/90HostnameOS / ArchINSTALLBUILDCHECKBUILD BIN
vidger 1.29.1  (landing page)
Brandon Monier
git_last_commit: 213dc46
git_last_commit_date: 2025-10-07 17:50:17 -0400
nebbiolo2Linux (Ubuntu 24.04.3 LTS) / x86_64  OK    OK    OK  UNNEEDED, same version is already published
lconwaymacOS 12.7.6 Monterey / x86_64  OK    OK    OK    OK  UNNEEDED, same version is already published
kjohnson3macOS 13.7.7 Ventura / arm64  OK    OK    OK    OK  UNNEEDED, same version is already published
taishanLinux (openEuler 24.03 LTS) / aarch64  OK    OK    NA  
Package 89/90HostnameOS / ArchINSTALLBUILDCHECKBUILD BIN
vulcan 1.31.0  (landing page)
Federico M. Giorgi
git_last_commit: 9fbaf90
git_last_commit_date: 2025-04-15 11:14:45 -0400
nebbiolo2Linux (Ubuntu 24.04.3 LTS) / x86_64  OK    OK    OK  UNNEEDED, same version is already published
lconwaymacOS 12.7.6 Monterey / x86_64  OK    OK    OK    OK  UNNEEDED, same version is already published
kjohnson3macOS 13.7.7 Ventura / arm64  OK    OK    OK    OK  UNNEEDED, same version is already published
taishanLinux (openEuler 24.03 LTS) / aarch64  OK    OK    NA  
Package 90/90HostnameOS / ArchINSTALLBUILDCHECKBUILD BIN
zitools 1.3.0  (landing page)
Carlotta Meyring
git_last_commit: 9d83d53
git_last_commit_date: 2025-04-15 13:36:49 -0400
nebbiolo2Linux (Ubuntu 24.04.3 LTS) / x86_64  OK    OK    WARNINGS  UNNEEDED, same version is already published
lconwaymacOS 12.7.6 Monterey / x86_64  OK    OK    WARNINGS    OK  UNNEEDED, same version is already published
kjohnson3macOS 13.7.7 Ventura / arm64  OK    OK    WARNINGS    OK  UNNEEDED, same version is already published
taishanLinux (openEuler 24.03 LTS) / aarch64  OK    OK    NA