Back to Build/check report for BioC 3.23:   simplified   long
AB[C]DEFGHIJKLMNOPQRSTUVWXYZ

This page was generated on 2025-11-05 11:32 -0500 (Wed, 05 Nov 2025).

HostnameOSArch (*)R versionInstalled pkgs
nebbiolo1Linux (Ubuntu 24.04.3 LTS)x86_64R Under development (unstable) (2025-10-20 r88955) -- "Unsuffered Consequences" 4818
Click on any hostname to see more info about the system (e.g. compilers)      (*) as reported by 'uname -p', except on Windows and Mac OS X

Package 283/2323HostnameOS / ArchINSTALLBUILDCHECKBUILD BIN
CatsCradle 1.5.1  (landing page)
Michael Shapiro
Snapshot Date: 2025-11-04 13:40 -0500 (Tue, 04 Nov 2025)
git_url: https://git.bioconductor.org/packages/CatsCradle
git_branch: devel
git_last_commit: 032f58b
git_last_commit_date: 2025-11-04 07:21:19 -0500 (Tue, 04 Nov 2025)
nebbiolo1Linux (Ubuntu 24.04.3 LTS) / x86_64  OK    OK    OK  YES


CHECK results for CatsCradle on nebbiolo1

To the developers/maintainers of the CatsCradle package:
- Allow up to 24 hours (and sometimes 48 hours) for your latest push to git@git.bioconductor.org:packages/CatsCradle.git to reflect on this report. See Troubleshooting Build Report for more information.
- Use the following Renviron settings to reproduce errors and warnings.
- If 'R CMD check' started to fail recently on the Linux builder(s) over a missing dependency, add the missing dependency to 'Suggests:' in your DESCRIPTION file. See Renviron.bioc for more information.

raw results


Summary

Package: CatsCradle
Version: 1.5.1
Command: /home/biocbuild/bbs-3.23-bioc/R/bin/R CMD check --install=check:CatsCradle.install-out.txt --library=/home/biocbuild/bbs-3.23-bioc/R/site-library --timings CatsCradle_1.5.1.tar.gz
StartedAt: 2025-11-04 21:36:58 -0500 (Tue, 04 Nov 2025)
EndedAt: 2025-11-04 21:54:52 -0500 (Tue, 04 Nov 2025)
EllapsedTime: 1073.5 seconds
RetCode: 0
Status:   OK  
CheckDir: CatsCradle.Rcheck
Warnings: 0

Command output

##############################################################################
##############################################################################
###
### Running command:
###
###   /home/biocbuild/bbs-3.23-bioc/R/bin/R CMD check --install=check:CatsCradle.install-out.txt --library=/home/biocbuild/bbs-3.23-bioc/R/site-library --timings CatsCradle_1.5.1.tar.gz
###
##############################################################################
##############################################################################


* using log directory ‘/home/biocbuild/bbs-3.23-bioc/meat/CatsCradle.Rcheck’
* using R Under development (unstable) (2025-10-20 r88955)
* using platform: x86_64-pc-linux-gnu
* R was compiled by
    gcc (Ubuntu 13.3.0-6ubuntu2~24.04) 13.3.0
    GNU Fortran (Ubuntu 13.3.0-6ubuntu2~24.04) 13.3.0
* running under: Ubuntu 24.04.3 LTS
* using session charset: UTF-8
* checking for file ‘CatsCradle/DESCRIPTION’ ... OK
* this is package ‘CatsCradle’ version ‘1.5.1’
* package encoding: UTF-8
* checking package namespace information ... OK
* checking package dependencies ... INFO
Imports includes 21 non-default packages.
Importing from so many packages makes the package vulnerable to any of
them becoming unavailable.  Move as many as possible to Suggests and
use conditionally.
* checking if this is a source package ... OK
* checking if there is a namespace ... OK
* checking for hidden files and directories ... OK
* checking for portable file names ... OK
* checking for sufficient/correct file permissions ... OK
* checking whether package ‘CatsCradle’ can be installed ... OK
* checking installed package size ... OK
* checking package directory ... OK
* checking ‘build’ directory ... OK
* checking DESCRIPTION meta-information ... OK
* checking top-level files ... OK
* checking for left-over files ... OK
* checking index information ... OK
* checking package subdirectories ... OK
* checking code files for non-ASCII characters ... OK
* checking R files for syntax errors ... OK
* checking whether the package can be loaded ... OK
* checking whether the package can be loaded with stated dependencies ... OK
* checking whether the package can be unloaded cleanly ... OK
* checking whether the namespace can be loaded with stated dependencies ... OK
* checking whether the namespace can be unloaded cleanly ... OK
* checking loading without being on the library search path ... OK
* checking dependencies in R code ... OK
* checking S3 generic/method consistency ... OK
* checking replacement functions ... OK
* checking foreign function calls ... OK
* checking R code for possible problems ... NOTE
edgeLengthPlot: no visible binding for global variable ‘cellTypePair’
edgeLengthPlot: no visible binding for global variable ‘cutoff’
make.getExample : getExample: no visible binding for global variable
  ‘seuratGenes’
make.getExample : getExample: no visible binding for global variable
  ‘seuratCells’
make.getExample : getExample: no visible binding for global variable
  ‘xeniumCells’
make.getExample : getExample: no visible binding for global variable
  ‘moransI’
make.getExample : getExample: no visible binding for global variable
  ‘moransILigandReceptor’
make.getExample : getExample: no visible binding for global variable
  ‘humanLRN’
make.getExample : getExample: no visible binding for global variable
  ‘mouseLRN’
meanGeneClusterOnCellUMAP: no visible binding for global variable
  ‘UMAP_1’
meanGeneClusterOnCellUMAP: no visible binding for global variable
  ‘UMAP_2’
plotLRDotplot: no visible binding for global variable ‘sender’
plotLRDotplot: no visible binding for global variable ‘negLog10PValue’
plotLRDotplot: no visible binding for global variable ‘receiver’
Undefined global functions or variables:
  UMAP_1 UMAP_2 cellTypePair cutoff humanLRN moransI
  moransILigandReceptor mouseLRN negLog10PValue receiver sender
  seuratCells seuratGenes xeniumCells
* checking Rd files ... OK
* checking Rd metadata ... OK
* checking Rd cross-references ... OK
* checking for missing documentation entries ... OK
* checking for code/documentation mismatches ... OK
* checking Rd \usage sections ... OK
* checking Rd contents ... OK
* checking for unstated dependencies in examples ... OK
* checking contents of ‘data’ directory ... OK
* checking data for non-ASCII characters ... OK
* checking data for ASCII and uncompressed saves ... OK
* checking files in ‘vignettes’ ... OK
* checking examples ... OK
Examples with CPU (user + system) or elapsed time > 5s
                                      user system elapsed
annotateGeneAsVector                45.627  1.326  46.955
computeNBHDVsCTObject               18.545  0.215  18.762
randomiseNodeIndices                14.764  0.076  14.842
aggregateGeneExpression             11.942  1.345  13.220
getObjectSubsetClusteringPValue     12.554  0.177  12.731
transposeObject                     10.560  0.054  10.614
computeGraphEmbedding                9.503  0.141   9.649
predictAnnotation                    8.212  0.070   8.282
predictAnnotationAllGenes            7.447  0.060   7.508
predictGeneAnnotationImpl            6.551  0.083   6.634
getAverageExpressionMatrix           5.905  0.021   5.926
geneSetsVsGeneClustersPValueMatrix   5.783  0.101   5.885
getNearbyGenes                       5.669  0.097   5.774
runGeometricClusteringTrials         5.728  0.037   5.764
medianComplementPValue               5.757  0.003   5.760
getAverageExpressionDF               5.662  0.064   5.727
combinatorialSpheres                 5.653  0.042   5.695
getObjectSubsetClusteringStatistics  5.556  0.047   5.603
getGeneClusterAveragesPerCell        5.496  0.001   5.497
desymmetriseNN                       5.386  0.109   5.495
tagRowAndColNames                    5.417  0.003   5.420
symmetriseNN                         5.333  0.063   5.396
meanZPerClusterOnUMAP                5.387  0.005   5.391
getClusterOrder                      5.312  0.003   5.316
meanZPerCluster                      5.311  0.003   5.315
getGeneNeighbors                     5.248  0.064   5.312
symmetryCheckNN                      5.247  0.017   5.265
meanGeneClusterOnCellUMAP            5.239  0.017   5.256
getNearestNeighbourLists             5.141  0.019   5.161
* checking for unstated dependencies in vignettes ... OK
* checking package vignettes ... OK
* checking re-building of vignette outputs ... OK
* checking PDF version of manual ... OK
* DONE

Status: 1 NOTE
See
  ‘/home/biocbuild/bbs-3.23-bioc/meat/CatsCradle.Rcheck/00check.log’
for details.


Installation output

CatsCradle.Rcheck/00install.out

##############################################################################
##############################################################################
###
### Running command:
###
###   /home/biocbuild/bbs-3.23-bioc/R/bin/R CMD INSTALL CatsCradle
###
##############################################################################
##############################################################################


* installing to library ‘/home/biocbuild/bbs-3.23-bioc/R/site-library’
* installing *source* package ‘CatsCradle’ ...
** this is package ‘CatsCradle’ version ‘1.5.1’
** using staged installation
** R
** data
** inst
** byte-compile and prepare package for lazy loading
** help
*** installing help indices
** building package indices
** installing vignettes
** testing if installed package can be loaded from temporary location
** testing if installed package can be loaded from final location
** testing if installed package keeps a record of temporary installation path
* DONE (CatsCradle)

Tests output


Example timings

CatsCradle.Rcheck/CatsCradle-Ex.timings

nameusersystemelapsed
aggregateGeneExpression11.942 1.34513.220
annotateGeneAsVector45.627 1.32646.955
annotateGenesByGeneSet1.5340.2101.744
cellTypesPerCellTypeGraphFromCellMatrix0.1890.0000.189
collapseExtendedNBHDs2.4310.0022.374
combinatorialSpheres5.6530.0425.695
computeCellTypesPerCellTypeMatrix0.1170.0210.138
computeEdgeGraph0.1600.0160.145
computeEdgeObject0.8380.0210.860
computeGraphEmbedding9.5030.1419.649
computeNBHDByCTMatrix0.1000.0020.102
computeNBHDVsCTObject18.545 0.21518.762
computeNeighbourEnrichment0.1240.0100.134
computeNeighboursDelaunay0.0970.0050.102
computeNeighboursEuclidean1.0700.0390.682
cullEdges0.5130.0130.525
desymmetriseNN5.3860.1095.495
directedHausdorfDistance0.0010.0000.001
edgeCutoffsByClustering0.3960.0010.397
edgeCutoffsByPercentile0.2740.0000.274
edgeCutoffsByWatershed0.3110.0020.313
edgeCutoffsByZScore0.3250.0030.328
edgeLengthPlot0.3300.0030.333
edgeLengthsAndCellTypePairs0.3260.0010.328
exampleObjects000
geneSetsVsGeneClustersPValueMatrix5.7830.1015.885
getAverageExpressionDF5.6620.0645.727
getAverageExpressionMatrix5.9050.0215.926
getClusterOrder5.3120.0035.316
getExtendedNBHDs0.8770.0090.741
getFeatureZScores0.1960.0030.198
getGeneClusterAveragesPerCell5.4960.0015.497
getGeneNeighbors5.2480.0645.312
getLigandReceptorNetwork0.0160.0020.016
getLigandReceptorPairsInPanel0.0790.0020.081
getNearbyGenes5.6690.0975.774
getNearestNeighbourLists5.1410.0195.161
getObjectSubsetClusteringPValue12.554 0.17712.731
getObjectSubsetClusteringStatistics5.5560.0475.603
make.getExample0.0910.0010.092
makeLRInteractionHeatmap0.1760.0020.178
makeSummedLRInteractionHeatmap0.1540.0020.157
meanGeneClusterOnCellUMAP5.2390.0175.256
meanZPerCluster5.3110.0035.315
meanZPerClusterOnUMAP5.3870.0055.391
medianComplementDistance0.0000.0010.000
medianComplementPValue5.7570.0035.760
nbhdsAsEdgesToNbhdsAsList0.6840.0070.691
neighbourhoodDiameter0.7140.0080.722
performLigandReceptorAnalysis0.9951.2032.199
performLigandReceptorAnalysisPermutation0.8891.2022.092
plotLRDotplot1.5400.0031.543
predictAnnotation8.2120.0708.282
predictAnnotationAllGenes7.4470.0607.508
predictGeneAnnotationImpl6.5510.0836.634
randomiseNodeIndices14.764 0.07614.842
runGeometricClusteringTrials5.7280.0375.764
runMoransI1.0690.0151.085
sankeyFromMatrix0.0030.0010.004
symmetriseNN5.3330.0635.396
symmetryCheckNN5.2470.0175.265
tagRowAndColNames5.4170.0035.420
transposeObject10.560 0.05410.614