| Back to Multiple platform build/check report for BioC 3.22: simplified long |
|
This page was generated on 2025-10-28 12:04 -0400 (Tue, 28 Oct 2025).
| Hostname | OS | Arch (*) | R version | Installed pkgs |
|---|---|---|---|---|
| nebbiolo2 | Linux (Ubuntu 24.04.3 LTS) | x86_64 | 4.5.1 Patched (2025-08-23 r88802) -- "Great Square Root" | 4901 |
| lconway | macOS 12.7.6 Monterey | x86_64 | 4.5.1 Patched (2025-09-10 r88807) -- "Great Square Root" | 4691 |
| kjohnson3 | macOS 13.7.7 Ventura | arm64 | 4.5.1 Patched (2025-09-10 r88807) -- "Great Square Root" | 4637 |
| Click on any hostname to see more info about the system (e.g. compilers) (*) as reported by 'uname -p', except on Windows and Mac OS X | ||||
| Package 289/2361 | Hostname | OS / Arch | INSTALL | BUILD | CHECK | BUILD BIN | ||||||||
| CatsCradle 1.3.3 (landing page) Michael Shapiro
| nebbiolo2 | Linux (Ubuntu 24.04.3 LTS) / x86_64 | OK | OK | OK | |||||||||
| lconway | macOS 12.7.6 Monterey / x86_64 | OK | OK | OK | OK | |||||||||
| kjohnson3 | macOS 13.7.7 Ventura / arm64 | OK | OK | OK | OK | |||||||||
|
To the developers/maintainers of the CatsCradle package: - Allow up to 24 hours (and sometimes 48 hours) for your latest push to git@git.bioconductor.org:packages/CatsCradle.git to reflect on this report. See Troubleshooting Build Report for more information. - Use the following Renviron settings to reproduce errors and warnings. - If 'R CMD check' started to fail recently on the Linux builder(s) over a missing dependency, add the missing dependency to 'Suggests:' in your DESCRIPTION file. See Renviron.bioc for more information. |
| Package: CatsCradle |
| Version: 1.3.3 |
| Command: /Library/Frameworks/R.framework/Resources/bin/R CMD check --install=check:CatsCradle.install-out.txt --library=/Library/Frameworks/R.framework/Resources/library --no-vignettes --timings CatsCradle_1.3.3.tar.gz |
| StartedAt: 2025-10-27 18:49:40 -0400 (Mon, 27 Oct 2025) |
| EndedAt: 2025-10-27 18:53:25 -0400 (Mon, 27 Oct 2025) |
| EllapsedTime: 225.8 seconds |
| RetCode: 0 |
| Status: OK |
| CheckDir: CatsCradle.Rcheck |
| Warnings: 0 |
##############################################################################
##############################################################################
###
### Running command:
###
### /Library/Frameworks/R.framework/Resources/bin/R CMD check --install=check:CatsCradle.install-out.txt --library=/Library/Frameworks/R.framework/Resources/library --no-vignettes --timings CatsCradle_1.3.3.tar.gz
###
##############################################################################
##############################################################################
* using log directory ‘/Users/biocbuild/bbs-3.22-bioc/meat/CatsCradle.Rcheck’
* using R version 4.5.1 Patched (2025-09-10 r88807)
* using platform: aarch64-apple-darwin20
* R was compiled by
Apple clang version 16.0.0 (clang-1600.0.26.6)
GNU Fortran (GCC) 14.2.0
* running under: macOS Ventura 13.7.7
* using session charset: UTF-8
* using option ‘--no-vignettes’
* checking for file ‘CatsCradle/DESCRIPTION’ ... OK
* this is package ‘CatsCradle’ version ‘1.3.3’
* package encoding: UTF-8
* checking package namespace information ... OK
* checking package dependencies ... INFO
Imports includes 21 non-default packages.
Importing from so many packages makes the package vulnerable to any of
them becoming unavailable. Move as many as possible to Suggests and
use conditionally.
* checking if this is a source package ... OK
* checking if there is a namespace ... OK
* checking for hidden files and directories ... OK
* checking for portable file names ... OK
* checking for sufficient/correct file permissions ... OK
* checking whether package ‘CatsCradle’ can be installed ... OK
* checking installed package size ... OK
* checking package directory ... OK
* checking ‘build’ directory ... OK
* checking DESCRIPTION meta-information ... OK
* checking top-level files ... OK
* checking for left-over files ... OK
* checking index information ... OK
* checking package subdirectories ... OK
* checking code files for non-ASCII characters ... OK
* checking R files for syntax errors ... OK
* checking whether the package can be loaded ... OK
* checking whether the package can be loaded with stated dependencies ... OK
* checking whether the package can be unloaded cleanly ... OK
* checking whether the namespace can be loaded with stated dependencies ... OK
* checking whether the namespace can be unloaded cleanly ... OK
* checking dependencies in R code ... OK
* checking S3 generic/method consistency ... OK
* checking replacement functions ... OK
* checking foreign function calls ... OK
* checking R code for possible problems ... NOTE
edgeLengthPlot: no visible binding for global variable ‘cellTypePair’
edgeLengthPlot: no visible binding for global variable ‘cutoff’
make.getExample : getExample: no visible binding for global variable
‘seuratGenes’
make.getExample : getExample: no visible binding for global variable
‘seuratCells’
make.getExample : getExample: no visible binding for global variable
‘xeniumCells’
make.getExample : getExample: no visible binding for global variable
‘moransI’
make.getExample : getExample: no visible binding for global variable
‘moransILigandReceptor’
make.getExample : getExample: no visible binding for global variable
‘humanLRN’
make.getExample : getExample: no visible binding for global variable
‘mouseLRN’
meanGeneClusterOnCellUMAP: no visible binding for global variable
‘UMAP_1’
meanGeneClusterOnCellUMAP: no visible binding for global variable
‘UMAP_2’
plotLRDotplot: no visible binding for global variable ‘sender’
plotLRDotplot: no visible binding for global variable ‘negLog10PValue’
plotLRDotplot: no visible binding for global variable ‘receiver’
Undefined global functions or variables:
UMAP_1 UMAP_2 cellTypePair cutoff humanLRN moransI
moransILigandReceptor mouseLRN negLog10PValue receiver sender
seuratCells seuratGenes xeniumCells
* checking Rd files ... OK
* checking Rd metadata ... OK
* checking Rd cross-references ... OK
* checking for missing documentation entries ... OK
* checking for code/documentation mismatches ... OK
* checking Rd \usage sections ... OK
* checking Rd contents ... OK
* checking for unstated dependencies in examples ... OK
* checking contents of ‘data’ directory ... OK
* checking data for non-ASCII characters ... OK
* checking data for ASCII and uncompressed saves ... OK
* checking files in ‘vignettes’ ... OK
* checking examples ... OK
Examples with CPU (user + system) or elapsed time > 5s
user system elapsed
annotateGeneAsVector 17.706 0.092 17.809
computeNBHDVsCTObject 9.346 0.063 9.471
randomiseNodeIndices 6.720 0.112 6.843
getObjectSubsetClusteringPValue 6.049 0.370 6.429
* checking for unstated dependencies in vignettes ... OK
* checking package vignettes ... OK
* checking running R code from vignettes ... SKIPPED
* checking re-building of vignette outputs ... SKIPPED
* checking PDF version of manual ... OK
* DONE
Status: 1 NOTE
See
‘/Users/biocbuild/bbs-3.22-bioc/meat/CatsCradle.Rcheck/00check.log’
for details.
CatsCradle.Rcheck/00install.out
############################################################################## ############################################################################## ### ### Running command: ### ### /Library/Frameworks/R.framework/Resources/bin/R CMD INSTALL CatsCradle ### ############################################################################## ############################################################################## * installing to library ‘/Library/Frameworks/R.framework/Versions/4.5-arm64/Resources/library’ * installing *source* package ‘CatsCradle’ ... ** this is package ‘CatsCradle’ version ‘1.3.3’ ** using staged installation ** R ** data ** inst ** byte-compile and prepare package for lazy loading ** help *** installing help indices ** building package indices ** installing vignettes ** testing if installed package can be loaded from temporary location ** testing if installed package can be loaded from final location ** testing if installed package keeps a record of temporary installation path * DONE (CatsCradle)
CatsCradle.Rcheck/CatsCradle-Ex.timings
| name | user | system | elapsed | |
| aggregateGeneExpression | 4.715 | 0.097 | 4.820 | |
| annotateGeneAsVector | 17.706 | 0.092 | 17.809 | |
| annotateGenesByGeneSet | 0.694 | 0.090 | 0.785 | |
| cellTypesPerCellTypeGraphFromCellMatrix | 0.075 | 0.004 | 0.080 | |
| collapseExtendedNBHDs | 0.948 | 0.024 | 0.973 | |
| combinatorialSpheres | 2.604 | 0.027 | 2.639 | |
| computeCellTypesPerCellTypeMatrix | 0.047 | 0.004 | 0.051 | |
| computeEdgeGraph | 0.081 | 0.004 | 0.080 | |
| computeEdgeObject | 0.328 | 0.013 | 0.341 | |
| computeGraphEmbedding | 4.732 | 0.028 | 4.763 | |
| computeNBHDByCTMatrix | 0.043 | 0.003 | 0.046 | |
| computeNBHDVsCTObject | 9.346 | 0.063 | 9.471 | |
| computeNeighbourEnrichment | 0.052 | 0.006 | 0.058 | |
| computeNeighboursDelaunay | 0.074 | 0.007 | 0.080 | |
| computeNeighboursEuclidean | 0.210 | 0.016 | 0.226 | |
| cullEdges | 0.193 | 0.012 | 0.205 | |
| desymmetriseNN | 2.456 | 0.036 | 2.495 | |
| directedHausdorfDistance | 0 | 0 | 0 | |
| edgeCutoffsByClustering | 0.146 | 0.011 | 0.158 | |
| edgeCutoffsByPercentile | 0.104 | 0.003 | 0.107 | |
| edgeCutoffsByWatershed | 0.114 | 0.004 | 0.117 | |
| edgeCutoffsByZScore | 0.132 | 0.005 | 0.138 | |
| edgeLengthPlot | 0.125 | 0.006 | 0.130 | |
| edgeLengthsAndCellTypePairs | 0.132 | 0.005 | 0.136 | |
| exampleObjects | 0 | 0 | 0 | |
| geneSetsVsGeneClustersPValueMatrix | 2.581 | 0.030 | 2.619 | |
| getAverageExpressionDF | 2.473 | 0.047 | 2.536 | |
| getAverageExpressionMatrix | 2.497 | 0.039 | 2.537 | |
| getClusterOrder | 2.367 | 0.038 | 2.406 | |
| getExtendedNBHDs | 0.428 | 0.023 | 0.375 | |
| getFeatureZScores | 0.081 | 0.004 | 0.085 | |
| getGeneClusterAveragesPerCell | 2.481 | 0.036 | 2.531 | |
| getGeneNeighbors | 2.423 | 0.025 | 2.474 | |
| getLigandReceptorNetwork | 0.008 | 0.002 | 0.010 | |
| getLigandReceptorPairsInPanel | 0.036 | 0.003 | 0.038 | |
| getNearbyGenes | 2.558 | 0.032 | 2.591 | |
| getNearestNeighbourLists | 2.526 | 0.038 | 2.569 | |
| getObjectSubsetClusteringPValue | 6.049 | 0.370 | 6.429 | |
| getObjectSubsetClusteringStatistics | 2.683 | 0.046 | 2.759 | |
| make.getExample | 0.038 | 0.004 | 0.043 | |
| makeLRInteractionHeatmap | 0.083 | 0.005 | 0.088 | |
| makeSummedLRInteractionHeatmap | 0.073 | 0.003 | 0.076 | |
| meanGeneClusterOnCellUMAP | 2.600 | 0.043 | 2.650 | |
| meanZPerCluster | 2.547 | 0.025 | 2.611 | |
| meanZPerClusterOnUMAP | 2.630 | 0.022 | 2.740 | |
| medianComplementDistance | 0.001 | 0.000 | 0.000 | |
| medianComplementPValue | 2.757 | 0.037 | 2.838 | |
| nbhdsAsEdgesToNbhdsAsList | 0.343 | 0.072 | 0.430 | |
| neighbourhoodDiameter | 0.348 | 0.066 | 0.419 | |
| performLigandReceptorAnalysis | 0.466 | 0.339 | 0.821 | |
| performLigandReceptorAnalysisPermutation | 0.425 | 0.339 | 0.768 | |
| plotLRDotplot | 0.528 | 0.024 | 0.565 | |
| predictAnnotation | 3.766 | 0.238 | 4.054 | |
| predictAnnotationAllGenes | 3.422 | 0.165 | 3.643 | |
| predictGeneAnnotationImpl | 3.081 | 0.147 | 3.308 | |
| randomiseNodeIndices | 6.720 | 0.112 | 6.843 | |
| runGeometricClusteringTrials | 2.803 | 0.052 | 2.864 | |
| runMoransI | 0.435 | 0.054 | 0.502 | |
| sankeyFromMatrix | 0.001 | 0.000 | 0.001 | |
| symmetriseNN | 2.500 | 0.040 | 2.584 | |
| symmetryCheckNN | 2.356 | 0.022 | 2.399 | |
| tagRowAndColNames | 2.471 | 0.027 | 2.525 | |
| transposeObject | 4.826 | 0.054 | 4.934 | |