Back to Build/check report for BioC 3.23:   simplified   long
[A]BCDEFGHIJKLMNOPQRSTUVWXYZ

This page was generated on 2025-11-04 11:32 -0500 (Tue, 04 Nov 2025).

HostnameOSArch (*)R versionInstalled pkgs
nebbiolo1Linux (Ubuntu 24.04.3 LTS)x86_64R Under development (unstable) (2025-10-20 r88955) -- "Unsuffered Consequences" 4788
Click on any hostname to see more info about the system (e.g. compilers)      (*) as reported by 'uname -p', except on Windows and Mac OS X

All results for package AnnotationDbi


To the developers/maintainers of the AnnotationDbi package:
- Allow up to 24 hours (and sometimes 48 hours) for your latest push to git@git.bioconductor.org:packages/AnnotationDbi.git to reflect on this report. See Troubleshooting Build Report for more information.
- Use the following Renviron settings to reproduce errors and warnings.
- If 'R CMD check' started to fail recently on the Linux builder(s) over a missing dependency, add the missing dependency to 'Suggests:' in your DESCRIPTION file. See Renviron.bioc for more information.

raw results

Package 74/2323HostnameOS / ArchINSTALLBUILDCHECKBUILD BIN
AnnotationDbi 1.73.0  (landing page)
Bioconductor Package Maintainer
Snapshot Date: 2025-11-03 13:40 -0500 (Mon, 03 Nov 2025)
git_url: https://git.bioconductor.org/packages/AnnotationDbi
git_branch: devel
git_last_commit: ecf9140
git_last_commit_date: 2025-10-29 09:58:44 -0500 (Wed, 29 Oct 2025)
nebbiolo1Linux (Ubuntu 24.04.3 LTS) / x86_64  OK    OK    WARNINGS  UNNEEDED, same version is already published



Results for Bioconductor software packages that depend directly on package AnnotationDbi

QUICK STATSOS / ArchINSTALLBUILDCHECKBUILD BIN
nebbiolo1Linux (Ubuntu 24.04.3 LTS) / x86_64
09181
013177
11328135
Package 1/190HostnameOS / ArchINSTALLBUILDCHECKBUILD BIN
adSplit 1.81.0  (landing page)
Claudio Lottaz
git_last_commit: a2e95b4
git_last_commit_date: 2025-10-29 09:57:38 -0500
nebbiolo1Linux (Ubuntu 24.04.3 LTS) / x86_64  OK    OK    OK  UNNEEDED, same version is already published
Package 2/190HostnameOS / ArchINSTALLBUILDCHECKBUILD BIN
affycoretools 1.83.0  (landing page)
James W. MacDonald
git_last_commit: c6a0b37
git_last_commit_date: 2025-10-29 09:57:11 -0500
nebbiolo1Linux (Ubuntu 24.04.3 LTS) / x86_64  OK    OK    OK  NO, package depends on 'ReportingTools' which is not available
Package 3/190HostnameOS / ArchINSTALLBUILDCHECKBUILD BIN
affylmGUI 1.85.0  (landing page)
Gordon Smyth
git_last_commit: 6df4f72
git_last_commit_date: 2025-10-29 09:54:46 -0500
nebbiolo1Linux (Ubuntu 24.04.3 LTS) / x86_64  OK    OK    OK  UNNEEDED, same version is already published
Package 4/190HostnameOS / ArchINSTALLBUILDCHECKBUILD BIN
AllelicImbalance 1.49.0  (landing page)
Jesper R Gadin
git_last_commit: d78bb64
git_last_commit_date: 2025-10-29 10:16:36 -0500
nebbiolo1Linux (Ubuntu 24.04.3 LTS) / x86_64  OK    OK    OK  NO, package depends on 'BSgenome' which is not available
Package 5/190HostnameOS / ArchINSTALLBUILDCHECKBUILD BIN
annaffy 1.83.0  (landing page)
Colin A. Smith
git_last_commit: 926f56c
git_last_commit_date: 2025-10-29 09:53:40 -0500
nebbiolo1Linux (Ubuntu 24.04.3 LTS) / x86_64  OK    OK    WARNINGS  UNNEEDED, same version is already published
Package 6/190HostnameOS / ArchINSTALLBUILDCHECKBUILD BIN
annotate 1.89.0  (landing page)
Bioconductor Package Maintainer
git_last_commit: a7eff2c
git_last_commit_date: 2025-10-29 09:23:46 -0500
nebbiolo1Linux (Ubuntu 24.04.3 LTS) / x86_64  OK    OK    OK  UNNEEDED, same version is already published
Package 7/190HostnameOS / ArchINSTALLBUILDCHECKBUILD BIN
AnnotationForge 1.53.0  (landing page)
Bioconductor Package Maintainer
git_last_commit: a113c77
git_last_commit_date: 2025-10-29 10:11:26 -0500
nebbiolo1Linux (Ubuntu 24.04.3 LTS) / x86_64  OK    OK    OK  UNNEEDED, same version is already published
Package 8/190HostnameOS / ArchINSTALLBUILDCHECKBUILD BIN
AnnotationHub 4.1.0  (landing page)
Bioconductor Package Maintainer
git_last_commit: 027c4b7
git_last_commit_date: 2025-10-29 10:14:23 -0500
nebbiolo1Linux (Ubuntu 24.04.3 LTS) / x86_64  OK    OK    OK  UNNEEDED, same version is already published
Package 9/190HostnameOS / ArchINSTALLBUILDCHECKBUILD BIN
AnnotationHubData 1.41.0  (landing page)
Bioconductor Package Maintainer
git_last_commit: 932837e
git_last_commit_date: 2025-10-29 10:27:35 -0500
nebbiolo1Linux (Ubuntu 24.04.3 LTS) / x86_64  OK    OK    WARNINGS  NO, package depends on 'GenomicFeatures' which is not available
Package 10/190HostnameOS / ArchINSTALLBUILDCHECKBUILD BIN
annotatr 1.37.0  (landing page)
Raymond G. Cavalcante
git_last_commit: 3e6ad83
git_last_commit_date: 2025-10-29 10:35:13 -0500
nebbiolo1Linux (Ubuntu 24.04.3 LTS) / x86_64  OK    OK    ERROR  
Package 11/190HostnameOS / ArchINSTALLBUILDCHECKBUILD BIN
artMS 1.29.0  (landing page)
David Jimenez-Morales
git_last_commit: cf1f330
git_last_commit_date: 2025-10-29 10:48:43 -0500
nebbiolo1Linux (Ubuntu 24.04.3 LTS) / x86_64  OK    OK    OK  UNNEEDED, same version is already published
Package 12/190HostnameOS / ArchINSTALLBUILDCHECKBUILD BIN
ASpli 2.21.0  (landing page)
Ariel Chernomoretz
git_last_commit: 6fd6add
git_last_commit_date: 2025-10-29 10:33:32 -0500
nebbiolo1Linux (Ubuntu 24.04.3 LTS) / x86_64  OK    OK    WARNINGS  NO, package depends on 'GenomicFeatures' which is not available
Package 13/190HostnameOS / ArchINSTALLBUILDCHECKBUILD BIN
attract 1.63.0  (landing page)
Samuel Zimmerman
git_last_commit: e4f7452
git_last_commit_date: 2025-10-29 10:05:14 -0500
nebbiolo1Linux (Ubuntu 24.04.3 LTS) / x86_64  OK    OK    OK  UNNEEDED, same version is already published
Package 14/190HostnameOS / ArchINSTALLBUILDCHECKBUILD BIN
beadarray 2.61.0  (landing page)
Mark Dunning
git_last_commit: 0cd2969
git_last_commit_date: 2025-10-29 09:57:32 -0500
nebbiolo1Linux (Ubuntu 24.04.3 LTS) / x86_64  OK    OK    ERROR  
Package 15/190HostnameOS / ArchINSTALLBUILDCHECKBUILD BIN
BgeeCall 1.27.0  (landing page)
Julien Wollbrett
git_last_commit: 7cf1fc3
git_last_commit_date: 2025-10-29 10:56:16 -0500
nebbiolo1Linux (Ubuntu 24.04.3 LTS) / x86_64  ERROR    ERROR  skipped
Package 16/190HostnameOS / ArchINSTALLBUILDCHECKBUILD BIN
bioCancer 1.39.0  (landing page)
Karim Mezhoud
git_last_commit: 45dcc83
git_last_commit_date: 2025-10-29 10:32:26 -0500
nebbiolo1Linux (Ubuntu 24.04.3 LTS) / x86_64  ERROR    ERROR  skipped
Package 17/190HostnameOS / ArchINSTALLBUILDCHECKBUILD BIN
BiocSet 1.25.0  (landing page)
Kayla Morrell
git_last_commit: a89c079
git_last_commit_date: 2025-10-29 10:55:47 -0500
nebbiolo1Linux (Ubuntu 24.04.3 LTS) / x86_64  OK    OK    OK  UNNEEDED, same version is already published
Package 18/190HostnameOS / ArchINSTALLBUILDCHECKBUILD BIN
biomaRt 2.67.0  (landing page)
Hugo Gruson
git_last_commit: 1c6179c
git_last_commit_date: 2025-10-29 09:56:01 -0500
nebbiolo1Linux (Ubuntu 24.04.3 LTS) / x86_64  OK    OK    OK  UNNEEDED, same version is already published
Package 19/190HostnameOS / ArchINSTALLBUILDCHECKBUILD BIN
BioNAR 1.13.0  (landing page)
Anatoly Sorokin
git_last_commit: 77425df
git_last_commit_date: 2025-10-29 11:19:29 -0500
nebbiolo1Linux (Ubuntu 24.04.3 LTS) / x86_64  OK    OK    ERROR  
Package 20/190HostnameOS / ArchINSTALLBUILDCHECKBUILD BIN
BioNet 1.71.0  (landing page)
Marcus Dittrich
git_last_commit: 9742714
git_last_commit_date: 2025-10-29 10:05:29 -0500
nebbiolo1Linux (Ubuntu 24.04.3 LTS) / x86_64  OK    OK    OK  UNNEEDED, same version is already published
Package 21/190HostnameOS / ArchINSTALLBUILDCHECKBUILD BIN
biovizBase 1.59.0  (landing page)
Michael Lawrence
git_last_commit: 7895cbf
git_last_commit_date: 2025-10-29 10:09:04 -0500
nebbiolo1Linux (Ubuntu 24.04.3 LTS) / x86_64  OK    OK    WARNINGS  NO, package depends on 'GenomicFeatures' which is not available
Package 22/190HostnameOS / ArchINSTALLBUILDCHECKBUILD BIN
bumphunter 1.53.0  (landing page)
Tamilselvi Guharaj
git_last_commit: 19ed02f
git_last_commit_date: 2025-10-29 10:13:01 -0500
nebbiolo1Linux (Ubuntu 24.04.3 LTS) / x86_64  OK    OK    OK  NO, package depends on 'GenomicFeatures' which is not available
Package 23/190HostnameOS / ArchINSTALLBUILDCHECKBUILD BIN
BUSpaRse 1.25.0  (landing page)
Lambda Moses
git_last_commit: 031e018
git_last_commit_date: 2025-10-29 10:53:52 -0500
nebbiolo1Linux (Ubuntu 24.04.3 LTS) / x86_64  OK    OK    OK  NO, package depends on 'BSgenome' which is not available
Package 24/190HostnameOS / ArchINSTALLBUILDCHECKBUILD BIN
Category 2.77.0  (landing page)
Bioconductor Package Maintainer
git_last_commit: 6850286
git_last_commit_date: 2025-10-29 09:56:37 -0500
nebbiolo1Linux (Ubuntu 24.04.3 LTS) / x86_64  OK    OK    OK  UNNEEDED, same version is already published
Package 25/190HostnameOS / ArchINSTALLBUILDCHECKBUILD BIN
categoryCompare 1.55.0  (landing page)
Robert M. Flight
git_last_commit: 22bf171
git_last_commit_date: 2025-10-29 10:11:00 -0500
nebbiolo1Linux (Ubuntu 24.04.3 LTS) / x86_64  OK    OK    OK  UNNEEDED, same version is already published
Package 26/190HostnameOS / ArchINSTALLBUILDCHECKBUILD BIN
cellity 1.39.0  (landing page)
Tomislav Ilicic
git_last_commit: 6d83db0
git_last_commit_date: 2025-10-29 10:30:11 -0500
nebbiolo1Linux (Ubuntu 24.04.3 LTS) / x86_64  OK    OK    OK  UNNEEDED, same version is already published
Package 27/190HostnameOS / ArchINSTALLBUILDCHECKBUILD BIN
chimeraviz 1.37.0  (landing page)
Stian Lågstad
git_last_commit: 3490116
git_last_commit_date: 2025-10-29 10:35:50 -0500
nebbiolo1Linux (Ubuntu 24.04.3 LTS) / x86_64  OK    OK    OK  NO, package depends on 'Gviz' which is not available
Package 28/190HostnameOS / ArchINSTALLBUILDCHECKBUILD BIN
chipenrich 2.35.0  (landing page)
Kai Wang
git_last_commit: 93dd65a
git_last_commit_date: 2025-10-29 10:16:16 -0500
nebbiolo1Linux (Ubuntu 24.04.3 LTS) / x86_64  OK    OK    OK  NO, package depends on 'chipenrich.data' which is not available
Package 29/190HostnameOS / ArchINSTALLBUILDCHECKBUILD BIN
ChIPpeakAnno 3.45.0  (landing page)
Jianhong Ou
git_last_commit: 2e00e23
git_last_commit_date: 2025-10-29 10:03:18 -0500
nebbiolo1Linux (Ubuntu 24.04.3 LTS) / x86_64  ERROR    ERROR  skipped
Package 30/190HostnameOS / ArchINSTALLBUILDCHECKBUILD BIN
ChIPseeker 1.47.0  (landing page)
Guangchuang Yu
git_last_commit: e1ac8e1
git_last_commit_date: 2025-10-29 10:19:25 -0500
nebbiolo1Linux (Ubuntu 24.04.3 LTS) / x86_64  OK    OK    ERROR  
Package 31/190HostnameOS / ArchINSTALLBUILDCHECKBUILD BIN
ChromHeatMap 1.65.0  (landing page)
Tim F. Rayner
git_last_commit: d47e520
git_last_commit_date: 2025-10-29 10:03:49 -0500
nebbiolo1Linux (Ubuntu 24.04.3 LTS) / x86_64  OK    OK    OK  NO, package depends on 'rtracklayer' which is not available
Package 32/190HostnameOS / ArchINSTALLBUILDCHECKBUILD BIN
clusterProfiler 4.19.1  (landing page)
Guangchuang Yu
git_last_commit: c6e07d0
git_last_commit_date: 2025-11-01 10:45:20 -0500
nebbiolo1Linux (Ubuntu 24.04.3 LTS) / x86_64  OK    OK    OK  UNNEEDED, same version is already published
Package 33/190HostnameOS / ArchINSTALLBUILDCHECKBUILD BIN
CoCiteStats 1.83.0  (landing page)
Bioconductor Package Maintainer
git_last_commit: 405e2c3
git_last_commit_date: 2025-10-29 09:55:52 -0500
nebbiolo1Linux (Ubuntu 24.04.3 LTS) / x86_64  OK    OK    OK  UNNEEDED, same version is already published
Package 34/190HostnameOS / ArchINSTALLBUILDCHECKBUILD BIN
Cogito 1.17.0  (landing page)
Annika Bürger
git_last_commit: 6bd2b9d
git_last_commit_date: 2025-10-29 11:13:02 -0500
nebbiolo1Linux (Ubuntu 24.04.3 LTS) / x86_64  OK    OK    OK  NO, package depends on 'GenomicFeatures' which is not available
Package 35/190HostnameOS / ArchINSTALLBUILDCHECKBUILD BIN
compEpiTools 1.45.0  (landing page)
Mattia Furlan
git_last_commit: 949eb04
git_last_commit_date: 2025-10-29 10:20:59 -0500
nebbiolo1Linux (Ubuntu 24.04.3 LTS) / x86_64  OK    OK    OK  NO, package depends on 'GenomicFeatures' which is not available
Package 36/190HostnameOS / ArchINSTALLBUILDCHECKBUILD BIN
consensusDE 1.29.0  (landing page)
Ashley J. Waardenberg
git_last_commit: e69df52
git_last_commit_date: 2025-10-29 10:48:35 -0500
nebbiolo1Linux (Ubuntu 24.04.3 LTS) / x86_64  ERROR    ERROR  skipped
Package 37/190HostnameOS / ArchINSTALLBUILDCHECKBUILD BIN
CoSIA 1.11.0  (landing page)
Amanda D. Clark
git_last_commit: 2cfc094
git_last_commit_date: 2025-10-29 11:32:24 -0500
nebbiolo1Linux (Ubuntu 24.04.3 LTS) / x86_64  OK    OK    TIMEOUT  
Package 38/190HostnameOS / ArchINSTALLBUILDCHECKBUILD BIN
crisprDesign 1.13.0  (landing page)
Jean-Philippe Fortin
git_last_commit: dd162c8
git_last_commit_date: 2025-10-29 11:17:54 -0500
nebbiolo1Linux (Ubuntu 24.04.3 LTS) / x86_64  OK    OK    OK  NO, package depends on 'BSgenome' which is not available
Package 39/190HostnameOS / ArchINSTALLBUILDCHECKBUILD BIN
CrispRVariants 1.39.0  (landing page)
Helen Lindsay
git_last_commit: 4dcc360
git_last_commit_date: 2025-10-29 10:29:17 -0500
nebbiolo1Linux (Ubuntu 24.04.3 LTS) / x86_64  OK    OK    WARNINGS  UNNEEDED, same version is already published
Package 40/190HostnameOS / ArchINSTALLBUILDCHECKBUILD BIN
cTRAP 1.29.0  (landing page)
Nuno Saraiva-Agostinho
git_last_commit: c19a6e4
git_last_commit_date: 2025-10-29 10:48:28 -0500
nebbiolo1Linux (Ubuntu 24.04.3 LTS) / x86_64  OK    OK    OK  UNNEEDED, same version is already published
Package 41/190HostnameOS / ArchINSTALLBUILDCHECKBUILD BIN
customProDB 1.51.0  (landing page)
Xiaojing Wang
git_last_commit: 8317345
git_last_commit_date: 2025-10-29 10:15:09 -0500
nebbiolo1Linux (Ubuntu 24.04.3 LTS) / x86_64  OK    OK    ERROR  
Package 42/190HostnameOS / ArchINSTALLBUILDCHECKBUILD BIN
Damsel 1.7.0  (landing page)
Caitlin Page
git_last_commit: 4c35e04
git_last_commit_date: 2025-10-29 11:29:38 -0500
nebbiolo1Linux (Ubuntu 24.04.3 LTS) / x86_64  OK    OK    WARNINGS  NO, package depends on 'GenomicFeatures' which is not available
Package 43/190HostnameOS / ArchINSTALLBUILDCHECKBUILD BIN
debrowser 1.39.0  (landing page)
Alper Kucukural
git_last_commit: 17795bc
git_last_commit_date: 2025-10-29 10:30:54 -0500
nebbiolo1Linux (Ubuntu 24.04.3 LTS) / x86_64  OK    OK    OK  NO, package depends on 'Harman' which is not available
Package 44/190HostnameOS / ArchINSTALLBUILDCHECKBUILD BIN
derfinder 1.45.0  (landing page)
Leonardo Collado-Torres
git_last_commit: 946e0b8
git_last_commit_date: 2025-10-29 10:21:48 -0500
nebbiolo1Linux (Ubuntu 24.04.3 LTS) / x86_64  OK    OK    OK  NO, package depends on 'bumphunter' which is not available
Package 45/190HostnameOS / ArchINSTALLBUILDCHECKBUILD BIN
DEXSeq 1.57.0  (landing page)
Alejandro Reyes
git_last_commit: db6ed7c
git_last_commit_date: 2025-10-29 10:07:54 -0500
nebbiolo1Linux (Ubuntu 24.04.3 LTS) / x86_64  OK    OK    OK  UNNEEDED, same version is already published
Package 46/190HostnameOS / ArchINSTALLBUILDCHECKBUILD BIN
dmGsea 1.1.1  (landing page)
Zongli Xu
git_last_commit: 248aa7c
git_last_commit_date: 2025-10-31 09:40:12 -0500
nebbiolo1Linux (Ubuntu 24.04.3 LTS) / x86_64  OK    OK    OK  UNNEEDED, same version is already published
Package 47/190HostnameOS / ArchINSTALLBUILDCHECKBUILD BIN
DominoEffect 1.31.0  (landing page)
Marija Buljan , Peter Blattmann
git_last_commit: 2cae082
git_last_commit_date: 2025-10-29 10:43:24 -0500
nebbiolo1Linux (Ubuntu 24.04.3 LTS) / x86_64  OK    OK    OK  NO, package depends on 'VariantAnnotation' which is not available
Package 48/190HostnameOS / ArchINSTALLBUILDCHECKBUILD BIN
DOSE 4.5.0  (landing page)
Guangchuang Yu
git_last_commit: 47174f9
git_last_commit_date: 2025-10-29 10:07:51 -0500
nebbiolo1Linux (Ubuntu 24.04.3 LTS) / x86_64  OK    OK    OK  UNNEEDED, same version is already published
Package 49/190HostnameOS / ArchINSTALLBUILDCHECKBUILD BIN
doubletrouble 1.11.0  (landing page)
Fabrício Almeida-Silva
git_last_commit: 60c6759
git_last_commit_date: 2025-10-29 11:20:05 -0500
nebbiolo1Linux (Ubuntu 24.04.3 LTS) / x86_64  OK    OK    OK  NO, package depends on 'GenomicFeatures' which is not available
Package 50/190HostnameOS / ArchINSTALLBUILDCHECKBUILD BIN
EasyCellType 1.13.0  (landing page)
Ruoxing Li
git_last_commit: a923d4a
git_last_commit_date: 2025-10-29 11:18:20 -0500
nebbiolo1Linux (Ubuntu 24.04.3 LTS) / x86_64  OK    OK    OK  UNNEEDED, same version is already published
Package 51/190HostnameOS / ArchINSTALLBUILDCHECKBUILD BIN
EDASeq 2.45.0  (landing page)
Davide Risso
git_last_commit: 1f147bc
git_last_commit_date: 2025-10-29 10:08:53 -0500
nebbiolo1Linux (Ubuntu 24.04.3 LTS) / x86_64  OK    OK    OK  NO, package depends on 'GenomicFeatures' which is not available
Package 52/190HostnameOS / ArchINSTALLBUILDCHECKBUILD BIN
EGSEA 1.39.0  (landing page)
Monther Alhamdoosh
git_last_commit: ea1d07d
git_last_commit_date: 2025-10-29 10:32:11 -0500
nebbiolo1Linux (Ubuntu 24.04.3 LTS) / x86_64  OK    OK    OK  NO, package depends on 'GSVA' which is not available
Package 53/190HostnameOS / ArchINSTALLBUILDCHECKBUILD BIN
EnrichmentBrowser 2.41.0  (landing page)
Ludwig Geistlinger
git_last_commit: eb4505a
git_last_commit_date: 2025-10-29 10:21:30 -0500
nebbiolo1Linux (Ubuntu 24.04.3 LTS) / x86_64  OK    OK    ERROR  
Package 54/190HostnameOS / ArchINSTALLBUILDCHECKBUILD BIN
ensembldb 2.35.0  (landing page)
Johannes Rainer
git_last_commit: a74ca18
git_last_commit_date: 2025-10-29 10:24:50 -0500
nebbiolo1Linux (Ubuntu 24.04.3 LTS) / x86_64  OK    OK    OK  NO, package depends on 'GenomicFeatures' which is not available
Package 55/190HostnameOS / ArchINSTALLBUILDCHECKBUILD BIN
EpiMix 1.13.0  (landing page)
Yuanning Zheng
git_last_commit: 5408436
git_last_commit_date: 2025-10-29 11:17:43 -0500
nebbiolo1Linux (Ubuntu 24.04.3 LTS) / x86_64  OK    OK    OK  NO, package depends on 'GenomicFeatures' which is not available
Package 56/190HostnameOS / ArchINSTALLBUILDCHECKBUILD BIN
epimutacions 1.15.0  (landing page)
Dolors Pelegri-Siso
git_last_commit: 9c5c202
git_last_commit_date: 2025-10-29 11:16:20 -0500
nebbiolo1Linux (Ubuntu 24.04.3 LTS) / x86_64  OK    OK    OK  NO, package depends on 'minfi' which is not available
Package 57/190HostnameOS / ArchINSTALLBUILDCHECKBUILD BIN
EpiTxDb 1.23.0  (landing page)
Felix G.M. Ernst
git_last_commit: 23585ca
git_last_commit_date: 2025-10-29 10:57:35 -0500
nebbiolo1Linux (Ubuntu 24.04.3 LTS) / x86_64  OK    OK    OK  NO, package depends on 'GenomicFeatures' which is not available
Package 58/190HostnameOS / ArchINSTALLBUILDCHECKBUILD BIN
esATAC 1.33.0  (landing page)
Zheng Wei
git_last_commit: 90d779d
git_last_commit_date: 2025-10-29 10:42:12 -0500
nebbiolo1Linux (Ubuntu 24.04.3 LTS) / x86_64  ERROR    ERROR  skipped
Package 59/190HostnameOS / ArchINSTALLBUILDCHECKBUILD BIN
FRASER 2.7.0  (landing page)
Christian Mertes
git_last_commit: ecd421c
git_last_commit_date: 2025-10-29 10:58:54 -0500
nebbiolo1Linux (Ubuntu 24.04.3 LTS) / x86_64  ERROR    ERROR  skipped
Package 60/190HostnameOS / ArchINSTALLBUILDCHECKBUILD BIN
funOmics 1.5.0  (landing page)
Elisa Gomez de Lope
git_last_commit: ccd72f2
git_last_commit_date: 2025-10-29 11:30:40 -0500
nebbiolo1Linux (Ubuntu 24.04.3 LTS) / x86_64  OK    OK    OK  UNNEEDED, same version is already published
Package 61/190HostnameOS / ArchINSTALLBUILDCHECKBUILD BIN
GA4GHshiny 1.33.0  (landing page)
Welliton Souza
git_last_commit: ae5f20b
git_last_commit_date: 2025-10-29 10:38:45 -0500
nebbiolo1Linux (Ubuntu 24.04.3 LTS) / x86_64  OK    OK    OK  NO, package depends on 'GA4GHclient' which is not available
Package 62/190HostnameOS / ArchINSTALLBUILDCHECKBUILD BIN
gage 2.61.0  (landing page)
Weijun Luo
git_last_commit: e6e1013
git_last_commit_date: 2025-10-29 10:05:53 -0500
nebbiolo1Linux (Ubuntu 24.04.3 LTS) / x86_64  OK    OK    WARNINGS  UNNEEDED, same version is already published
Package 63/190HostnameOS / ArchINSTALLBUILDCHECKBUILD BIN
gDNAx 1.9.0  (landing page)
Robert Castelo
git_last_commit: 64d243e
git_last_commit_date: 2025-10-29 11:24:57 -0500
nebbiolo1Linux (Ubuntu 24.04.3 LTS) / x86_64  OK    OK    OK  NO, package depends on 'GenomicFiles' which is not available
Package 64/190HostnameOS / ArchINSTALLBUILDCHECKBUILD BIN
genefilter 1.93.0  (landing page)
Bioconductor Package Maintainer
git_last_commit: 434deb9
git_last_commit_date: 2025-10-29 09:41:48 -0500
nebbiolo1Linux (Ubuntu 24.04.3 LTS) / x86_64  OK    OK    WARNINGS  UNNEEDED, same version is already published
Package 65/190HostnameOS / ArchINSTALLBUILDCHECKBUILD BIN
geneplotter 1.89.0  (landing page)
Bioconductor Package Maintainer
git_last_commit: 0a5a7d6
git_last_commit_date: 2025-10-29 09:41:50 -0500
nebbiolo1Linux (Ubuntu 24.04.3 LTS) / x86_64  OK    OK    OK  UNNEEDED, same version is already published
Package 66/190HostnameOS / ArchINSTALLBUILDCHECKBUILD BIN
GeneTonic 3.5.0  (landing page)
Federico Marini
git_last_commit: 0340f38
git_last_commit_date: 2025-10-29 10:56:40 -0500
nebbiolo1Linux (Ubuntu 24.04.3 LTS) / x86_64  OK    OK    OK  NO, package depends on 'mosdef' which is not available
Package 67/190HostnameOS / ArchINSTALLBUILDCHECKBUILD BIN
geneXtendeR 1.37.0  (landing page)
Bohdan Khomtchouk
git_last_commit: 3751da6
git_last_commit_date: 2025-10-29 10:34:47 -0500
nebbiolo1Linux (Ubuntu 24.04.3 LTS) / x86_64  OK    OK    WARNINGS  NO, package depends on 'rtracklayer' which is not available
Package 68/190HostnameOS / ArchINSTALLBUILDCHECKBUILD BIN
GenomicFeatures 1.63.1  (landing page)
H. Pagès
git_last_commit: d92f2d0
git_last_commit_date: 2025-10-30 02:00:29 -0500
nebbiolo1Linux (Ubuntu 24.04.3 LTS) / x86_64  OK    OK    OK  NO, package depends on 'rtracklayer' which is not available
Package 69/190HostnameOS / ArchINSTALLBUILDCHECKBUILD BIN
GenomicInteractionNodes 1.15.0  (landing page)
Jianhong Ou
git_last_commit: 8ee0b28
git_last_commit_date: 2025-10-29 11:16:22 -0500
nebbiolo1Linux (Ubuntu 24.04.3 LTS) / x86_64  OK    OK    OK  NO, package depends on 'GenomicFeatures' which is not available
Package 70/190HostnameOS / ArchINSTALLBUILDCHECKBUILD BIN
GenVisR 1.43.0  (landing page)
Zachary Skidmore
git_last_commit: e398c9b
git_last_commit_date: 2025-10-29 10:29:36 -0500
nebbiolo1Linux (Ubuntu 24.04.3 LTS) / x86_64  OK    OK    ERROR  
Package 71/190HostnameOS / ArchINSTALLBUILDCHECKBUILD BIN
ggbio 1.59.0  (landing page)
Michael Lawrence
git_last_commit: 6c3efb9
git_last_commit_date: 2025-10-29 10:09:27 -0500
nebbiolo1Linux (Ubuntu 24.04.3 LTS) / x86_64  OK    OK    WARNINGS  NO, package depends on 'biovizBase' which is not available
Package 72/190HostnameOS / ArchINSTALLBUILDCHECKBUILD BIN
gINTomics 1.7.0  (landing page)
Angelo Velle
git_last_commit: 4cacafe
git_last_commit_date: 2025-10-29 11:30:01 -0500
nebbiolo1Linux (Ubuntu 24.04.3 LTS) / x86_64  OK    OK    OK  NO, package depends on 'OmnipathR' which is not available
Package 73/190HostnameOS / ArchINSTALLBUILDCHECKBUILD BIN
GlobalAncova 4.29.0  (landing page)
Manuela Hummel
git_last_commit: 342275c
git_last_commit_date: 2025-10-29 09:57:03 -0500
nebbiolo1Linux (Ubuntu 24.04.3 LTS) / x86_64  OK    OK    WARNINGS  UNNEEDED, same version is already published
Package 74/190HostnameOS / ArchINSTALLBUILDCHECKBUILD BIN
globaltest 5.65.0  (landing page)
Jelle Goeman
git_last_commit: f1b6690
git_last_commit_date: 2025-10-29 09:55:12 -0500
nebbiolo1Linux (Ubuntu 24.04.3 LTS) / x86_64  OK    OK    OK  UNNEEDED, same version is already published
Package 75/190HostnameOS / ArchINSTALLBUILDCHECKBUILD BIN
GmicR 1.25.0  (landing page)
Richard Virgen-Slane
git_last_commit: f2f25e5
git_last_commit_date: 2025-10-29 10:54:40 -0500
nebbiolo1Linux (Ubuntu 24.04.3 LTS) / x86_64  OK    OK    WARNINGS  UNNEEDED, same version is already published
Package 76/190HostnameOS / ArchINSTALLBUILDCHECKBUILD BIN
goatea 1.1.0  (landing page)
Maurits Unkel
git_last_commit: 15d475f
git_last_commit_date: 2025-10-29 11:37:58 -0500
nebbiolo1Linux (Ubuntu 24.04.3 LTS) / x86_64  OK    ERROR  skipped
Package 77/190HostnameOS / ArchINSTALLBUILDCHECKBUILD BIN
GOfuncR 1.31.0  (landing page)
Steffi Grote
git_last_commit: 781f3d4
git_last_commit_date: 2025-10-29 10:42:27 -0500
nebbiolo1Linux (Ubuntu 24.04.3 LTS) / x86_64  OK    OK    OK  UNNEEDED, same version is already published
Package 78/190HostnameOS / ArchINSTALLBUILDCHECKBUILD BIN
GOpro 1.37.0  (landing page)
Lidia Chrabaszcz
git_last_commit: 0f52ba5
git_last_commit_date: 2025-10-29 10:34:40 -0500
nebbiolo1Linux (Ubuntu 24.04.3 LTS) / x86_64  OK    OK    OK  UNNEEDED, same version is already published
Package 79/190HostnameOS / ArchINSTALLBUILDCHECKBUILD BIN
goProfiles 1.73.0  (landing page)
Alex Sanchez
git_last_commit: f39fe7a
git_last_commit_date: 2025-10-29 10:00:32 -0500
nebbiolo1Linux (Ubuntu 24.04.3 LTS) / x86_64  OK    OK    OK  UNNEEDED, same version is already published
Package 80/190HostnameOS / ArchINSTALLBUILDCHECKBUILD BIN
GOSemSim 2.37.0  (landing page)
Guangchuang Yu
git_last_commit: ddb2082
git_last_commit_date: 2025-10-29 10:02:04 -0500
nebbiolo1Linux (Ubuntu 24.04.3 LTS) / x86_64  OK    OK    OK  UNNEEDED, same version is already published
Package 81/190HostnameOS / ArchINSTALLBUILDCHECKBUILD BIN
goseq 1.63.0  (landing page)
Federico Marini
git_last_commit: 9833b83
git_last_commit_date: 2025-10-29 10:04:46 -0500
nebbiolo1Linux (Ubuntu 24.04.3 LTS) / x86_64  OK    OK    OK  NO, package depends on 'rtracklayer' which is not available
Package 82/190HostnameOS / ArchINSTALLBUILDCHECKBUILD BIN
goSTAG 1.35.0  (landing page)
Brian D. Bennett
git_last_commit: 80ac782
git_last_commit_date: 2025-10-29 10:36:31 -0500
nebbiolo1Linux (Ubuntu 24.04.3 LTS) / x86_64  OK    OK    OK  UNNEEDED, same version is already published
Package 83/190HostnameOS / ArchINSTALLBUILDCHECKBUILD BIN
GOstats 2.77.0  (landing page)
Bioconductor Package Maintainer
git_last_commit: d09aa16
git_last_commit_date: 2025-10-29 09:55:01 -0500
nebbiolo1Linux (Ubuntu 24.04.3 LTS) / x86_64  OK    OK    OK  UNNEEDED, same version is already published
Package 84/190HostnameOS / ArchINSTALLBUILDCHECKBUILD BIN
goTools 1.85.0  (landing page)
Agnes Paquet
git_last_commit: 99ac810
git_last_commit_date: 2025-10-29 09:54:43 -0500
nebbiolo1Linux (Ubuntu 24.04.3 LTS) / x86_64  OK    OK    OK  UNNEEDED, same version is already published
Package 85/190HostnameOS / ArchINSTALLBUILDCHECKBUILD BIN
graphite 1.57.0  (landing page)
Gabriele Sales
git_last_commit: 0b372f1
git_last_commit_date: 2025-10-29 10:08:39 -0500
nebbiolo1Linux (Ubuntu 24.04.3 LTS) / x86_64  OK    OK    OK  UNNEEDED, same version is already published
Package 86/190HostnameOS / ArchINSTALLBUILDCHECKBUILD BIN
GSEABase 1.73.0  (landing page)
Bioconductor Package Maintainer
git_last_commit: 40d4be6
git_last_commit_date: 2025-10-29 09:59:33 -0500
nebbiolo1Linux (Ubuntu 24.04.3 LTS) / x86_64  OK    OK    OK  UNNEEDED, same version is already published
Package 87/190HostnameOS / ArchINSTALLBUILDCHECKBUILD BIN
GSEABenchmarkeR 1.31.0  (landing page)
Ludwig Geistlinger
git_last_commit: 129d655
git_last_commit_date: 2025-10-29 10:44:06 -0500
nebbiolo1Linux (Ubuntu 24.04.3 LTS) / x86_64  OK    OK    OK  NO, package depends on 'EnrichmentBrowser' which is not available
Package 88/190HostnameOS / ArchINSTALLBUILDCHECKBUILD BIN
GSReg 1.45.0  (landing page)
Bahman Afsari , Elana J. Fertig
git_last_commit: a73ad30
git_last_commit_date: 2025-10-29 10:20:24 -0500
nebbiolo1Linux (Ubuntu 24.04.3 LTS) / x86_64  OK    OK    WARNINGS  NO, package depends on 'GenomicFeatures' which is not available
Package 89/190HostnameOS / ArchINSTALLBUILDCHECKBUILD BIN
Guitar 2.27.0  (landing page)
Jia Meng
git_last_commit: f0b1059
git_last_commit_date: 2025-10-29 10:27:57 -0500
nebbiolo1Linux (Ubuntu 24.04.3 LTS) / x86_64  OK    OK    OK  NO, package depends on 'GenomicFeatures' which is not available
Package 90/190HostnameOS / ArchINSTALLBUILDCHECKBUILD BIN
Gviz 1.55.0  (landing page)
Robert Ivanek
git_last_commit: 6339846
git_last_commit_date: 2025-10-29 10:10:17 -0500
nebbiolo1Linux (Ubuntu 24.04.3 LTS) / x86_64  OK    OK    OK  NO, package depends on 'rtracklayer' which is not available
Package 91/190HostnameOS / ArchINSTALLBUILDCHECKBUILD BIN
gwascat 2.43.0  (landing page)
VJ Carey
git_last_commit: ec24f27
git_last_commit_date: 2025-10-29 10:10:23 -0500
nebbiolo1Linux (Ubuntu 24.04.3 LTS) / x86_64  OK    OK    OK  NO, package depends on 'GenomicFeatures' which is not available
Package 92/190HostnameOS / ArchINSTALLBUILDCHECKBUILD BIN
ideal 2.5.0  (landing page)
Federico Marini
git_last_commit: 2ff36ae
git_last_commit_date: 2025-10-29 10:38:28 -0500
nebbiolo1Linux (Ubuntu 24.04.3 LTS) / x86_64  OK    OK    OK  NO, package depends on 'mosdef' which is not available
Package 93/190HostnameOS / ArchINSTALLBUILDCHECKBUILD BIN
IMAS 1.35.0  (landing page)
Seonggyun Han
git_last_commit: 8fb5523
git_last_commit_date: 2025-10-29 10:38:10 -0500
nebbiolo1Linux (Ubuntu 24.04.3 LTS) / x86_64  OK    ERROR  skipped
Package 94/190HostnameOS / ArchINSTALLBUILDCHECKBUILD BIN
InPAS 2.19.0  (landing page)
Jianhong Ou
git_last_commit: 5b899e7
git_last_commit_date: 2025-10-29 10:24:45 -0500
nebbiolo1Linux (Ubuntu 24.04.3 LTS) / x86_64  OK    OK    WARNINGS  NO, package depends on 'BSgenome' which is not available
Package 95/190HostnameOS / ArchINSTALLBUILDCHECKBUILD BIN
ipdDb 1.29.0  (landing page)
Steffen Klasberg
git_last_commit: 1180c38
git_last_commit_date: 2025-10-29 10:46:13 -0500
nebbiolo1Linux (Ubuntu 24.04.3 LTS) / x86_64  OK    OK    OK  UNNEEDED, same version is already published
Package 96/190HostnameOS / ArchINSTALLBUILDCHECKBUILD BIN
isomiRs 1.39.0  (landing page)
Lorena Pantano
git_last_commit: feed20d
git_last_commit_date: 2025-10-29 10:31:12 -0500
nebbiolo1Linux (Ubuntu 24.04.3 LTS) / x86_64  OK    OK    ERROR  
Package 97/190HostnameOS / ArchINSTALLBUILDCHECKBUILD BIN
IVAS 2.31.0  (landing page)
Seonggyun Han
git_last_commit: 0b3f358
git_last_commit_date: 2025-10-29 10:23:46 -0500
nebbiolo1Linux (Ubuntu 24.04.3 LTS) / x86_64  OK    OK    WARNINGS  NO, package depends on 'GenomicFeatures' which is not available
Package 98/190HostnameOS / ArchINSTALLBUILDCHECKBUILD BIN
karyoploteR 1.37.0  (landing page)
Bernat Gel
git_last_commit: fd32b1e
git_last_commit_date: 2025-10-29 10:36:38 -0500
nebbiolo1Linux (Ubuntu 24.04.3 LTS) / x86_64  OK    OK    OK  NO, package depends on 'regioneR' which is not available
Package 99/190HostnameOS / ArchINSTALLBUILDCHECKBUILD BIN
KEGGlincs 1.37.0  (landing page)
Shana White , Mario Medvedovic
git_last_commit: 0de0797
git_last_commit_date: 2025-10-29 10:34:49 -0500
nebbiolo1Linux (Ubuntu 24.04.3 LTS) / x86_64  OK    OK    OK  UNNEEDED, same version is already published
Package 100/190HostnameOS / ArchINSTALLBUILDCHECKBUILD BIN
keggorthology 2.63.0  (landing page)
VJ Carey
git_last_commit: 83d2b0c
git_last_commit_date: 2025-10-29 09:59:39 -0500
nebbiolo1Linux (Ubuntu 24.04.3 LTS) / x86_64  OK    OK    OK  UNNEEDED, same version is already published
Package 101/190HostnameOS / ArchINSTALLBUILDCHECKBUILD BIN
linkSet 1.1.0  (landing page)
Gilbert Han
git_last_commit: bdadbdd
git_last_commit_date: 2025-10-29 11:37:12 -0500
nebbiolo1Linux (Ubuntu 24.04.3 LTS) / x86_64  OK    OK    WARNINGS  NO, package depends on 'Organism.dplyr' which is not available
Package 102/190HostnameOS / ArchINSTALLBUILDCHECKBUILD BIN
LRBaseDbi 2.21.0  (landing page)
Koki Tsuyuzaki
git_last_commit: e5322a2
git_last_commit_date: 2025-10-29 10:46:33 -0500
nebbiolo1Linux (Ubuntu 24.04.3 LTS) / x86_64  OK    OK    OK  UNNEEDED, same version is already published
Package 103/190HostnameOS / ArchINSTALLBUILDCHECKBUILD BIN
lumi 2.63.0  (landing page)
Lei Huang
git_last_commit: 692966d
git_last_commit_date: 2025-10-29 09:58:49 -0500
nebbiolo1Linux (Ubuntu 24.04.3 LTS) / x86_64  OK    OK    ERROR  
Package 104/190HostnameOS / ArchINSTALLBUILDCHECKBUILD BIN
magpie 1.11.0  (landing page)
Daoyu Duan
git_last_commit: 48f31cd
git_last_commit_date: 2025-10-29 11:21:48 -0500
nebbiolo1Linux (Ubuntu 24.04.3 LTS) / x86_64  OK    OK    WARNINGS  NO, package depends on 'rtracklayer' which is not available
Package 105/190HostnameOS / ArchINSTALLBUILDCHECKBUILD BIN
maPredictDSC 1.49.0  (landing page)
Adi Laurentiu Tarca
git_last_commit: befed4f
git_last_commit_date: 2025-10-29 10:15:22 -0500
nebbiolo1Linux (Ubuntu 24.04.3 LTS) / x86_64  OK    OK    OK  UNNEEDED, same version is already published
Package 106/190HostnameOS / ArchINSTALLBUILDCHECKBUILD BIN
mastR 1.11.0  (landing page)
Jinjin Chen
git_last_commit: 84f231b
git_last_commit_date: 2025-10-29 11:22:48 -0500
nebbiolo1Linux (Ubuntu 24.04.3 LTS) / x86_64  ERROR    ERROR  skipped
Package 107/190HostnameOS / ArchINSTALLBUILDCHECKBUILD BIN
MCbiclust 1.35.0  (landing page)
Robert Bentham
git_last_commit: 538a41b
git_last_commit_date: 2025-10-29 10:36:44 -0500
nebbiolo1Linux (Ubuntu 24.04.3 LTS) / x86_64  OK    OK    OK  UNNEEDED, same version is already published
Package 108/190HostnameOS / ArchINSTALLBUILDCHECKBUILD BIN
MeSHDbi 1.47.0  (landing page)
Koki Tsuyuzaki
git_last_commit: 1fa151c
git_last_commit_date: 2025-10-29 10:19:20 -0500
nebbiolo1Linux (Ubuntu 24.04.3 LTS) / x86_64  OK    OK    OK  UNNEEDED, same version is already published
Package 109/190HostnameOS / ArchINSTALLBUILDCHECKBUILD BIN
meshes 1.37.0  (landing page)
Guangchuang Yu
git_last_commit: b03ea7f
git_last_commit_date: 2025-10-29 10:35:16 -0500
nebbiolo1Linux (Ubuntu 24.04.3 LTS) / x86_64  OK    OK    OK  UNNEEDED, same version is already published
Package 110/190HostnameOS / ArchINSTALLBUILDCHECKBUILD BIN
MesKit 1.21.0  (landing page)
Mengni Liu
git_last_commit: 15660f6
git_last_commit_date: 2025-10-29 11:01:00 -0500
nebbiolo1Linux (Ubuntu 24.04.3 LTS) / x86_64  OK    OK    WARNINGS  UNNEEDED, same version is already published
Package 111/190HostnameOS / ArchINSTALLBUILDCHECKBUILD BIN
MetaboSignal 1.41.0  (landing page)
Andrea Rodriguez-Martinez
git_last_commit: cbcf183
git_last_commit_date: 2025-10-29 10:34:11 -0500
nebbiolo1Linux (Ubuntu 24.04.3 LTS) / x86_64  OK    OK    OK  NO, package depends on 'mygene' which is not available
Package 112/190HostnameOS / ArchINSTALLBUILDCHECKBUILD BIN
methylGSA 1.29.0  (landing page)
Xu Ren
git_last_commit: 2bc09f0
git_last_commit_date: 2025-10-29 10:46:15 -0500
nebbiolo1Linux (Ubuntu 24.04.3 LTS) / x86_64  OK    OK    OK  NO, package depends on 'missMethyl' which is not available
Package 113/190HostnameOS / ArchINSTALLBUILDCHECKBUILD BIN
methylumi 2.57.0  (landing page)
Sean Davis
git_last_commit: dcf4f3c
git_last_commit_date: 2025-10-29 10:02:53 -0500
nebbiolo1Linux (Ubuntu 24.04.3 LTS) / x86_64  OK    OK    OK  NO, package depends on 'minfi' which is not available
Package 114/190HostnameOS / ArchINSTALLBUILDCHECKBUILD BIN
MGFM 1.45.0  (landing page)
Khadija El Amrani
git_last_commit: 86143b0
git_last_commit_date: 2025-10-29 10:21:39 -0500
nebbiolo1Linux (Ubuntu 24.04.3 LTS) / x86_64  OK    OK    OK  UNNEEDED, same version is already published
Package 115/190HostnameOS / ArchINSTALLBUILDCHECKBUILD BIN
MineICA 1.51.0  (landing page)
Anne Biton
git_last_commit: b926f54
git_last_commit_date: 2025-10-29 10:13:40 -0500
nebbiolo1Linux (Ubuntu 24.04.3 LTS) / x86_64  OK    OK    ERROR  
Package 116/190HostnameOS / ArchINSTALLBUILDCHECKBUILD BIN
MiRaGE 1.53.0  (landing page)
Y-h. Taguchi
git_last_commit: 700ec14
git_last_commit_date: 2025-10-29 10:11:09 -0500
nebbiolo1Linux (Ubuntu 24.04.3 LTS) / x86_64  OK    ERROR  skipped
Package 117/190HostnameOS / ArchINSTALLBUILDCHECKBUILD BIN
mirIntegrator 1.41.0  (landing page)
Diana Diaz
git_last_commit: 85fa48a
git_last_commit_date: 2025-10-29 10:26:26 -0500
nebbiolo1Linux (Ubuntu 24.04.3 LTS) / x86_64  OK    OK    OK  UNNEEDED, same version is already published
Package 118/190HostnameOS / ArchINSTALLBUILDCHECKBUILD BIN
MIRit 1.7.0  (landing page)
Jacopo Ronchi
git_last_commit: 624060e
git_last_commit_date: 2025-10-29 11:27:39 -0500
nebbiolo1Linux (Ubuntu 24.04.3 LTS) / x86_64  OK    OK    ERROR  
Package 119/190HostnameOS / ArchINSTALLBUILDCHECKBUILD BIN
miRNAmeConverter 1.39.0  (landing page)
Stefan J. Haunsberger
git_last_commit: 6f9e554
git_last_commit_date: 2025-10-29 10:30:37 -0500
nebbiolo1Linux (Ubuntu 24.04.3 LTS) / x86_64  OK    OK    WARNINGS  UNNEEDED, same version is already published
Package 120/190HostnameOS / ArchINSTALLBUILDCHECKBUILD BIN
miRNAtap 1.45.0  (landing page)
T. Ian Simpson
git_last_commit: c086840
git_last_commit_date: 2025-10-29 10:20:45 -0500
nebbiolo1Linux (Ubuntu 24.04.3 LTS) / x86_64  OK    OK    OK  UNNEEDED, same version is already published
Package 121/190HostnameOS / ArchINSTALLBUILDCHECKBUILD BIN
missMethyl 1.45.0  (landing page)
Belinda Phipson
git_last_commit: 886b656
git_last_commit_date: 2025-10-29 10:20:32 -0500
nebbiolo1Linux (Ubuntu 24.04.3 LTS) / x86_64  OK    ERROR  skipped
Package 122/190HostnameOS / ArchINSTALLBUILDCHECKBUILD BIN
mitology 1.3.0  (landing page)
Stefania Pirrotta
git_last_commit: ada0939
git_last_commit_date: 2025-10-29 11:36:14 -0500
nebbiolo1Linux (Ubuntu 24.04.3 LTS) / x86_64  OK    OK    OK  UNNEEDED, same version is already published
Package 123/190HostnameOS / ArchINSTALLBUILDCHECKBUILD BIN
MLP 1.59.0  (landing page)
Tobias Verbeke
git_last_commit: b806436
git_last_commit_date: 2025-10-29 10:06:15 -0500
nebbiolo1Linux (Ubuntu 24.04.3 LTS) / x86_64  OK    OK    OK  UNNEEDED, same version is already published
Package 124/190HostnameOS / ArchINSTALLBUILDCHECKBUILD BIN
MOSClip 1.5.0  (landing page)
Paolo Martini
git_last_commit: feb3c8b
git_last_commit_date: 2025-10-29 11:32:56 -0500
nebbiolo1Linux (Ubuntu 24.04.3 LTS) / x86_64  OK    OK    OK  NO, package depends on 'qpgraph' which is not available
Package 125/190HostnameOS / ArchINSTALLBUILDCHECKBUILD BIN
mosdef 1.7.0  (landing page)
Federico Marini
git_last_commit: 9ba0438
git_last_commit_date: 2025-10-29 11:29:58 -0500
nebbiolo1Linux (Ubuntu 24.04.3 LTS) / x86_64  OK    OK    OK  NO, package depends on 'goseq' which is not available
Package 126/190HostnameOS / ArchINSTALLBUILDCHECKBUILD BIN
MSnID 1.45.0  (landing page)
Vlad Petyuk
git_last_commit: 7607478
git_last_commit_date: 2025-10-29 10:21:36 -0500
nebbiolo1Linux (Ubuntu 24.04.3 LTS) / x86_64  OK    OK    OK  UNNEEDED, same version is already published
Package 127/190HostnameOS / ArchINSTALLBUILDCHECKBUILD BIN
multiGSEA 1.21.0  (landing page)
Sebastian Canzler
git_last_commit: 7e0f16c
git_last_commit_date: 2025-10-29 11:00:17 -0500
nebbiolo1Linux (Ubuntu 24.04.3 LTS) / x86_64  OK    OK    OK  UNNEEDED, same version is already published
Package 128/190HostnameOS / ArchINSTALLBUILDCHECKBUILD BIN
multiMiR 1.33.0  (landing page)
Spencer Mahaffey
git_last_commit: a6fc7f8
git_last_commit_date: 2025-10-29 10:40:52 -0500
nebbiolo1Linux (Ubuntu 24.04.3 LTS) / x86_64  OK    OK    OK  UNNEEDED, same version is already published
Package 129/190HostnameOS / ArchINSTALLBUILDCHECKBUILD BIN
NanoMethViz 3.7.0  (landing page)
Shian Su
git_last_commit: 4349b36
git_last_commit_date: 2025-10-29 11:04:08 -0500
nebbiolo1Linux (Ubuntu 24.04.3 LTS) / x86_64  OK    OK    OK  NO, package depends on 'bsseq' which is not available
Package 130/190HostnameOS / ArchINSTALLBUILDCHECKBUILD BIN
NetSAM 1.51.0  (landing page)
Zhiao Shi
git_last_commit: e7c982a
git_last_commit_date: 2025-10-29 10:15:12 -0500
nebbiolo1Linux (Ubuntu 24.04.3 LTS) / x86_64  OK    OK    OK  UNNEEDED, same version is already published
Package 131/190HostnameOS / ArchINSTALLBUILDCHECKBUILD BIN
NoRCE 1.23.0  (landing page)
Gulden Olgun
git_last_commit: 1e7412c
git_last_commit_date: 2025-10-29 10:57:38 -0500
nebbiolo1Linux (Ubuntu 24.04.3 LTS) / x86_64  OK    OK    OK  NO, package depends on 'rtracklayer' which is not available
Package 132/190HostnameOS / ArchINSTALLBUILDCHECKBUILD BIN
ORFik 1.31.0  (landing page)
Haakon Tjeldnes
git_last_commit: 1c0375d
git_last_commit_date: 2025-10-29 10:45:22 -0500
nebbiolo1Linux (Ubuntu 24.04.3 LTS) / x86_64  OK    OK    OK  NO, package depends on 'BSgenome' which is not available
Package 133/190HostnameOS / ArchINSTALLBUILDCHECKBUILD BIN
Organism.dplyr 1.39.0  (landing page)
Martin Morgan
git_last_commit: 538153f
git_last_commit_date: 2025-10-29 10:37:10 -0500
nebbiolo1Linux (Ubuntu 24.04.3 LTS) / x86_64  OK    OK    ERROR  
Package 134/190HostnameOS / ArchINSTALLBUILDCHECKBUILD BIN
OrganismDbi 1.53.2  (landing page)
Bioconductor Package Maintainer
git_last_commit: a63751b
git_last_commit_date: 2025-10-31 18:33:12 -0500
nebbiolo1Linux (Ubuntu 24.04.3 LTS) / x86_64  OK    OK    OK  NO, package depends on 'GenomicFeatures' which is not available
Package 135/190HostnameOS / ArchINSTALLBUILDCHECKBUILD BIN
OutSplice 1.11.0  (landing page)
Theresa Guo
git_last_commit: 14e6259
git_last_commit_date: 2025-10-29 11:23:03 -0500
nebbiolo1Linux (Ubuntu 24.04.3 LTS) / x86_64  OK    OK    OK  NO, package depends on 'GenomicFeatures' which is not available
Package 136/190HostnameOS / ArchINSTALLBUILDCHECKBUILD BIN
PADOG 1.53.0  (landing page)
Adi L. Tarca
git_last_commit: 4e53350
git_last_commit_date: 2025-10-29 10:11:37 -0500
nebbiolo1Linux (Ubuntu 24.04.3 LTS) / x86_64  OK    OK    OK  UNNEEDED, same version is already published
Package 137/190HostnameOS / ArchINSTALLBUILDCHECKBUILD BIN
pathRender 1.79.0  (landing page)
Vince Carey
git_last_commit: d982243
git_last_commit_date: 2025-10-29 09:57:23 -0500
nebbiolo1Linux (Ubuntu 24.04.3 LTS) / x86_64  OK    OK    OK  UNNEEDED, same version is already published
Package 138/190HostnameOS / ArchINSTALLBUILDCHECKBUILD BIN
pathview 1.51.0  (landing page)
Weijun Luo
git_last_commit: b31fe1e
git_last_commit_date: 2025-10-29 10:14:01 -0500
nebbiolo1Linux (Ubuntu 24.04.3 LTS) / x86_64  OK    OK    WARNINGS  UNNEEDED, same version is already published
Package 139/190HostnameOS / ArchINSTALLBUILDCHECKBUILD BIN
pcaExplorer 3.5.0  (landing page)
Federico Marini
git_last_commit: 4e88ee9
git_last_commit_date: 2025-10-29 10:31:39 -0500
nebbiolo1Linux (Ubuntu 24.04.3 LTS) / x86_64  OK    OK    OK  NO, package depends on 'mosdef' which is not available
Package 140/190HostnameOS / ArchINSTALLBUILDCHECKBUILD BIN
phantasus 1.31.0  (landing page)
Alexey Sergushichev
git_last_commit: 30cb2d9
git_last_commit_date: 2025-10-29 10:44:01 -0500
nebbiolo1Linux (Ubuntu 24.04.3 LTS) / x86_64  OK    OK    OK  UNNEEDED, same version is already published
Package 141/190HostnameOS / ArchINSTALLBUILDCHECKBUILD BIN
phenoTest 1.59.0  (landing page)
Evarist Planet
git_last_commit: 882e53c
git_last_commit_date: 2025-10-29 10:06:30 -0500
nebbiolo1Linux (Ubuntu 24.04.3 LTS) / x86_64  OK    OK    OK  UNNEEDED, same version is already published
Package 142/190HostnameOS / ArchINSTALLBUILDCHECKBUILD BIN
proActiv 1.21.0  (landing page)
Joseph Lee
git_last_commit: 8067867
git_last_commit_date: 2025-10-29 11:02:09 -0500
nebbiolo1Linux (Ubuntu 24.04.3 LTS) / x86_64  OK    OK    OK  NO, package depends on 'GenomicFeatures' which is not available
Package 143/190HostnameOS / ArchINSTALLBUILDCHECKBUILD BIN
proBAMr 1.45.0  (landing page)
Xiaojing Wang
git_last_commit: 574f906
git_last_commit_date: 2025-10-29 10:22:01 -0500
nebbiolo1Linux (Ubuntu 24.04.3 LTS) / x86_64  OK    OK    OK  NO, package depends on 'GenomicFeatures' which is not available
Package 144/190HostnameOS / ArchINSTALLBUILDCHECKBUILD BIN
psichomics 1.37.0  (landing page)
Nuno Saraiva-Agostinho
git_last_commit: a7c8792
git_last_commit_date: 2025-10-29 10:35:05 -0500
nebbiolo1Linux (Ubuntu 24.04.3 LTS) / x86_64  OK    OK    OK  NO, package depends on 'recount' which is not available
Package 145/190HostnameOS / ArchINSTALLBUILDCHECKBUILD BIN
qpgraph 2.45.0  (landing page)
Robert Castelo
git_last_commit: eff82ca
git_last_commit_date: 2025-10-29 10:02:10 -0500
nebbiolo1Linux (Ubuntu 24.04.3 LTS) / x86_64  OK    OK    OK  NO, package depends on 'GenomicFeatures' which is not available
Package 146/190HostnameOS / ArchINSTALLBUILDCHECKBUILD BIN
QuasR 1.51.0  (landing page)
Michael Stadler
git_last_commit: 331f3b2
git_last_commit_date: 2025-10-29 10:13:16 -0500
nebbiolo1Linux (Ubuntu 24.04.3 LTS) / x86_64  OK    OK    WARNINGS  NO, package depends on 'BSgenome' which is not available
Package 147/190HostnameOS / ArchINSTALLBUILDCHECKBUILD BIN
RAIDS 1.9.0  (landing page)
Pascal Belleau
git_last_commit: 27cee94
git_last_commit_date: 2025-10-29 11:25:36 -0500
nebbiolo1Linux (Ubuntu 24.04.3 LTS) / x86_64  OK    OK    OK  NO, package depends on 'GENESIS' which is not available
Package 148/190HostnameOS / ArchINSTALLBUILDCHECKBUILD BIN
rCGH 1.41.0  (landing page)
Frederic Commo
git_last_commit: 1f54d5a
git_last_commit_date: 2025-10-29 10:26:46 -0500
nebbiolo1Linux (Ubuntu 24.04.3 LTS) / x86_64  OK    OK    OK  NO, package depends on 'GenomicFeatures' which is not available
Package 149/190HostnameOS / ArchINSTALLBUILDCHECKBUILD BIN
ReactomePA 1.55.0  (landing page)
Guangchuang Yu
git_last_commit: 37ccc0d
git_last_commit_date: 2025-10-29 10:10:37 -0500
nebbiolo1Linux (Ubuntu 24.04.3 LTS) / x86_64  OK    OK    OK  UNNEEDED, same version is already published
Package 150/190HostnameOS / ArchINSTALLBUILDCHECKBUILD BIN
REDseq 1.57.0  (landing page)
Lihua Julie Zhu
git_last_commit: 05ac2ab
git_last_commit_date: 2025-10-29 10:07:45 -0500
nebbiolo1Linux (Ubuntu 24.04.3 LTS) / x86_64  ERROR    ERROR  skipped
Package 151/190HostnameOS / ArchINSTALLBUILDCHECKBUILD BIN
regutools 1.23.0  (landing page)
Joselyn Chavez
git_last_commit: a894ec8
git_last_commit_date: 2025-10-29 10:59:10 -0500
nebbiolo1Linux (Ubuntu 24.04.3 LTS) / x86_64  OK    OK    OK  NO, package depends on 'Gviz' which is not available
Package 152/190HostnameOS / ArchINSTALLBUILDCHECKBUILD BIN
ReportingTools 2.51.0  (landing page)
Jason A. Hackney , Gabriel Becker
git_last_commit: ba00f72
git_last_commit_date: 2025-10-29 10:12:14 -0500
nebbiolo1Linux (Ubuntu 24.04.3 LTS) / x86_64  OK    OK    OK  NO, package depends on 'ggbio' which is not available
Package 153/190HostnameOS / ArchINSTALLBUILDCHECKBUILD BIN
RFLOMICS 1.3.0  (landing page)
Nadia Bessoltane
git_last_commit: a7a98e3
git_last_commit_date: 2025-10-29 11:35:35 -0500
nebbiolo1Linux (Ubuntu 24.04.3 LTS) / x86_64  OK    OK    OK  UNNEEDED, same version is already published
Package 154/190HostnameOS / ArchINSTALLBUILDCHECKBUILD BIN
rGREAT 2.13.0  (landing page)
Zuguang Gu
git_last_commit: 14e5157
git_last_commit_date: 2025-10-29 10:23:59 -0500
nebbiolo1Linux (Ubuntu 24.04.3 LTS) / x86_64  OK    OK    ERROR  
Package 155/190HostnameOS / ArchINSTALLBUILDCHECKBUILD BIN
rgsepd 1.43.0  (landing page)
Karl Stamm
git_last_commit: c93ca40
git_last_commit_date: 2025-10-29 10:23:22 -0500
nebbiolo1Linux (Ubuntu 24.04.3 LTS) / x86_64  OK    OK    OK  NO, package depends on 'goseq' which is not available
Package 156/190HostnameOS / ArchINSTALLBUILDCHECKBUILD BIN
ribosomeProfilingQC 1.23.0  (landing page)
Jianhong Ou
git_last_commit: bad02b9
git_last_commit_date: 2025-10-29 10:57:03 -0500
nebbiolo1Linux (Ubuntu 24.04.3 LTS) / x86_64  OK    OK    OK  NO, package depends on 'BSgenome' which is not available
Package 157/190HostnameOS / ArchINSTALLBUILDCHECKBUILD BIN
RNAAgeCalc 1.23.0  (landing page)
Xu Ren
git_last_commit: bb08720
git_last_commit_date: 2025-10-29 10:57:30 -0500
nebbiolo1Linux (Ubuntu 24.04.3 LTS) / x86_64  OK    OK    OK  NO, package depends on 'recount' which is not available
Package 158/190HostnameOS / ArchINSTALLBUILDCHECKBUILD BIN
rrvgo 1.23.0  (landing page)
Sergi Sayols
git_last_commit: a44717f
git_last_commit_date: 2025-10-29 10:57:06 -0500
nebbiolo1Linux (Ubuntu 24.04.3 LTS) / x86_64  OK    OK    OK  UNNEEDED, same version is already published
Package 159/190HostnameOS / ArchINSTALLBUILDCHECKBUILD BIN
rTRM 1.49.0  (landing page)
Diego Diez
git_last_commit: deb123f
git_last_commit_date: 2025-10-29 10:15:20 -0500
nebbiolo1Linux (Ubuntu 24.04.3 LTS) / x86_64  OK    OK    OK  UNNEEDED, same version is already published
Package 160/190HostnameOS / ArchINSTALLBUILDCHECKBUILD BIN
safe 3.51.0  (landing page)
Ludwig Geistlinger
git_last_commit: 2c88a2e
git_last_commit_date: 2025-10-29 09:56:10 -0500
nebbiolo1Linux (Ubuntu 24.04.3 LTS) / x86_64  OK    OK    OK  UNNEEDED, same version is already published
Package 161/190HostnameOS / ArchINSTALLBUILDCHECKBUILD BIN
SBGNview 1.25.0  (landing page)
Weijun Luo
git_last_commit: 146fd47
git_last_commit_date: 2025-10-29 10:52:54 -0500
nebbiolo1Linux (Ubuntu 24.04.3 LTS) / x86_64  OK    OK    OK  UNNEEDED, same version is already published
Package 162/190HostnameOS / ArchINSTALLBUILDCHECKBUILD BIN
scanMiRApp 1.17.0  (landing page)
Pierre-Luc Germain
git_last_commit: a38fae0
git_last_commit_date: 2025-10-29 11:11:11 -0500
nebbiolo1Linux (Ubuntu 24.04.3 LTS) / x86_64  OK    OK    OK  NO, package depends on 'ensembldb' which is not available
Package 163/190HostnameOS / ArchINSTALLBUILDCHECKBUILD BIN
scPipe 2.11.0  (landing page)
Shian Su
git_last_commit: fbfb464
git_last_commit_date: 2025-10-29 10:41:32 -0500
nebbiolo1Linux (Ubuntu 24.04.3 LTS) / x86_64  OK    OK    OK  NO, package depends on 'rtracklayer' which is not available
Package 164/190HostnameOS / ArchINSTALLBUILDCHECKBUILD BIN
scruff 1.29.0  (landing page)
Zhe Wang
git_last_commit: e5f29bf
git_last_commit_date: 2025-10-29 10:46:27 -0500
nebbiolo1Linux (Ubuntu 24.04.3 LTS) / x86_64  OK    OK    OK  NO, package depends on 'GenomicFeatures' which is not available
Package 165/190HostnameOS / ArchINSTALLBUILDCHECKBUILD BIN
scTensor 2.21.0  (landing page)
Koki Tsuyuzaki
git_last_commit: 63a2564
git_last_commit_date: 2025-10-29 10:49:00 -0500
nebbiolo1Linux (Ubuntu 24.04.3 LTS) / x86_64  OK    OK    WARNINGS  YES
Package 166/190HostnameOS / ArchINSTALLBUILDCHECKBUILD BIN
SemDist 1.45.0  (landing page)
Ian Gonzalez
git_last_commit: f13588e
git_last_commit_date: 2025-10-29 10:20:53 -0500
nebbiolo1Linux (Ubuntu 24.04.3 LTS) / x86_64  OK    OK    OK  UNNEEDED, same version is already published
Package 167/190HostnameOS / ArchINSTALLBUILDCHECKBUILD BIN
SGSeq 1.45.0  (landing page)
Leonard Goldstein
git_last_commit: fef2917
git_last_commit_date: 2025-10-29 10:22:27 -0500
nebbiolo1Linux (Ubuntu 24.04.3 LTS) / x86_64  OK    OK    OK  NO, package depends on 'GenomicFeatures' which is not available
Package 168/190HostnameOS / ArchINSTALLBUILDCHECKBUILD BIN
signatureSearch 1.25.0  (landing page)
Brendan Gongol
git_last_commit: 342f9a7
git_last_commit_date: 2025-10-29 10:55:44 -0500
nebbiolo1Linux (Ubuntu 24.04.3 LTS) / x86_64  OK    OK    OK  UNNEEDED, same version is already published
Package 169/190HostnameOS / ArchINSTALLBUILDCHECKBUILD BIN
signifinder 1.13.0  (landing page)
Stefania Pirrotta
git_last_commit: 2e1efc9
git_last_commit_date: 2025-10-29 11:19:34 -0500
nebbiolo1Linux (Ubuntu 24.04.3 LTS) / x86_64  OK    OK    OK  NO, package depends on 'consensusOV' which is not available
Package 170/190HostnameOS / ArchINSTALLBUILDCHECKBUILD BIN
simplifyEnrichment 2.5.0  (landing page)
Zuguang Gu
git_last_commit: 6159a31
git_last_commit_date: 2025-10-29 10:59:50 -0500
nebbiolo1Linux (Ubuntu 24.04.3 LTS) / x86_64  OK    OK    OK  UNNEEDED, same version is already published
Package 171/190HostnameOS / ArchINSTALLBUILDCHECKBUILD BIN
SMITE 1.39.0  (landing page)
Neil Ari Wijetunga
git_last_commit: cf2f9ae
git_last_commit_date: 2025-10-29 10:29:51 -0500
nebbiolo1Linux (Ubuntu 24.04.3 LTS) / x86_64  OK    OK    OK  NO, package depends on 'goseq' which is not available
Package 172/190HostnameOS / ArchINSTALLBUILDCHECKBUILD BIN
SPICEY 1.1.0  (landing page)
Georgina Fuentes-Páez
git_last_commit: a5c4c20
git_last_commit_date: 2025-10-29 11:37:52 -0500
nebbiolo1Linux (Ubuntu 24.04.3 LTS) / x86_64  OK    OK    OK  NO, package depends on 'GenomicFeatures' which is not available
Package 173/190HostnameOS / ArchINSTALLBUILDCHECKBUILD BIN
SubCellBarCode 1.27.0  (landing page)
Taner Arslan
git_last_commit: 945ded8
git_last_commit_date: 2025-10-29 10:52:15 -0500
nebbiolo1Linux (Ubuntu 24.04.3 LTS) / x86_64  OK    OK    WARNINGS  UNNEEDED, same version is already published
Package 174/190HostnameOS / ArchINSTALLBUILDCHECKBUILD BIN
SVMDO 1.11.0  (landing page)
Mustafa Erhan Ozer
git_last_commit: 2bc7e27
git_last_commit_date: 2025-10-29 11:23:08 -0500
nebbiolo1Linux (Ubuntu 24.04.3 LTS) / x86_64  OK    OK    OK  UNNEEDED, same version is already published
Package 175/190HostnameOS / ArchINSTALLBUILDCHECKBUILD BIN
TCGAutils 1.31.0  (landing page)
Marcel Ramos
git_last_commit: 4b0da87
git_last_commit_date: 2025-10-29 10:45:09 -0500
nebbiolo1Linux (Ubuntu 24.04.3 LTS) / x86_64  ERROR    ERROR  skipped
Package 176/190HostnameOS / ArchINSTALLBUILDCHECKBUILD BIN
tenXplore 1.33.0  (landing page)
VJ Carey
git_last_commit: 5fe43eb
git_last_commit_date: 2025-10-29 10:42:05 -0500
nebbiolo1Linux (Ubuntu 24.04.3 LTS) / x86_64  OK    OK    OK  NO, package depends on 'ontoProc' which is not available
Package 177/190HostnameOS / ArchINSTALLBUILDCHECKBUILD BIN
TFutils 1.31.0  (landing page)
Vincent Carey
git_last_commit: 775ebfc
git_last_commit_date: 2025-10-29 10:44:40 -0500
nebbiolo1Linux (Ubuntu 24.04.3 LTS) / x86_64  OK    OK    OK  NO, package depends on 'GenomicFiles' which is not available
Package 178/190HostnameOS / ArchINSTALLBUILDCHECKBUILD BIN
tigre 1.65.0  (landing page)
Antti Honkela
git_last_commit: 4b818eb
git_last_commit_date: 2025-10-29 10:04:43 -0500
nebbiolo1Linux (Ubuntu 24.04.3 LTS) / x86_64  OK    OK    OK  UNNEEDED, same version is already published
Package 179/190HostnameOS / ArchINSTALLBUILDCHECKBUILD BIN
topGO 2.63.0  (landing page)
Federico Marini
git_last_commit: 35ec429
git_last_commit_date: 2025-10-29 09:59:04 -0500
nebbiolo1Linux (Ubuntu 24.04.3 LTS) / x86_64  OK    OK    WARNINGS  UNNEEDED, same version is already published
Package 180/190HostnameOS / ArchINSTALLBUILDCHECKBUILD BIN
trackViewer 1.47.0  (landing page)
Jianhong Ou
git_last_commit: c2b7d9b
git_last_commit_date: 2025-10-29 10:17:52 -0500
nebbiolo1Linux (Ubuntu 24.04.3 LTS) / x86_64  OK    OK    OK  NO, package depends on 'GenomicFeatures' which is not available
Package 181/190HostnameOS / ArchINSTALLBUILDCHECKBUILD BIN
TRESS 1.17.0  (landing page)
Zhenxing Guo
git_last_commit: 36f1f10
git_last_commit_date: 2025-10-29 11:12:49 -0500
nebbiolo1Linux (Ubuntu 24.04.3 LTS) / x86_64  OK    OK    OK  NO, package depends on 'rtracklayer' which is not available
Package 182/190HostnameOS / ArchINSTALLBUILDCHECKBUILD BIN
tricycle 1.19.0  (landing page)
Shijie Zheng
git_last_commit: 54701be
git_last_commit_date: 2025-10-29 11:08:17 -0500
nebbiolo1Linux (Ubuntu 24.04.3 LTS) / x86_64  OK    OK    WARNINGS  YES
Package 183/190HostnameOS / ArchINSTALLBUILDCHECKBUILD BIN
txcutr 1.17.0  (landing page)
Mervin Fansler
git_last_commit: 8127801
git_last_commit_date: 2025-10-29 11:13:37 -0500
nebbiolo1Linux (Ubuntu 24.04.3 LTS) / x86_64  OK    OK    OK  NO, package depends on 'GenomicFeatures' which is not available
Package 184/190HostnameOS / ArchINSTALLBUILDCHECKBUILD BIN
txdbmaker 1.7.1  (landing page)
H. Pagès
git_last_commit: 5069001
git_last_commit_date: 2025-10-30 20:12:43 -0500
nebbiolo1Linux (Ubuntu 24.04.3 LTS) / x86_64  OK    OK    OK  NO, package depends on 'GenomicFeatures' which is not available
Package 185/190HostnameOS / ArchINSTALLBUILDCHECKBUILD BIN
tximeta 1.29.0  (landing page)
Michael Love
git_last_commit: 43586e1
git_last_commit_date: 2025-10-29 10:47:17 -0500
nebbiolo1Linux (Ubuntu 24.04.3 LTS) / x86_64  OK    OK    OK  NO, package depends on 'GenomicFeatures' which is not available
Package 186/190HostnameOS / ArchINSTALLBUILDCHECKBUILD BIN
Ularcirc 1.29.0  (landing page)
David Humphreys
git_last_commit: ff1d0ee
git_last_commit_date: 2025-10-29 10:45:47 -0500
nebbiolo1Linux (Ubuntu 24.04.3 LTS) / x86_64  OK    OK    WARNINGS  NO, package depends on 'BSgenome' which is not available
Package 187/190HostnameOS / ArchINSTALLBUILDCHECKBUILD BIN
UniProt.ws 2.51.0  (landing page)
Marcel Ramos
git_last_commit: 0cc8c13
git_last_commit_date: 2025-10-29 10:12:47 -0500
nebbiolo1Linux (Ubuntu 24.04.3 LTS) / x86_64  OK    OK    OK  UNNEEDED, same version is already published
Package 188/190HostnameOS / ArchINSTALLBUILDCHECKBUILD BIN
VariantAnnotation 1.57.0  (landing page)
Bioconductor Package Maintainer
git_last_commit: 0da7ddb
git_last_commit_date: 2025-10-29 10:08:24 -0500
nebbiolo1Linux (Ubuntu 24.04.3 LTS) / x86_64  OK    OK    WARNINGS  NO, package depends on 'rtracklayer' which is not available
Package 189/190HostnameOS / ArchINSTALLBUILDCHECKBUILD BIN
VariantFiltering 1.47.0  (landing page)
Robert Castelo
git_last_commit: 270d88d
git_last_commit_date: 2025-10-29 10:19:08 -0500
nebbiolo1Linux (Ubuntu 24.04.3 LTS) / x86_64  OK    OK    OK  NO, package depends on 'VariantAnnotation' which is not available
Package 190/190HostnameOS / ArchINSTALLBUILDCHECKBUILD BIN
ViSEAGO 1.25.0  (landing page)
Aurelien Brionne
git_last_commit: 646645b
git_last_commit_date: 2025-10-29 10:53:03 -0500
nebbiolo1Linux (Ubuntu 24.04.3 LTS) / x86_64  OK    OK    WARNINGS  UNNEEDED, same version is already published