Back to Multiple platform build/check report for BioC 3.22:   simplified   long
A[B]CDEFGHIJKLMNOPQRSTUVWXYZ

This page was generated on 2025-10-23 12:03 -0400 (Thu, 23 Oct 2025).

HostnameOSArch (*)R versionInstalled pkgs
nebbiolo2Linux (Ubuntu 24.04.3 LTS)x86_644.5.1 Patched (2025-08-23 r88802) -- "Great Square Root" 4894
lconwaymacOS 12.7.6 Montereyx86_644.5.1 Patched (2025-09-10 r88807) -- "Great Square Root" 4684
kjohnson3macOS 13.7.7 Venturaarm644.5.1 Patched (2025-09-10 r88807) -- "Great Square Root" 4629
taishanLinux (openEuler 24.03 LTS)aarch644.5.0 (2025-04-11) -- "How About a Twenty-Six" 4642
Click on any hostname to see more info about the system (e.g. compilers)      (*) as reported by 'uname -p', except on Windows and Mac OS X

Package 220/2355HostnameOS / ArchINSTALLBUILDCHECKBUILD BIN
BioNAR 1.11.0  (landing page)
Anatoly Sorokin
Snapshot Date: 2025-10-22 13:45 -0400 (Wed, 22 Oct 2025)
git_url: https://git.bioconductor.org/packages/BioNAR
git_branch: devel
git_last_commit: ac4d792
git_last_commit_date: 2025-04-15 12:58:11 -0400 (Tue, 15 Apr 2025)
nebbiolo2Linux (Ubuntu 24.04.3 LTS) / x86_64  OK    OK    ERROR  
lconwaymacOS 12.7.6 Monterey / x86_64  OK    OK    ERROR    OK  
kjohnson3macOS 13.7.7 Ventura / arm64  OK    OK    ERROR    OK  
taishanLinux (openEuler 24.03 LTS) / aarch64  OK    OK    TIMEOUT  


CHECK results for BioNAR on nebbiolo2

To the developers/maintainers of the BioNAR package:
- Allow up to 24 hours (and sometimes 48 hours) for your latest push to git@git.bioconductor.org:packages/BioNAR.git to reflect on this report. See Troubleshooting Build Report for more information.
- Use the following Renviron settings to reproduce errors and warnings.
- If 'R CMD check' started to fail recently on the Linux builder(s) over a missing dependency, add the missing dependency to 'Suggests:' in your DESCRIPTION file. See Renviron.bioc for more information.

raw results


Summary

Package: BioNAR
Version: 1.11.0
Command: /home/biocbuild/bbs-3.22-bioc/R/bin/R CMD check --install=check:BioNAR.install-out.txt --library=/home/biocbuild/bbs-3.22-bioc/R/site-library --timings BioNAR_1.11.0.tar.gz
StartedAt: 2025-10-22 21:35:42 -0400 (Wed, 22 Oct 2025)
EndedAt: 2025-10-22 21:43:23 -0400 (Wed, 22 Oct 2025)
EllapsedTime: 461.4 seconds
RetCode: 1
Status:   ERROR  
CheckDir: BioNAR.Rcheck
Warnings: NA

Command output

##############################################################################
##############################################################################
###
### Running command:
###
###   /home/biocbuild/bbs-3.22-bioc/R/bin/R CMD check --install=check:BioNAR.install-out.txt --library=/home/biocbuild/bbs-3.22-bioc/R/site-library --timings BioNAR_1.11.0.tar.gz
###
##############################################################################
##############################################################################


* using log directory ‘/home/biocbuild/bbs-3.22-bioc/meat/BioNAR.Rcheck’
* using R version 4.5.1 Patched (2025-08-23 r88802)
* using platform: x86_64-pc-linux-gnu
* R was compiled by
    gcc (Ubuntu 13.3.0-6ubuntu2~24.04) 13.3.0
    GNU Fortran (Ubuntu 13.3.0-6ubuntu2~24.04) 13.3.0
* running under: Ubuntu 24.04.3 LTS
* using session charset: UTF-8
* checking for file ‘BioNAR/DESCRIPTION’ ... OK
* this is package ‘BioNAR’ version ‘1.11.0’
* package encoding: UTF-8
* checking package namespace information ... OK
* checking package dependencies ... OK
* checking if this is a source package ... OK
* checking if there is a namespace ... OK
* checking for hidden files and directories ... OK
* checking for portable file names ... OK
* checking for sufficient/correct file permissions ... OK
* checking whether package ‘BioNAR’ can be installed ... OK
* checking installed package size ... INFO
  installed size is  6.8Mb
  sub-directories of 1Mb or more:
    extdata   6.1Mb
* checking package directory ... OK
* checking ‘build’ directory ... OK
* checking DESCRIPTION meta-information ... OK
* checking top-level files ... OK
* checking for left-over files ... OK
* checking index information ... OK
* checking package subdirectories ... OK
* checking code files for non-ASCII characters ... OK
* checking R files for syntax errors ... OK
* checking whether the package can be loaded ... OK
* checking whether the package can be loaded with stated dependencies ... OK
* checking whether the package can be unloaded cleanly ... OK
* checking whether the namespace can be loaded with stated dependencies ... OK
* checking whether the namespace can be unloaded cleanly ... OK
* checking loading without being on the library search path ... OK
* checking dependencies in R code ... NOTE
Package in Depends field not imported from: ‘Rdpack’
  These packages need to be imported from (in the NAMESPACE file)
  for when this namespace is loaded but not attached.
There are ::: calls to the package's namespace in its code. A package
  almost never needs to use ::: for its own objects:
  ‘addNoise’ ‘gofs’ ‘highlightRate’ ‘plotSigmoid’
* checking S3 generic/method consistency ... OK
* checking replacement functions ... OK
* checking foreign function calls ... OK
* checking R code for possible problems ... OK
* checking Rd files ... OK
* checking Rd metadata ... OK
* checking Rd cross-references ... NOTE
Unknown package ‘clusterCons’ in Rd xrefs
* checking for missing documentation entries ... OK
* checking for code/documentation mismatches ... OK
* checking Rd \usage sections ... OK
* checking Rd contents ... OK
* checking for unstated dependencies in examples ... OK
* checking contents of ‘data’ directory ... OK
* checking data for non-ASCII characters ... OK
* checking LazyData ... OK
* checking data for ASCII and uncompressed saves ... OK
* checking files in ‘vignettes’ ... OK
* checking examples ... OK
Examples with CPU (user + system) or elapsed time > 5s
                           user system elapsed
clusteringSummary        11.665  0.000  11.666
plotEntropy               9.117  0.056   9.173
calcEntropy               8.792  0.127   8.919
getEntropy                8.323  0.133   8.457
getGraphCentralityECDF    7.928  0.005   7.933
addEdgeAtts               7.621  0.100   7.721
getCentralityMatrix       7.090  0.044   7.134
annotateTopOntoOVG        6.891  0.022   6.913
runPermDisease            6.065  0.001   6.066
getRandomGraphCentrality  0.601  0.008  10.216
* checking for unstated dependencies in ‘tests’ ... OK
* checking tests ...
  Running ‘testthat.R’
 ERROR
Running the tests in ‘tests/testthat.R’ failed.
Last 13 lines of output:
  [ FAIL 1 | WARN 0 | SKIP 2 | PASS 124 ]
  
  ══ Skipped tests (2) ═══════════════════════════════════════════════════════════
  • On CRAN (2): 'test_bridgeness.R:38:5', 'test_bridgeness.R:81:5'
  
  ══ Failed tests ════════════════════════════════════════════════════════════════
  ── Failure ('test_bridgeness.R:101:5'): Norm Modularity ────────────────────────
  `nm` (`actual`) not equal to 0.009390085 (`expected`).
  
    `actual`: 0.0070
  `expected`: 0.0094
  
  [ FAIL 1 | WARN 0 | SKIP 2 | PASS 124 ]
  Error: Test failures
  Execution halted
* checking for unstated dependencies in vignettes ... OK
* checking package vignettes ... OK
* checking re-building of vignette outputs ... OK
* checking PDF version of manual ... OK
* DONE

Status: 1 ERROR, 2 NOTEs
See
  ‘/home/biocbuild/bbs-3.22-bioc/meat/BioNAR.Rcheck/00check.log’
for details.


Installation output

BioNAR.Rcheck/00install.out

##############################################################################
##############################################################################
###
### Running command:
###
###   /home/biocbuild/bbs-3.22-bioc/R/bin/R CMD INSTALL BioNAR
###
##############################################################################
##############################################################################


* installing to library ‘/home/biocbuild/bbs-3.22-bioc/R/site-library’
* installing *source* package ‘BioNAR’ ...
** this is package ‘BioNAR’ version ‘1.11.0’
** using staged installation
** R
** data
*** moving datasets to lazyload DB
** inst
** byte-compile and prepare package for lazy loading
** help
*** installing help indices
** building package indices
** installing vignettes
** testing if installed package can be loaded from temporary location
** testing if installed package can be loaded from final location
** testing if installed package keeps a record of temporary installation path
* DONE (BioNAR)

Tests output

BioNAR.Rcheck/tests/testthat.Rout.fail


R version 4.5.1 Patched (2025-08-23 r88802) -- "Great Square Root"
Copyright (C) 2025 The R Foundation for Statistical Computing
Platform: x86_64-pc-linux-gnu

R is free software and comes with ABSOLUTELY NO WARRANTY.
You are welcome to redistribute it under certain conditions.
Type 'license()' or 'licence()' for distribution details.

R is a collaborative project with many contributors.
Type 'contributors()' for more information and
'citation()' on how to cite R or R packages in publications.

Type 'demo()' for some demos, 'help()' for on-line help, or
'help.start()' for an HTML browser interface to help.
Type 'q()' to quit R.

> library(testthat)
> library(BioNAR)
Loading required package: igraph

Attaching package: 'igraph'

The following object is masked from 'package:testthat':

    compare

The following objects are masked from 'package:stats':

    decompose, spectrum

The following object is masked from 'package:base':

    union

Loading required package: poweRlaw
Loading required package: latex2exp
Loading required package: RSpectra
Loading required package: Rdpack



Attaching package: 'BioNAR'

The following object is masked from 'package:igraph':

    permute

> 
> test_check("BioNAR")
[ FAIL 1 | WARN 0 | SKIP 2 | PASS 124 ]

══ Skipped tests (2) ═══════════════════════════════════════════════════════════
• On CRAN (2): 'test_bridgeness.R:38:5', 'test_bridgeness.R:81:5'

══ Failed tests ════════════════════════════════════════════════════════════════
── Failure ('test_bridgeness.R:101:5'): Norm Modularity ────────────────────────
`nm` (`actual`) not equal to 0.009390085 (`expected`).

  `actual`: 0.0070
`expected`: 0.0094

[ FAIL 1 | WARN 0 | SKIP 2 | PASS 124 ]
Error: Test failures
Execution halted

Example timings

BioNAR.Rcheck/BioNAR-Ex.timings

nameusersystemelapsed
FitDegree0.8560.0134.661
addEdgeAtts7.6210.1007.721
annotateGOont4.3380.1564.495
annotateGeneNames0.2220.0050.227
annotateGoBP3.9480.0874.035
annotateGoCC3.1250.0053.130
annotateGoMF3.7440.0983.842
annotatePresynaptic1.4630.0201.483
annotateSCHanno4.5370.0044.541
annotateTopOntoOVG6.8910.0226.913
annotateVertex0.0040.0000.004
applpMatrixToGraph0.0020.0000.002
buildNetwork0.0030.0000.003
calcAllClustering4.6700.0144.685
calcBridgeness0.0830.0130.096
calcCentrality0.0830.0040.088
calcCentralityExternalDistances0.5250.0340.559
calcCentralityInternalDistances0.5140.0280.542
calcClustering0.0040.0000.004
calcDiseasePairs0.4730.0250.498
calcEntropy8.7920.1278.919
calcMembership0.0040.0000.006
calcReclusterMatrix0.0320.0010.033
calcSparsness3.9950.0054.001
clusterORA0.3510.0030.354
clusteringSummary11.665 0.00011.666
degreeBinnedGDAs0.2260.0010.227
escapeAnnotation000
evalCentralitySignificance0.5190.0000.518
findLCC0.0040.0000.004
getAnnotationList0.0680.0000.069
getAnnotationVertexList0.0770.0000.078
getBridgeness0.0550.0000.056
getCentralityMatrix7.0900.0447.134
getClusterSubgraphByID0.0230.0000.022
getClustering0.0210.0000.021
getCommunityGraph0.0230.0000.023
getDType000
getDYNAMO0.0340.0010.035
getDiseases000
getEntropy8.3230.1338.457
getEntropyRate0.0040.0000.004
getGNP0.0170.0000.017
getGraphCentralityECDF7.9280.0057.933
getPA0.0180.0010.019
getRandomGraphCentrality 0.601 0.00810.216
getRobustness0.4500.0040.454
layoutByCluster0.1120.0000.112
layoutByRecluster0.0980.0010.099
makeConsensusMatrix0.4440.0040.448
makeMembership0.0020.0000.002
metlMatrix0.0070.0000.007
normModularity3.5320.0133.545
permute000
plotBridgeness0.4360.0000.436
plotEntropy9.1170.0569.173
prepareGDA0.2350.0040.239
recluster0.0350.0000.035
removeVertexTerm0.0050.0000.004
runPermDisease6.0650.0016.066
sampleDegBinnedGDA0.3200.0210.341
sampleGraphClust0.0240.0010.024
unescapeAnnotation000
zeroNA000