Back to Multiple platform build/check report for BioC 3.22:   simplified   long
A[B]CDEFGHIJKLMNOPQRSTUVWXYZ

This page was generated on 2025-10-13 12:04 -0400 (Mon, 13 Oct 2025).

HostnameOSArch (*)R versionInstalled pkgs
nebbiolo2Linux (Ubuntu 24.04.3 LTS)x86_644.5.1 Patched (2025-08-23 r88802) -- "Great Square Root" 4864
lconwaymacOS 12.7.1 Montereyx86_644.5.1 Patched (2025-09-10 r88807) -- "Great Square Root" 4652
kjohnson3macOS 13.7.7 Venturaarm644.5.1 Patched (2025-09-10 r88807) -- "Great Square Root" 4597
taishanLinux (openEuler 24.03 LTS)aarch644.5.0 (2025-04-11) -- "How About a Twenty-Six" 4586
Click on any hostname to see more info about the system (e.g. compilers)      (*) as reported by 'uname -p', except on Windows and Mac OS X

Package 219/2346HostnameOS / ArchINSTALLBUILDCHECKBUILD BIN
BioNAR 1.11.0  (landing page)
Anatoly Sorokin
Snapshot Date: 2025-10-12 13:45 -0400 (Sun, 12 Oct 2025)
git_url: https://git.bioconductor.org/packages/BioNAR
git_branch: devel
git_last_commit: ac4d792
git_last_commit_date: 2025-04-15 12:58:11 -0400 (Tue, 15 Apr 2025)
nebbiolo2Linux (Ubuntu 24.04.3 LTS) / x86_64  OK    OK    OK  UNNEEDED, same version is already published
lconwaymacOS 12.7.1 Monterey / x86_64  OK    OK    OK    OK  UNNEEDED, same version is already published
kjohnson3macOS 13.7.7 Ventura / arm64  OK    OK    OK    OK  UNNEEDED, same version is already published
taishanLinux (openEuler 24.03 LTS) / aarch64  OK    OK    OK  


CHECK results for BioNAR on lconway

To the developers/maintainers of the BioNAR package:
- Allow up to 24 hours (and sometimes 48 hours) for your latest push to git@git.bioconductor.org:packages/BioNAR.git to reflect on this report. See Troubleshooting Build Report for more information.
- Use the following Renviron settings to reproduce errors and warnings.
- If 'R CMD check' started to fail recently on the Linux builder(s) over a missing dependency, add the missing dependency to 'Suggests:' in your DESCRIPTION file. See Renviron.bioc for more information.

raw results


Summary

Package: BioNAR
Version: 1.11.0
Command: /Library/Frameworks/R.framework/Resources/bin/R CMD check --install=check:BioNAR.install-out.txt --library=/Library/Frameworks/R.framework/Resources/library --no-vignettes --timings BioNAR_1.11.0.tar.gz
StartedAt: 2025-10-12 20:18:46 -0400 (Sun, 12 Oct 2025)
EndedAt: 2025-10-12 20:29:49 -0400 (Sun, 12 Oct 2025)
EllapsedTime: 663.7 seconds
RetCode: 0
Status:   OK  
CheckDir: BioNAR.Rcheck
Warnings: 0

Command output

##############################################################################
##############################################################################
###
### Running command:
###
###   /Library/Frameworks/R.framework/Resources/bin/R CMD check --install=check:BioNAR.install-out.txt --library=/Library/Frameworks/R.framework/Resources/library --no-vignettes --timings BioNAR_1.11.0.tar.gz
###
##############################################################################
##############################################################################


* using log directory ‘/Users/biocbuild/bbs-3.22-bioc/meat/BioNAR.Rcheck’
* using R version 4.5.1 Patched (2025-09-10 r88807)
* using platform: x86_64-apple-darwin20
* R was compiled by
    Apple clang version 14.0.0 (clang-1400.0.29.202)
    GNU Fortran (GCC) 14.2.0
* running under: macOS Monterey 12.7.6
* using session charset: UTF-8
* using option ‘--no-vignettes’
* checking for file ‘BioNAR/DESCRIPTION’ ... OK
* this is package ‘BioNAR’ version ‘1.11.0’
* package encoding: UTF-8
* checking package namespace information ... OK
* checking package dependencies ... OK
* checking if this is a source package ... OK
* checking if there is a namespace ... OK
* checking for hidden files and directories ... OK
* checking for portable file names ... OK
* checking for sufficient/correct file permissions ... OK
* checking whether package ‘BioNAR’ can be installed ... OK
* checking installed package size ... INFO
  installed size is  6.9Mb
  sub-directories of 1Mb or more:
    extdata   6.1Mb
* checking package directory ... OK
* checking ‘build’ directory ... OK
* checking DESCRIPTION meta-information ... OK
* checking top-level files ... OK
* checking for left-over files ... OK
* checking index information ... OK
* checking package subdirectories ... OK
* checking code files for non-ASCII characters ... OK
* checking R files for syntax errors ... OK
* checking whether the package can be loaded ... OK
* checking whether the package can be loaded with stated dependencies ... OK
* checking whether the package can be unloaded cleanly ... OK
* checking whether the namespace can be loaded with stated dependencies ... OK
* checking whether the namespace can be unloaded cleanly ... OK
* checking dependencies in R code ... NOTE
Package in Depends field not imported from: ‘Rdpack’
  These packages need to be imported from (in the NAMESPACE file)
  for when this namespace is loaded but not attached.
There are ::: calls to the package's namespace in its code. A package
  almost never needs to use ::: for its own objects:
  ‘addNoise’ ‘gofs’ ‘highlightRate’ ‘plotSigmoid’
* checking S3 generic/method consistency ... OK
* checking replacement functions ... OK
* checking foreign function calls ... OK
* checking R code for possible problems ... OK
* checking Rd files ... OK
* checking Rd metadata ... OK
* checking Rd cross-references ... NOTE
Unknown package ‘clusterCons’ in Rd xrefs
* checking for missing documentation entries ... OK
* checking for code/documentation mismatches ... OK
* checking Rd \usage sections ... OK
* checking Rd contents ... OK
* checking for unstated dependencies in examples ... OK
* checking contents of ‘data’ directory ... OK
* checking data for non-ASCII characters ... OK
* checking LazyData ... OK
* checking data for ASCII and uncompressed saves ... OK
* checking files in ‘vignettes’ ... OK
* checking examples ... OK
Examples with CPU (user + system) or elapsed time > 5s
                           user system elapsed
addEdgeAtts              10.565  3.486  16.986
plotEntropy              11.991  1.149  13.460
clusteringSummary        11.607  0.977  13.441
getEntropy               10.845  0.991  11.976
getGraphCentralityECDF    9.784  0.837  10.748
getCentralityMatrix       8.573  1.325  10.352
calcEntropy               7.719  1.268   9.064
annotateTopOntoOVG        7.961  1.012  10.881
annotateGOont             5.703  1.637   9.122
annotateSCHanno           5.989  0.729   7.738
runPermDisease            6.337  0.277   6.745
normModularity            5.310  0.815   6.223
annotateGoBP              4.753  0.672   6.029
annotateGoMF              4.191  0.451   5.288
FitDegree                 1.005  0.054   7.732
getRandomGraphCentrality  0.619  0.029  13.394
* checking for unstated dependencies in ‘tests’ ... OK
* checking tests ...
  Running ‘testthat.R’
 OK
* checking for unstated dependencies in vignettes ... OK
* checking package vignettes ... OK
* checking running R code from vignettes ... SKIPPED
* checking re-building of vignette outputs ... SKIPPED
* checking PDF version of manual ... OK
* DONE

Status: 2 NOTEs
See
  ‘/Users/biocbuild/bbs-3.22-bioc/meat/BioNAR.Rcheck/00check.log’
for details.


Installation output

BioNAR.Rcheck/00install.out

##############################################################################
##############################################################################
###
### Running command:
###
###   /Library/Frameworks/R.framework/Resources/bin/R CMD INSTALL BioNAR
###
##############################################################################
##############################################################################


* installing to library ‘/Library/Frameworks/R.framework/Versions/4.5-x86_64/Resources/library’
* installing *source* package ‘BioNAR’ ...
** this is package ‘BioNAR’ version ‘1.11.0’
** using staged installation
** R
** data
*** moving datasets to lazyload DB
** inst
** byte-compile and prepare package for lazy loading
** help
*** installing help indices
** building package indices
** installing vignettes
** testing if installed package can be loaded from temporary location
** testing if installed package can be loaded from final location
** testing if installed package keeps a record of temporary installation path
* DONE (BioNAR)

Tests output

BioNAR.Rcheck/tests/testthat.Rout


R version 4.5.1 Patched (2025-09-10 r88807) -- "Great Square Root"
Copyright (C) 2025 The R Foundation for Statistical Computing
Platform: x86_64-apple-darwin20

R is free software and comes with ABSOLUTELY NO WARRANTY.
You are welcome to redistribute it under certain conditions.
Type 'license()' or 'licence()' for distribution details.

R is a collaborative project with many contributors.
Type 'contributors()' for more information and
'citation()' on how to cite R or R packages in publications.

Type 'demo()' for some demos, 'help()' for on-line help, or
'help.start()' for an HTML browser interface to help.
Type 'q()' to quit R.

> library(testthat)
> library(BioNAR)
Loading required package: igraph

Attaching package: 'igraph'

The following object is masked from 'package:testthat':

    compare

The following objects are masked from 'package:stats':

    decompose, spectrum

The following object is masked from 'package:base':

    union

Loading required package: poweRlaw
Loading required package: latex2exp
Loading required package: RSpectra
Loading required package: Rdpack



Attaching package: 'BioNAR'

The following object is masked from 'package:igraph':

    permute

> 
> test_check("BioNAR")
[ FAIL 0 | WARN 0 | SKIP 2 | PASS 125 ]

══ Skipped tests (2) ═══════════════════════════════════════════════════════════
• On CRAN (2): 'test_bridgeness.R:38:5', 'test_bridgeness.R:81:5'

[ FAIL 0 | WARN 0 | SKIP 2 | PASS 125 ]
> 
> proc.time()
   user  system elapsed 
 42.681   3.151  62.027 

Example timings

BioNAR.Rcheck/BioNAR-Ex.timings

nameusersystemelapsed
FitDegree1.0050.0547.732
addEdgeAtts10.565 3.48616.986
annotateGOont5.7031.6379.122
annotateGeneNames0.2710.0140.313
annotateGoBP4.7530.6726.029
annotateGoCC3.5850.4964.617
annotateGoMF4.1910.4515.288
annotatePresynaptic1.5900.1851.858
annotateSCHanno5.9890.7297.738
annotateTopOntoOVG 7.961 1.01210.881
annotateVertex0.0030.0000.004
applpMatrixToGraph0.0020.0010.004
buildNetwork0.0040.0010.004
calcAllClustering2.9790.2354.885
calcBridgeness0.0810.0150.103
calcCentrality0.1070.0230.176
calcCentralityExternalDistances0.5320.0890.668
calcCentralityInternalDistances0.5840.0800.707
calcClustering0.0040.0010.005
calcDiseasePairs0.5000.0820.912
calcEntropy7.7191.2689.064
calcMembership0.0060.0020.008
calcReclusterMatrix0.0290.0040.041
calcSparsness4.0420.8594.992
clusterORA0.4250.0940.621
clusteringSummary11.607 0.97713.441
degreeBinnedGDAs0.3010.0850.414
escapeAnnotation0.0030.0050.008
evalCentralitySignificance0.4430.0500.515
findLCC0.0060.0040.012
getAnnotationList0.0790.0150.099
getAnnotationVertexList0.0610.0110.072
getBridgeness0.0530.0080.063
getCentralityMatrix 8.573 1.32510.352
getClusterSubgraphByID0.0200.0010.021
getClustering0.0220.0010.023
getCommunityGraph0.0240.0010.024
getDType0.0000.0000.001
getDYNAMO0.0380.0020.040
getDiseases0.0000.0000.001
getEntropy10.845 0.99111.976
getEntropyRate0.0050.0010.006
getGNP0.0250.0020.026
getGraphCentralityECDF 9.784 0.83710.748
getPA0.0220.0010.023
getRandomGraphCentrality 0.619 0.02913.394
getRobustness0.6110.0440.662
layoutByCluster0.1240.0030.139
layoutByRecluster0.1060.0030.110
makeConsensusMatrix0.6180.0440.668
makeMembership0.0020.0010.004
metlMatrix0.0100.0020.012
normModularity5.3100.8156.223
permute000
plotBridgeness0.5080.0130.557
plotEntropy11.991 1.14913.460
prepareGDA0.2810.0110.295
recluster0.0670.0180.094
removeVertexTerm0.0040.0020.007
runPermDisease6.3370.2776.745
sampleDegBinnedGDA0.3790.0180.400
sampleGraphClust0.0280.0020.030
unescapeAnnotation0.0010.0000.001
zeroNA0.0000.0000.001