| Back to Workflows build report for BioC 3.9 |
This page was generated on 2019-01-30 16:00:21 -0500 (Wed, 30 Jan 2019).
| Package 7/23 | Hostname | OS / Arch | INSTALL | BUILD | ||||||
| eQTL 1.7.0 Vincent Carey
| malbec2 | Linux (Ubuntu 18.04.1 LTS) / x86_64 | OK | OK | ||||||
| tokay2 | Windows Server 2012 R2 Standard / x64 | [ OK ] | OK |
| Package: eQTL |
| Version: 1.7.0 |
| Command: C:\cygwin\bin\curl.exe -O https://malbec2.bioconductor.org/BBS/3.9/workflows/src/contrib/eQTL_1.7.0.tar.gz && rm -rf eQTL.buildbin-libdir && mkdir eQTL.buildbin-libdir && C:\Users\biocbuild\bbs-3.9-bioc\R\bin\R.exe CMD INSTALL --merge-multiarch --build --library=eQTL.buildbin-libdir eQTL_1.7.0.tar.gz && C:\Users\biocbuild\bbs-3.9-bioc\R\bin\R.exe CMD INSTALL eQTL_1.7.0.zip && rm eQTL_1.7.0.tar.gz eQTL_1.7.0.zip |
| StartedAt: 2019-01-30 09:35:37 -0500 (Wed, 30 Jan 2019) |
| EndedAt: 2019-01-30 09:37:50 -0500 (Wed, 30 Jan 2019) |
| EllapsedTime: 133.8 seconds |
| RetCode: 0 |
| Status: OK |
##############################################################################
##############################################################################
###
### Running command:
###
### C:\cygwin\bin\curl.exe -O https://malbec2.bioconductor.org/BBS/3.9/workflows/src/contrib/eQTL_1.7.0.tar.gz && rm -rf eQTL.buildbin-libdir && mkdir eQTL.buildbin-libdir && C:\Users\biocbuild\bbs-3.9-bioc\R\bin\R.exe CMD INSTALL --merge-multiarch --build --library=eQTL.buildbin-libdir eQTL_1.7.0.tar.gz && C:\Users\biocbuild\bbs-3.9-bioc\R\bin\R.exe CMD INSTALL eQTL_1.7.0.zip && rm eQTL_1.7.0.tar.gz eQTL_1.7.0.zip
###
##############################################################################
##############################################################################
% Total % Received % Xferd Average Speed Time Time Time Current
Dload Upload Total Spent Left Speed
0 0 0 0 0 0 0 0 --:--:-- --:--:-- --:--:-- 0
0 0 0 0 0 0 0 0 --:--:-- --:--:-- --:--:-- 0
19 57.4M 19 11.3M 0 0 9.9M 0 0:00:05 0:00:01 0:00:04 9.9M
71 57.4M 71 41.2M 0 0 19.4M 0 0:00:02 0:00:02 --:--:-- 19.5M
100 57.4M 100 57.4M 0 0 22.9M 0 0:00:02 0:00:02 --:--:-- 22.9M
install for i386
* installing *source* package 'eQTL' ...
** data
*** moving datasets to lazyload DB
** help
No man pages found in package 'eQTL'
*** installing help indices
** building package indices
** installing vignettes
** testing if installed package can be loaded
Warning: replacing previous import 'DelayedMatrixStats::rowsum' by 'DelayedArray::rowsum' when loading 'minfi'
Warning: replacing previous import 'DelayedMatrixStats::colsum' by 'DelayedArray::colsum' when loading 'minfi'
install for x64
* installing *source* package 'eQTL' ...
** testing if installed package can be loaded
Warning: replacing previous import 'DelayedMatrixStats::colsum' by 'DelayedArray::colsum' when loading 'minfi'
Warning: replacing previous import 'DelayedMatrixStats::rowsum' by 'DelayedArray::rowsum' when loading 'minfi'
* MD5 sums
packaged installation of 'eQTL' as eQTL_1.7.0.zip
* DONE (eQTL)
* installing to library 'C:/Users/biocbuild/bbs-3.9-bioc/R/library'
package 'eQTL' successfully unpacked and MD5 sums checked