| Back to Workflows build report for BioC 3.9 |
This page was generated on 2019-10-16 13:50:15 -0400 (Wed, 16 Oct 2019).
| Package 10/27 | Hostname | OS / Arch | INSTALL | BUILD | ||||||
| eQTL 1.8.0 Vincent Carey
| malbec2 | Linux (Ubuntu 18.04.2 LTS) / x86_64 | OK | [ OK ] |
| Package: eQTL |
| Version: 1.8.0 |
| Command: /home/biocbuild/bbs-3.9-bioc/R/bin/R CMD build --keep-empty-dirs --no-resave-data eQTL |
| StartedAt: 2019-10-16 11:56:59 -0400 (Wed, 16 Oct 2019) |
| EndedAt: 2019-10-16 12:01:52 -0400 (Wed, 16 Oct 2019) |
| EllapsedTime: 293.2 seconds |
| RetCode: 0 |
| Status: OK |
| PackageFile: eQTL_1.8.0.tar.gz |
| PackageFileSize: 57.83 MiB |
############################################################################## ############################################################################## ### ### Running command: ### ### /home/biocbuild/bbs-3.9-bioc/R/bin/R CMD build --keep-empty-dirs --no-resave-data eQTL ### ############################################################################## ############################################################################## * checking for file ‘eQTL/DESCRIPTION’ ... OK * preparing ‘eQTL’: * checking DESCRIPTION meta-information ... OK * installing the package to build vignettes * creating vignettes ... OK * checking for LF line-endings in source and make files and shell scripts * checking for empty or unneeded directories * looking to see if a ‘data/datalist’ file should be added * creating default NAMESPACE file * building ‘eQTL_1.8.0.tar.gz’