This page was generated on 2019-10-16 13:50:16 -0400 (Wed, 16 Oct 2019).
| malbec2 |
Linux (Ubuntu 18.04.2 LTS) / x86_64 | | | |
|
| annotation 1.8.1 | Bioconductor Package Maintainer | OK | OK |  |
| arrays 1.10.0 | Bioconductor Package Maintainer | OK | OK |  |
| BgeeCall 1.0.1 | Julien Wollbrett | OK | OK |  |
| BiocMetaWorkflow 1.6.0 | Mike Smith | OK | OK |  |
| CAGEWorkflow 1.0.0 | Malte Thodberg | OK | OK |  |
| chipseqDB 1.8.0 | Aaron Lun | OK | ERROR | |
| csawUsersGuide 1.0.0 | Aaron Lun | OK | OK |  |
| cytofWorkflow 1.8.6 | Mark D. Robinson | OK | OK |  |
| EGSEA123 1.8.0 | Matthew Ritchie | OK | OK |  |
| eQTL 1.8.0 | Vincent Carey | OK | OK |  |
| ExpressionNormalizationWorkflow 1.10.0 | Karthikeyan Murugesan | OK | OK |  |
| generegulation 1.8.0 | Bioconductor Package Maintainer | OK | OK |  |
| highthroughputassays 1.8.0 | Bioconductor Package Maintainer | OK | OK |  |
| liftOver 1.8.0 | Bioconductor Package Maintainer | OK | OK |  |
| maEndToEnd 2.4.0 | Bernd Klaus | OK | OK |  |
| methylationArrayAnalysis 1.8.1 | Jovana Maksimovic | OK | OK |  |
| proteomics 1.8.0 | Laurent Gatto | OK | OK |  |
| recountWorkflow 1.8.1 | Leonardo Collado-Torres | OK | OK |  |
| RNAseq123 1.8.0 | Matthew Ritchie | OK | OK |  |
| rnaseqDTU 1.4.0 | Michael Love | OK | OK |  |
| rnaseqGene 1.8.0 | Michael Love | OK | OK |  |
| RnaSeqGeneEdgeRQL 1.8.0 | Yunshun Chen | OK | OK |  |
| sequencing 1.8.0 | Bioconductor Package Maintainer | OK | OK |  |
| simpleSingleCell 1.8.0 | Aaron Lun | OK | ERROR | |
| SingscoreAMLMutations 1.0.1 | Dharmesh D. Bhuva | OK | OK |  |
| TCGAWorkflow 1.8.1 | Tiago Chedraoui Silva | OK | OK |  |
| variants 1.8.0 | Bioconductor Package Maintainer | OK | OK |  |